BEGIN:VCALENDAR
VERSION:2.0
PRODID:-//River Arts Alliance - ECPv6.15.20//NONSGML v1.0//EN
CALSCALE:GREGORIAN
METHOD:PUBLISH
X-WR-CALNAME:River Arts Alliance
X-ORIGINAL-URL:https://riverartsalliance.org
X-WR-CALDESC:Events for River Arts Alliance
REFRESH-INTERVAL;VALUE=DURATION:PT1H
X-Robots-Tag:noindex
X-PUBLISHED-TTL:PT1H
BEGIN:VTIMEZONE
TZID:America/Chicago
BEGIN:DAYLIGHT
TZOFFSETFROM:-0600
TZOFFSETTO:-0500
TZNAME:CDT
DTSTART:20230312T080000
END:DAYLIGHT
BEGIN:STANDARD
TZOFFSETFROM:-0500
TZOFFSETTO:-0600
TZNAME:CST
DTSTART:20231105T070000
END:STANDARD
BEGIN:DAYLIGHT
TZOFFSETFROM:-0600
TZOFFSETTO:-0500
TZNAME:CDT
DTSTART:20240310T080000
END:DAYLIGHT
BEGIN:STANDARD
TZOFFSETFROM:-0500
TZOFFSETTO:-0600
TZNAME:CST
DTSTART:20241103T070000
END:STANDARD
BEGIN:DAYLIGHT
TZOFFSETFROM:-0600
TZOFFSETTO:-0500
TZNAME:CDT
DTSTART:20250309T080000
END:DAYLIGHT
BEGIN:STANDARD
TZOFFSETFROM:-0500
TZOFFSETTO:-0600
TZNAME:CST
DTSTART:20251102T070000
END:STANDARD
END:VTIMEZONE
BEGIN:VEVENT
DTSTART;TZID=America/Chicago:20240927T190000
DTEND;TZID=America/Chicago:20240927T210000
DTSTAMP:20260419T171050
CREATED:20240930T162208Z
LAST-MODIFIED:20240930T162208Z
UID:10000420-1727463600-1727470800@riverartsalliance.org
SUMMARY:Autumn Unwind with H3O Jazz Trio
DESCRIPTION:Peter’s Biergarten | 54 E 3rd St.\nH3OJazz.com \nAs the leaves begin to turn\, enjoy an early autumn evening with H3O Jazz Trio for their next Unwind Friday – September 27 from 7 to 9 pm in Peter’s Biergarten. Unwind Friday offers mellow jazz to end the week\, meet with friends\, and enjoy a relaxing evening under the stars. Delicious food and desserts are available from Blooming Grounds and the biergarten has a wide variety of beers … all with no cover charge! In case of rain\, the music will move inside Blooming Grounds. Unwind Friday with H3O is scheduled on the last Friday of the month throughout the year. Learn more.
URL:https://riverartsalliance.org/event/autumn-unwind-with-h3o-jazz-trio/
LOCATION:Peter’s Biergarten\, 54 E 3rd St.\, Winona\, MN\, 55987\, United States
END:VEVENT
END:VCALENDAR