BEGIN:VCALENDAR
VERSION:2.0
PRODID:-//River Arts Alliance - ECPv6.15.20//NONSGML v1.0//EN
CALSCALE:GREGORIAN
METHOD:PUBLISH
X-WR-CALNAME:River Arts Alliance
X-ORIGINAL-URL:https://riverartsalliance.org
X-WR-CALDESC:Events for River Arts Alliance
REFRESH-INTERVAL;VALUE=DURATION:PT1H
X-Robots-Tag:noindex
X-PUBLISHED-TTL:PT1H
BEGIN:VTIMEZONE
TZID:America/Chicago
BEGIN:DAYLIGHT
TZOFFSETFROM:-0600
TZOFFSETTO:-0500
TZNAME:CDT
DTSTART:20230312T080000
END:DAYLIGHT
BEGIN:STANDARD
TZOFFSETFROM:-0500
TZOFFSETTO:-0600
TZNAME:CST
DTSTART:20231105T070000
END:STANDARD
BEGIN:DAYLIGHT
TZOFFSETFROM:-0600
TZOFFSETTO:-0500
TZNAME:CDT
DTSTART:20240310T080000
END:DAYLIGHT
BEGIN:STANDARD
TZOFFSETFROM:-0500
TZOFFSETTO:-0600
TZNAME:CST
DTSTART:20241103T070000
END:STANDARD
BEGIN:DAYLIGHT
TZOFFSETFROM:-0600
TZOFFSETTO:-0500
TZNAME:CDT
DTSTART:20250309T080000
END:DAYLIGHT
BEGIN:STANDARD
TZOFFSETFROM:-0500
TZOFFSETTO:-0600
TZNAME:CST
DTSTART:20251102T070000
END:STANDARD
END:VTIMEZONE
BEGIN:VEVENT
DTSTART;TZID=America/Chicago:20241004T170000
DTEND;TZID=America/Chicago:20241004T190000
DTSTAMP:20260419T152702
CREATED:20240930T230741Z
LAST-MODIFIED:20240930T230741Z
UID:10000425-1728061200-1728068400@riverartsalliance.org
SUMMARY:Opening Reception - Jean Lukens Art Show at the Blue Heron
DESCRIPTION:Blue Heron Coffeehouse | 162 W 2nd St.\nblueheroncoffeehouse.com \nThe next art show at the Blue Heron Coffeehouse will feature paintings by Wisconsin artist Jean Lukens. An opening reception will be held on Friday\, October 4\, from 6-8 pm\, with light refreshments provided. Jean says\, “I am a contemporary watercolor artist. I have a passion for creating a non-traditional type of watercolor painting. I merge the organic medium of watercolor with the linear ink line. Harmony and balance of color and line inspire my work. Enjoying the thought process of creating an image and actually putting brush to paper keeps me inspired.”
URL:https://riverartsalliance.org/event/opening-reception-jean-lukens-art-show-at-the-blue-heron/
LOCATION:Blue Heron Coffeehouse\, 162 W 2nd St\, Winona\, MN\, 55987\, United States
END:VEVENT
BEGIN:VEVENT
DTSTART;TZID=America/Chicago:20241004T190000
DTEND;TZID=America/Chicago:20241004T190000
DTSTAMP:20260419T152702
CREATED:20240930T232338Z
LAST-MODIFIED:20240930T232338Z
UID:10001248-1728068400-1728068400@riverartsalliance.org
SUMMARY:WAC Film Elling
DESCRIPTION:Winona Arts Center | 228 E 5th St.\nwinonaarts.org \nThe Winona Arts Center will host the screening of Elling on October 4th at 7:00 pm. Cost is $5. The gallery opens at 6:00 for viewing of our current artist exhibit of the Winona Arts Center Figure Drawing Group. Based on the best-selling Norwegian novel by Ingvar Ambjørnsen\, Elling is a slyly funny odd couple comedy about two misfits trying to find their place in the world. Learn more.
URL:https://riverartsalliance.org/event/wac-film-elling/
LOCATION:Winona Arts Center\, 228 E 5th St.\, Winona\, MN\, 55987\, United States
END:VEVENT
END:VCALENDAR