BEGIN:VCALENDAR
VERSION:2.0
PRODID:-//River Arts Alliance - ECPv6.15.20//NONSGML v1.0//EN
CALSCALE:GREGORIAN
METHOD:PUBLISH
X-ORIGINAL-URL:https://riverartsalliance.org
X-WR-CALDESC:Events for River Arts Alliance
REFRESH-INTERVAL;VALUE=DURATION:PT1H
X-Robots-Tag:noindex
X-PUBLISHED-TTL:PT1H
BEGIN:VTIMEZONE
TZID:America/Chicago
BEGIN:DAYLIGHT
TZOFFSETFROM:-0600
TZOFFSETTO:-0500
TZNAME:CDT
DTSTART:20230312T080000
END:DAYLIGHT
BEGIN:STANDARD
TZOFFSETFROM:-0500
TZOFFSETTO:-0600
TZNAME:CST
DTSTART:20231105T070000
END:STANDARD
BEGIN:DAYLIGHT
TZOFFSETFROM:-0600
TZOFFSETTO:-0500
TZNAME:CDT
DTSTART:20240310T080000
END:DAYLIGHT
BEGIN:STANDARD
TZOFFSETFROM:-0500
TZOFFSETTO:-0600
TZNAME:CST
DTSTART:20241103T070000
END:STANDARD
BEGIN:DAYLIGHT
TZOFFSETFROM:-0600
TZOFFSETTO:-0500
TZNAME:CDT
DTSTART:20250309T080000
END:DAYLIGHT
BEGIN:STANDARD
TZOFFSETFROM:-0500
TZOFFSETTO:-0600
TZNAME:CST
DTSTART:20251102T070000
END:STANDARD
END:VTIMEZONE
BEGIN:VEVENT
DTSTART;TZID=America/Chicago:20241006T140000
DTEND;TZID=America/Chicago:20241006T160000
DTSTAMP:20260419T152918
CREATED:20241001T154350Z
LAST-MODIFIED:20241001T154350Z
UID:10001250-1728223200-1728230400@riverartsalliance.org
SUMMARY:Sweet Sounds with H3O Jazz Trio
DESCRIPTION:Faith Lutheran Church | 1717 W Service Dr.\nH3OJazz.com \nCalling all lovers of homemade treats and jazz! On Sunday\, October 6\, H3O Jazz Trio will present the fourth annual “Sweet Sounds” – a concert benefitting the Lutheran Campus Center in Winona. The event runs from 2 to 4 pm and will feature the jazz trio along with some special guests and a delicious variety of homemade treats! The concert will be held outside\, weather permitting\, at Faith Lutheran Church\, 1717 W. Service Dr.\, Winona\, and move inside if the weather is unfavorable. There is no fee to enjoy this fun afternoon and the event is open to all with donations gratefully accepted. Learn more.
URL:https://riverartsalliance.org/event/sweet-sounds-with-h3o-jazz-trio/
LOCATION:Faith Lutheran Church\, 1717 W Service Dr.\, Winona\, MN\, 55987\, United States
END:VEVENT
BEGIN:VEVENT
DTSTART;TZID=America/Chicago:20241006T170000
DTEND;TZID=America/Chicago:20241006T190000
DTSTAMP:20260419T152918
CREATED:20241001T221951Z
LAST-MODIFIED:20241001T221951Z
UID:10001251-1728234000-1728241200@riverartsalliance.org
SUMMARY:Gate City Dixieland Band at the Black Horse
DESCRIPTION:Black Horse Bar & Grill | 34648 Old Homer Rd. | Winona \nSunday\, October 6\, the Gate City Dixieland Band will again play at the Black Horse on Highway 61 South from 5-7 pm for your listening and toe tapping pleasure. Come enjoy some happy music and delectable dishes. There is only one more appearance of the band there this year\, the first weekend of November. Think about coming now while the weather and driving are pleasant. We’ll enjoy seeing you and playing for you.
URL:https://riverartsalliance.org/event/gate-city-dixieland-band-at-the-black-horse/
LOCATION:Black Horse Bar & Grill\, 34648 Old Homer Rd.\, Winona\, MN\, 55987\, United States
END:VEVENT
END:VCALENDAR