BEGIN:VCALENDAR
VERSION:2.0
PRODID:-//River Arts Alliance - ECPv6.15.20//NONSGML v1.0//EN
CALSCALE:GREGORIAN
METHOD:PUBLISH
X-WR-CALNAME:River Arts Alliance
X-ORIGINAL-URL:https://riverartsalliance.org
X-WR-CALDESC:Events for River Arts Alliance
REFRESH-INTERVAL;VALUE=DURATION:PT1H
X-Robots-Tag:noindex
X-PUBLISHED-TTL:PT1H
BEGIN:VTIMEZONE
TZID:America/Chicago
BEGIN:DAYLIGHT
TZOFFSETFROM:-0600
TZOFFSETTO:-0500
TZNAME:CDT
DTSTART:20230312T080000
END:DAYLIGHT
BEGIN:STANDARD
TZOFFSETFROM:-0500
TZOFFSETTO:-0600
TZNAME:CST
DTSTART:20231105T070000
END:STANDARD
BEGIN:DAYLIGHT
TZOFFSETFROM:-0600
TZOFFSETTO:-0500
TZNAME:CDT
DTSTART:20240310T080000
END:DAYLIGHT
BEGIN:STANDARD
TZOFFSETFROM:-0500
TZOFFSETTO:-0600
TZNAME:CST
DTSTART:20241103T070000
END:STANDARD
BEGIN:DAYLIGHT
TZOFFSETFROM:-0600
TZOFFSETTO:-0500
TZNAME:CDT
DTSTART:20250309T080000
END:DAYLIGHT
BEGIN:STANDARD
TZOFFSETFROM:-0500
TZOFFSETTO:-0600
TZNAME:CST
DTSTART:20251102T070000
END:STANDARD
END:VTIMEZONE
BEGIN:VEVENT
DTSTART;TZID=America/Chicago:20241016T120000
DTEND;TZID=America/Chicago:20241016T130000
DTSTAMP:20260419T152805
CREATED:20241017T183726Z
LAST-MODIFIED:20241017T183726Z
UID:10001252-1729080000-1729083600@riverartsalliance.org
SUMMARY:Hendrickson Organ Recital October 16 at Central Lutheran
DESCRIPTION:Central Lutheran Church | 259 W Wabasha St.\nsites.google.com/centrallutheranchurch.org/hendrickson-30th \nCentral Lutheran’s year-long celebration of their magnificent Hendrickson Pipe Organ continues Wednesday\, October 16 from noon to 1 pm with a performance by organist John Stender – Organist and Music Director at First Presbyterian Church in Rochester\, MN. Featured composers include Paul Manz\, Max Reger\, Jehan Alain\, Libby Larsen\, J.S. Bach and others. The recital is free and open to all. Donations collected from a freewill offering will support the instrument’s upcoming renovation. Learn more.
URL:https://riverartsalliance.org/event/hendrickson-organ-recital-october-16-at-central-lutheran/
LOCATION:Central Lutheran Church\, 259 W Wabasha St.\, Winona\, MN\, 55987\, United States
END:VEVENT
END:VCALENDAR