BEGIN:VCALENDAR
VERSION:2.0
PRODID:-//River Arts Alliance - ECPv6.15.20//NONSGML v1.0//EN
CALSCALE:GREGORIAN
METHOD:PUBLISH
X-WR-CALNAME:River Arts Alliance
X-ORIGINAL-URL:https://riverartsalliance.org
X-WR-CALDESC:Events for River Arts Alliance
REFRESH-INTERVAL;VALUE=DURATION:PT1H
X-Robots-Tag:noindex
X-PUBLISHED-TTL:PT1H
BEGIN:VTIMEZONE
TZID:America/Chicago
BEGIN:DAYLIGHT
TZOFFSETFROM:-0600
TZOFFSETTO:-0500
TZNAME:CDT
DTSTART:20230312T080000
END:DAYLIGHT
BEGIN:STANDARD
TZOFFSETFROM:-0500
TZOFFSETTO:-0600
TZNAME:CST
DTSTART:20231105T070000
END:STANDARD
BEGIN:DAYLIGHT
TZOFFSETFROM:-0600
TZOFFSETTO:-0500
TZNAME:CDT
DTSTART:20240310T080000
END:DAYLIGHT
BEGIN:STANDARD
TZOFFSETFROM:-0500
TZOFFSETTO:-0600
TZNAME:CST
DTSTART:20241103T070000
END:STANDARD
BEGIN:DAYLIGHT
TZOFFSETFROM:-0600
TZOFFSETTO:-0500
TZNAME:CDT
DTSTART:20250309T080000
END:DAYLIGHT
BEGIN:STANDARD
TZOFFSETFROM:-0500
TZOFFSETTO:-0600
TZNAME:CST
DTSTART:20251102T070000
END:STANDARD
END:VTIMEZONE
BEGIN:VEVENT
DTSTART;TZID=America/Chicago:20241019T100000
DTEND;TZID=America/Chicago:20241019T140000
DTSTAMP:20260419T152804
CREATED:20241017T193144Z
LAST-MODIFIED:20241017T193144Z
UID:10001253-1729332000-1729346400@riverartsalliance.org
SUMMARY:Ukrainian Egg Decorating Class at WAC
DESCRIPTION:Winona Arts Center | 228 E 5th St.\nwinonaarts.org \nThe Winona Arts Center will host a Ukrainian Egg Decorating Class by Jane Bangsberg on Saturday\, October 19 from 10:00 am – 2:00 pm. We will create beautiful heirloom eggs using a wax resist method very similar to batik. Each participant will leave the class with finished eggs and all of the supplies needed to decorate eggs at home. Class fee is $55 for WAC members and $60 for non-members. Reserve your spot and register today! Contact Jen at jsbenson50@gmail.com. Learn more.
URL:https://riverartsalliance.org/event/ukrainian-egg-decorating-class-at-wac-2/
LOCATION:Winona Arts Center\, 228 E 5th St.\, Winona\, MN\, 55987\, United States
END:VEVENT
BEGIN:VEVENT
DTSTART;TZID=America/Chicago:20241019T170000
DTEND;TZID=America/Chicago:20241019T210000
DTSTAMP:20260419T152804
CREATED:20241022T200810Z
LAST-MODIFIED:20241022T200810Z
UID:10001254-1729357200-1729371600@riverartsalliance.org
SUMMARY:LOSST Presents: Long Tones on Latsch Island
DESCRIPTION:Latsch Island Beach | Winona\nlos.st/longtones/ \nLOSST (Letters On Sounds\, Signals\, Time) presents a listening event featuring music from Moon in a Field of Clover (Wisconsin / guitar spectralism)\, Woolen Lover (Winona / songs on the beach)\, Benjamin J Mansavage Klein (Minneapolis / solo tuba)\, The Driftless Area Long Tone Society (Winona / long tones on the beach) and tiny paintings by Paul Karner. This is a free all-ages event! Learn more.
URL:https://riverartsalliance.org/event/losst-presents-long-tones-on-latsch-island/
LOCATION:MN
END:VEVENT
END:VCALENDAR