BEGIN:VCALENDAR
VERSION:2.0
PRODID:-//River Arts Alliance - ECPv6.15.20//NONSGML v1.0//EN
CALSCALE:GREGORIAN
METHOD:PUBLISH
X-ORIGINAL-URL:https://riverartsalliance.org
X-WR-CALDESC:Events for River Arts Alliance
REFRESH-INTERVAL;VALUE=DURATION:PT1H
X-Robots-Tag:noindex
X-PUBLISHED-TTL:PT1H
BEGIN:VTIMEZONE
TZID:America/Chicago
BEGIN:DAYLIGHT
TZOFFSETFROM:-0600
TZOFFSETTO:-0500
TZNAME:CDT
DTSTART:20230312T080000
END:DAYLIGHT
BEGIN:STANDARD
TZOFFSETFROM:-0500
TZOFFSETTO:-0600
TZNAME:CST
DTSTART:20231105T070000
END:STANDARD
BEGIN:DAYLIGHT
TZOFFSETFROM:-0600
TZOFFSETTO:-0500
TZNAME:CDT
DTSTART:20240310T080000
END:DAYLIGHT
BEGIN:STANDARD
TZOFFSETFROM:-0500
TZOFFSETTO:-0600
TZNAME:CST
DTSTART:20241103T070000
END:STANDARD
BEGIN:DAYLIGHT
TZOFFSETFROM:-0600
TZOFFSETTO:-0500
TZNAME:CDT
DTSTART:20250309T080000
END:DAYLIGHT
BEGIN:STANDARD
TZOFFSETFROM:-0500
TZOFFSETTO:-0600
TZNAME:CST
DTSTART:20251102T070000
END:STANDARD
END:VTIMEZONE
BEGIN:VEVENT
DTSTART;TZID=America/Chicago:20241020T143000
DTEND;TZID=America/Chicago:20241020T173000
DTSTAMP:20260419T152933
CREATED:20241022T201544Z
LAST-MODIFIED:20241022T201544Z
UID:10001255-1729434600-1729445400@riverartsalliance.org
SUMMARY:October Jazz Jam Welcomes Sandbar Storytelling Festival
DESCRIPTION:Two Fathoms Brewing | 65 E Front St.\nH3OJazz.com \nOn Sunday\, October 20\, H3O Jazz Trio and Two Fathoms Brewing Company will dedicate their monthly Jazz Jam fundraiser to the 2024 Sandbar Storytelling Festival. Jazz Jams take place outside on Two Fathoms’ spacious patio or in the taproom if weather is bad. \nThe mission of the Sandbar Storytelling Festival is to present storytelling performances which celebrate and preserve the power and pleasure of our varied cultural traditions and human experiences and to promote the art of storytelling for all ages. The three-day storytelling event\, which took place earlier in October\, provides exciting performances and compelling chronicles amidst the breathtaking beauty of Winona. H3O Jazz Trio and Two Fathoms Brewing (formerly Island City) have helped support local nonprofits with over $52\,000 in total donations thanks to the generosity of Jazz Jam patrons! Learn more.
URL:https://riverartsalliance.org/event/october-jazz-jam-welcomes-sandbar-storytelling-festival/
LOCATION:Two Fathoms Brewing\, 65 E Front St.\, Winona\, MN\, 55987\, United States
END:VEVENT
END:VCALENDAR