BEGIN:VCALENDAR
VERSION:2.0
PRODID:-//River Arts Alliance - ECPv6.15.20//NONSGML v1.0//EN
CALSCALE:GREGORIAN
METHOD:PUBLISH
X-WR-CALNAME:River Arts Alliance
X-ORIGINAL-URL:https://riverartsalliance.org
X-WR-CALDESC:Events for River Arts Alliance
REFRESH-INTERVAL;VALUE=DURATION:PT1H
X-Robots-Tag:noindex
X-PUBLISHED-TTL:PT1H
BEGIN:VTIMEZONE
TZID:America/Chicago
BEGIN:DAYLIGHT
TZOFFSETFROM:-0600
TZOFFSETTO:-0500
TZNAME:CDT
DTSTART:20230312T080000
END:DAYLIGHT
BEGIN:STANDARD
TZOFFSETFROM:-0500
TZOFFSETTO:-0600
TZNAME:CST
DTSTART:20231105T070000
END:STANDARD
BEGIN:DAYLIGHT
TZOFFSETFROM:-0600
TZOFFSETTO:-0500
TZNAME:CDT
DTSTART:20240310T080000
END:DAYLIGHT
BEGIN:STANDARD
TZOFFSETFROM:-0500
TZOFFSETTO:-0600
TZNAME:CST
DTSTART:20241103T070000
END:STANDARD
BEGIN:DAYLIGHT
TZOFFSETFROM:-0600
TZOFFSETTO:-0500
TZNAME:CDT
DTSTART:20250309T080000
END:DAYLIGHT
BEGIN:STANDARD
TZOFFSETFROM:-0500
TZOFFSETTO:-0600
TZNAME:CST
DTSTART:20251102T070000
END:STANDARD
END:VTIMEZONE
BEGIN:VEVENT
DTSTART;TZID=America/Chicago:20241025T120000
DTEND;TZID=America/Chicago:20241025T133000
DTSTAMP:20260419T152804
CREATED:20241023T173135Z
LAST-MODIFIED:20241023T173135Z
UID:10001256-1729857600-1729863000@riverartsalliance.org
SUMMARY:McKnight Fellowships Info Session October 25 in Lanesboro
DESCRIPTION:The McKnight Artist & Culture Bearer Fellowship Program will hold an information session for all interested Minnesota-based applicants on Friday\, October 25 in Lanesboro\, MN. The session will take place at the Cottage House Inn\, 209 Parkway Ave. N\, from 12-1:30 pm. This session\, led by Program Leaders Tracy Krumm (Fiber Artists) and Marion Gómez (Writers) will speak to the full Artist & Culture Bearers Fellowship program\, which supports 15 artistic disciplines\, and more specifically to Fiber Artist and Writers Fellowships. See a flyer with more information here. RSVP to tkrumm@textilecentermn.org if you would like to attend.
URL:https://riverartsalliance.org/event/mcknight-fellowships-info-session-october-25-in-lanesboro/
LOCATION:Cottage House Inn\, 209 Parkway Ave. N\, Lanesboro\, MN\, 55949
END:VEVENT
BEGIN:VEVENT
DTSTART;TZID=America/Chicago:20241025T170000
DTEND;TZID=America/Chicago:20241025T190000
DTSTAMP:20260419T152804
CREATED:20241023T173656Z
LAST-MODIFIED:20241023T173656Z
UID:10001257-1729875600-1729882800@riverartsalliance.org
SUMMARY:RAA Art Schmooze October 25 at the Black Horse
DESCRIPTION:Black Horse Bar & Grill | 34648 Old Homer Rd. | Winona \nYou’re invited to a River Arts Alliance (RAA) Art Schmooze on Friday evening\, October 25\, from 5 to 7 pm at the Black Horse Bar & Grill. Held periodically throughout the year\, our Schmoozes are casual gatherings for artists of all disciplines and arts supporters\, open to current RAA members and non-members alike. Join us for a fun opportunity to meet and socialize with others in our area’s arts community and to learn more about what RAA does and how you can be involved. A brief program beginning at 6 pm will include announcements from RAA leaders and an opportunity for attendees to introduce themselves. Learn more. \nAt the Schmooze\, and on RAA’s website here\, participants can nominate individuals in the community to be recognized as Champions of the Arts.
URL:https://riverartsalliance.org/event/raa-art-schmooze-october-25-at-the-black-horse/
LOCATION:Black Horse Bar & Grill\, 34648 Old Homer Rd.\, Winona\, MN\, 55987\, United States
END:VEVENT
BEGIN:VEVENT
DTSTART;TZID=America/Chicago:20241025T180000
DTEND;TZID=America/Chicago:20241025T200000
DTSTAMP:20260419T152804
CREATED:20241023T175240Z
LAST-MODIFIED:20241023T175240Z
UID:10001258-1729879200-1729886400@riverartsalliance.org
SUMMARY:Unwind with H3O Jazz Trio October 25
DESCRIPTION:Peter’s Biergarten | 54 E 3rd St.\nH3OJazz.com \nTake a break from raking leaves at Peter’s Biergarten for H3O Jazz Trio’s next Unwind Friday – October 25 from 6 to 8 pm. Unwind Friday offers mellow jazz to end the week\, gather with friends\, and enjoy a relaxing evening under the stars. Delicious food and desserts are available from Blooming Grounds and the biergarten has a wide variety of beers … all with no cover charge! If the weather doesn’t cooperate the music will move inside Blooming Grounds. Learn more.
URL:https://riverartsalliance.org/event/unwind-with-h3o-jazz-trio-october-25/
LOCATION:Peter’s Biergarten\, 54 E 3rd St.\, Winona\, MN\, 55987\, United States
END:VEVENT
BEGIN:VEVENT
DTSTART;TZID=America/Chicago:20241025T190000
DTEND;TZID=America/Chicago:20241025T190000
DTSTAMP:20260419T152804
CREATED:20241023T180211Z
LAST-MODIFIED:20241023T180211Z
UID:10001259-1729882800-1729882800@riverartsalliance.org
SUMMARY:WAC Film Chess Story
DESCRIPTION:Winona Arts Center | 228 E 5th St.\nwinonaarts.org \nThe Winona Arts Center is hosting a screening of the film Chess Story on Friday\, October 25th at 7:00 pm. The gallery opens at 6:00. Cost is $5. \nThe film takes place in Vienna\, Austria in 1938 when it is occupied by the Nazis. Dr. Josef Bartok is preparing to flee to America when he is arrested by the Gestapo. As a former notary to the deposed Austrian aristocracy\, he is instructed to hand over access to their private bank accounts. Refusing to cooperate\, he is locked in solitary confinement and as his mind begins to crack\, he disappears into the world of chess\, maintaining his sanity only by memorizing every move. Learn more.
URL:https://riverartsalliance.org/event/wac-film-chess-story/
LOCATION:Winona Arts Center\, 228 E 5th St.\, Winona\, MN\, 55987\, United States
END:VEVENT
END:VCALENDAR