BEGIN:VCALENDAR
VERSION:2.0
PRODID:-//River Arts Alliance - ECPv6.15.20//NONSGML v1.0//EN
CALSCALE:GREGORIAN
METHOD:PUBLISH
X-WR-CALNAME:River Arts Alliance
X-ORIGINAL-URL:https://riverartsalliance.org
X-WR-CALDESC:Events for River Arts Alliance
REFRESH-INTERVAL;VALUE=DURATION:PT1H
X-Robots-Tag:noindex
X-PUBLISHED-TTL:PT1H
BEGIN:VTIMEZONE
TZID:America/Chicago
BEGIN:DAYLIGHT
TZOFFSETFROM:-0600
TZOFFSETTO:-0500
TZNAME:CDT
DTSTART:20230312T080000
END:DAYLIGHT
BEGIN:STANDARD
TZOFFSETFROM:-0500
TZOFFSETTO:-0600
TZNAME:CST
DTSTART:20231105T070000
END:STANDARD
BEGIN:DAYLIGHT
TZOFFSETFROM:-0600
TZOFFSETTO:-0500
TZNAME:CDT
DTSTART:20240310T080000
END:DAYLIGHT
BEGIN:STANDARD
TZOFFSETFROM:-0500
TZOFFSETTO:-0600
TZNAME:CST
DTSTART:20241103T070000
END:STANDARD
BEGIN:DAYLIGHT
TZOFFSETFROM:-0600
TZOFFSETTO:-0500
TZNAME:CDT
DTSTART:20250309T080000
END:DAYLIGHT
BEGIN:STANDARD
TZOFFSETFROM:-0500
TZOFFSETTO:-0600
TZNAME:CST
DTSTART:20251102T070000
END:STANDARD
END:VTIMEZONE
BEGIN:VEVENT
DTSTART;TZID=America/Chicago:20241026T100000
DTEND;TZID=America/Chicago:20241026T140000
DTSTAMP:20260419T152804
CREATED:20241023T180715Z
LAST-MODIFIED:20241023T180715Z
UID:10001260-1729936800-1729951200@riverartsalliance.org
SUMMARY:Family Drawing & Painting Art Class at WAC
DESCRIPTION:Winona Arts Center | 228 E 5th St.\nwinonaarts.org \nThe Winona Arts Center is excited to host a Family Drawing & Painting Tropical Fish Art Class with Richard Spiller on Saturday\, October 26 from 10:00 am-2:00 pm. Join us in drawing and painting Tropical Fish using 2 different size formats: 18” x 24” or 12” x 18”. You pick the shapes and colors. Class Fee: $30 for WAC members and $35 for non-members. All materials are included. All ages welcome! Reserve your spot and register today! Learn more.
URL:https://riverartsalliance.org/event/family-drawing-painting-art-class-at-wac/
LOCATION:Winona Arts Center\, 228 E 5th St.\, Winona\, MN\, 55987\, United States
END:VEVENT
BEGIN:VEVENT
DTSTART;TZID=America/Chicago:20241026T180000
DTEND;TZID=America/Chicago:20241026T200000
DTSTAMP:20260419T152804
CREATED:20241110T234928Z
LAST-MODIFIED:20241110T235011Z
UID:10001276-1729965600-1729972800@riverartsalliance.org
SUMMARY:Opening Reception - Embodied Multiplicity Group Exhibition in Lanesboro
DESCRIPTION:October 26 – December 21\, 2024\nOpening Reception | Saturday | October 26 | 6-8 pm\nLanesboro Arts Gallery | 103 Parkway Ave. N | Lanesboro\, MN\nlanesboroarts.org \nRiver Arts Alliance member Sharon Mansur is one of the artists featured in Embodied Multiplicity\, a group exhibition at the Lanesboro Arts gallery in Lanesboro\, MN. Embodied Multiplicity celebrates the diversity of mediums and creativity of the artists who participated in the first two rounds of the BIPOC (Black\, Indigenous\, Persons of Color) Artist Residency at Lanesboro Arts. The work in this show ranges from abstract painted textiles\, collage exploring systemic racism\, a series of paintings exploring dead and new media\, interdisciplinary dance film\, photography weaving tales of migration and displacement\, reflective mixed media portraiture\, and multidisciplinary performance art. Learn more.
URL:https://riverartsalliance.org/event/opening-reception-embodied-multiplicity-group-exhibition-in-lanesboro/
LOCATION:Lanesboro Arts\, 103 Parkway Ave. N\, Lanesboro\, MN\, 55949
END:VEVENT
BEGIN:VEVENT
DTSTART;TZID=America/Chicago:20241026T190000
DTEND;TZID=America/Chicago:20241026T190000
DTSTAMP:20260419T152804
CREATED:20241023T181129Z
LAST-MODIFIED:20241023T181129Z
UID:10001261-1729969200-1729969200@riverartsalliance.org
SUMMARY:Mississippi Hot Club Concert at WAC
DESCRIPTION:Winona Arts Center | 228 E 5th St.\nwinonaarts.org \nBack by popular demand\, the Mississippi Hot Club from Minneapolis will perform at the Winona Arts Center on Saturday\, October 26. The coffeehouse and gallery open at 6:00 and the concert begins at 7:00. Tickets are $20 in advance and $25 at the door and are available at Music Mart in Winona or on Eventbrite. Mississippi Hot Club is inspiring a new generation of young swingers in Minnesota. With reverence and chops\, Mississippi Hot Club’s new album\, Swing Cities\, shines light on the bold music of Django Reinhardt from a fresh pop-oriented perspective. Learn more.
URL:https://riverartsalliance.org/event/mississippi-hot-club-concert-at-wac-2/
LOCATION:Winona Arts Center\, 228 E 5th St.\, Winona\, MN\, 55987\, United States
END:VEVENT
BEGIN:VEVENT
DTSTART;TZID=America/Chicago:20241026T193000
DTEND;TZID=America/Chicago:20241026T210000
DTSTAMP:20260419T152804
CREATED:20241023T183152Z
LAST-MODIFIED:20241023T183152Z
UID:10001262-1729971000-1729976400@riverartsalliance.org
SUMMARY:WSO Presents Fall Concert “Autumnal Reverie”
DESCRIPTION:Wesley United Methodist Church | 114 W Broadway St.\nwinonasymphony.org \nAs the weather turns colder and the leaves collect beneath our feet\, there is little doubt that autumn is finally upon us. Have no fear\, for the changing of the seasons also heralds the upcoming Winona Symphony Orchestra Fall concert. WSO presents “Autumnal Reverie” on Saturday\, October 26th at 7:30 pm with a pre-concert talk by conductor Erik Rohde at 7 pm at Wesley United Methodist Church. Learn more.
URL:https://riverartsalliance.org/event/wso-presents-fall-concert-autumnal-reverie/
LOCATION:Wesley United Methodist Church\, 114 W Broadway St.\, Winona\, MN\, 55987\, United States
END:VEVENT
END:VCALENDAR