BEGIN:VCALENDAR
VERSION:2.0
PRODID:-//River Arts Alliance - ECPv6.15.20//NONSGML v1.0//EN
CALSCALE:GREGORIAN
METHOD:PUBLISH
X-WR-CALNAME:River Arts Alliance
X-ORIGINAL-URL:https://riverartsalliance.org
X-WR-CALDESC:Events for River Arts Alliance
REFRESH-INTERVAL;VALUE=DURATION:PT1H
X-Robots-Tag:noindex
X-PUBLISHED-TTL:PT1H
BEGIN:VTIMEZONE
TZID:America/Chicago
BEGIN:DAYLIGHT
TZOFFSETFROM:-0600
TZOFFSETTO:-0500
TZNAME:CDT
DTSTART:20230312T080000
END:DAYLIGHT
BEGIN:STANDARD
TZOFFSETFROM:-0500
TZOFFSETTO:-0600
TZNAME:CST
DTSTART:20231105T070000
END:STANDARD
BEGIN:DAYLIGHT
TZOFFSETFROM:-0600
TZOFFSETTO:-0500
TZNAME:CDT
DTSTART:20240310T080000
END:DAYLIGHT
BEGIN:STANDARD
TZOFFSETFROM:-0500
TZOFFSETTO:-0600
TZNAME:CST
DTSTART:20241103T070000
END:STANDARD
BEGIN:DAYLIGHT
TZOFFSETFROM:-0600
TZOFFSETTO:-0500
TZNAME:CDT
DTSTART:20250309T080000
END:DAYLIGHT
BEGIN:STANDARD
TZOFFSETFROM:-0500
TZOFFSETTO:-0600
TZNAME:CST
DTSTART:20251102T070000
END:STANDARD
END:VTIMEZONE
BEGIN:VEVENT
DTSTART;TZID=America/Chicago:20241027T180000
DTEND;TZID=America/Chicago:20241027T180000
DTSTAMP:20260419T134432
CREATED:20241023T210736Z
LAST-MODIFIED:20241023T210736Z
UID:10001263-1730052000-1730052000@riverartsalliance.org
SUMMARY:Theatre du Mississippi Murder Mystery at the Polish Museum
DESCRIPTION:Polish Museum | 102 Liberty St.\ntheatredumiss.org \nTheatre du Mississippi presents a Murder Mystery Night fundraiser at the Polish Museum on Sunday\, October 27. Get ready for an unforgettable night of intrigue as you become part of a thrilling Murder Mystery inspired by ancient Polish folklore. Hidden within the museum’s walls are secrets\, legends\, and a deadly crime waiting to be solved! Can you uncover the truth behind the mystery? \nWill you be able to distinguish between fact and fiction? Who can be trusted? And what mythological forces might be at play in this dark and mysterious whodunit? Learn more.
URL:https://riverartsalliance.org/event/theatre-du-mississippi-murder-mystery-at-the-polish-museum/
LOCATION:Polish Cultural Institute & Museum\, 102 Liberty St.\, Winona\, MN\, 55987\, United States
END:VEVENT
END:VCALENDAR