BEGIN:VCALENDAR
VERSION:2.0
PRODID:-//River Arts Alliance - ECPv6.15.20//NONSGML v1.0//EN
CALSCALE:GREGORIAN
METHOD:PUBLISH
X-ORIGINAL-URL:https://riverartsalliance.org
X-WR-CALDESC:Events for River Arts Alliance
REFRESH-INTERVAL;VALUE=DURATION:PT1H
X-Robots-Tag:noindex
X-PUBLISHED-TTL:PT1H
BEGIN:VTIMEZONE
TZID:America/Chicago
BEGIN:DAYLIGHT
TZOFFSETFROM:-0600
TZOFFSETTO:-0500
TZNAME:CDT
DTSTART:20230312T080000
END:DAYLIGHT
BEGIN:STANDARD
TZOFFSETFROM:-0500
TZOFFSETTO:-0600
TZNAME:CST
DTSTART:20231105T070000
END:STANDARD
BEGIN:DAYLIGHT
TZOFFSETFROM:-0600
TZOFFSETTO:-0500
TZNAME:CDT
DTSTART:20240310T080000
END:DAYLIGHT
BEGIN:STANDARD
TZOFFSETFROM:-0500
TZOFFSETTO:-0600
TZNAME:CST
DTSTART:20241103T070000
END:STANDARD
BEGIN:DAYLIGHT
TZOFFSETFROM:-0600
TZOFFSETTO:-0500
TZNAME:CDT
DTSTART:20250309T080000
END:DAYLIGHT
BEGIN:STANDARD
TZOFFSETFROM:-0500
TZOFFSETTO:-0600
TZNAME:CST
DTSTART:20251102T070000
END:STANDARD
END:VTIMEZONE
BEGIN:VEVENT
DTSTART;TZID=America/Chicago:20241101T170000
DTEND;TZID=America/Chicago:20241101T170000
DTSTAMP:20260419T134754
CREATED:20241031T010427Z
LAST-MODIFIED:20241031T010427Z
UID:10000440-1730480400-1730480400@riverartsalliance.org
SUMMARY:Artist Application Deadline for Winona Art Walk & Tour
DESCRIPTION:Call for Artists: Winona Art Walk & Tour\, November 22-23 \nThe 2024 Winona Art Walk & Tour will take place on Friday and Saturday\, November 22 and 23\, from 10:00 am to 5:00 pm each day. Artists may participate at their home or studio\, or at a group site located at the Winona Arts Center. Galleries or businesses that feature the work of multiple local artists may also participate. Subject to approval\, emerging artists may participate for a reduced fee. The artist application and full details are available on RAA’s website at this link. The deadline to apply is Friday\, November 1\, at 5:00 pm. \nOpportunity for Authors \nThis year at the Winona Arts Center group site\, we will also have a shared table for local authors to sell their books. Learn more about this opportunity at the link above\, and contact RAA Board Chair Terri Karsten at wagonbridgepub@gmail.com if you are interested.
URL:https://riverartsalliance.org/event/artist-application-deadline-for-winona-art-walk-tour/
LOCATION:MN
END:VEVENT
BEGIN:VEVENT
DTSTART;TZID=America/Chicago:20241101T170000
DTEND;TZID=America/Chicago:20241101T190000
DTSTAMP:20260419T134754
CREATED:20241024T172358Z
LAST-MODIFIED:20241024T172358Z
UID:10001264-1730480400-1730487600@riverartsalliance.org
SUMMARY:Opening Reception - River Windows by Jack Honeywell at the Blue Heron
DESCRIPTION:Blue Heron Coffeehouse | 162 W 2nd St.\nblueheroncoffeehouse.com \nStained glass artist and River Arts Alliance member Jack Honeywell is again showing new work from his River Window Series at the Blue Heron Coffeehouse in Winona. The show will run through December. There will be a reception on Friday\, November 1st from 5 to 7 pm.
URL:https://riverartsalliance.org/event/opening-reception-river-windows-by-jack-honeywell-at-the-blue-heron-2/
LOCATION:Blue Heron Coffeehouse\, 162 W 2nd St\, Winona\, MN\, 55987\, United States
END:VEVENT
END:VCALENDAR