BEGIN:VCALENDAR
VERSION:2.0
PRODID:-//River Arts Alliance - ECPv6.15.20//NONSGML v1.0//EN
CALSCALE:GREGORIAN
METHOD:PUBLISH
X-ORIGINAL-URL:https://riverartsalliance.org
X-WR-CALDESC:Events for River Arts Alliance
REFRESH-INTERVAL;VALUE=DURATION:PT1H
X-Robots-Tag:noindex
X-PUBLISHED-TTL:PT1H
BEGIN:VTIMEZONE
TZID:America/Chicago
BEGIN:DAYLIGHT
TZOFFSETFROM:-0600
TZOFFSETTO:-0500
TZNAME:CDT
DTSTART:20230312T080000
END:DAYLIGHT
BEGIN:STANDARD
TZOFFSETFROM:-0500
TZOFFSETTO:-0600
TZNAME:CST
DTSTART:20231105T070000
END:STANDARD
BEGIN:DAYLIGHT
TZOFFSETFROM:-0600
TZOFFSETTO:-0500
TZNAME:CDT
DTSTART:20240310T080000
END:DAYLIGHT
BEGIN:STANDARD
TZOFFSETFROM:-0500
TZOFFSETTO:-0600
TZNAME:CST
DTSTART:20241103T070000
END:STANDARD
BEGIN:DAYLIGHT
TZOFFSETFROM:-0600
TZOFFSETTO:-0500
TZNAME:CDT
DTSTART:20250309T080000
END:DAYLIGHT
BEGIN:STANDARD
TZOFFSETFROM:-0500
TZOFFSETTO:-0600
TZNAME:CST
DTSTART:20251102T070000
END:STANDARD
END:VTIMEZONE
BEGIN:VEVENT
DTSTART;TZID=America/Chicago:20241102T100000
DTEND;TZID=America/Chicago:20241102T140000
DTSTAMP:20260419T152940
CREATED:20241024T193557Z
LAST-MODIFIED:20241024T193557Z
UID:10001265-1730541600-1730556000@riverartsalliance.org
SUMMARY:Sgraffito Colorful Clay Fish Art Class
DESCRIPTION:Winona Arts Center | 228 E 5th St.\nwinonaarts.org \nThe Winona Arts Center is excited to host Richard Spiller’s Sgraffito Colorful Clay Fish art class on Saturday\, November 2 from 10:00 am – 2:00 pm. We will create clay fish using the ceramic technique of Sgraffito. Once the color has been applied to the fish\, the clay will be fired at Spiller’s studio and returned to the Winona Arts Center for pick up. All ages are welcome. Cost for the class with all materials included is $30 for WAC members and $35 for non members. Learn more.
URL:https://riverartsalliance.org/event/sgraffito-colorful-clay-fish-art-class/
LOCATION:Winona Arts Center\, 228 E 5th St.\, Winona\, MN\, 55987\, United States
END:VEVENT
BEGIN:VEVENT
DTSTART;TZID=America/Chicago:20241102T130000
DTEND;TZID=America/Chicago:20241102T160000
DTSTAMP:20260419T152940
CREATED:20241029T194847Z
LAST-MODIFIED:20241029T194847Z
UID:10000429-1730552400-1730563200@riverartsalliance.org
SUMMARY:Opening Reception - “Petals and Patterns: A Visual Symphony” Exhibit by Richard Copeland
DESCRIPTION:Winona Arts Center | 228 E 5th St.\nwinonaarts.org \nThe Winona Arts Center is excited to host the opening of Richard Copeland’s exhibit entitled “Petals and Patterns: A Visual Symphony.” The opening will be held on Saturday\, November 2 from 1:00-4:00. The art work will be on display through 11/23/24 with gallery hours on Saturdays and Sundays from 1:00-4:00. Everyone is welcome; come out to meet the artist and enjoy some refreshments while admiring his work. Richard Copeland is a member of River Arts Alliance. The exhibit contains original photography and recent dotted acrylic paintings. Learn more.
URL:https://riverartsalliance.org/event/opening-reception-petals-and-patterns-a-visual-symphony-exhibit-by-richard-copeland/
LOCATION:Winona Arts Center\, 228 E 5th St.\, Winona\, MN\, 55987\, United States
END:VEVENT
BEGIN:VEVENT
DTSTART;TZID=America/Chicago:20241102T170000
DTEND;TZID=America/Chicago:20241102T170000
DTSTAMP:20260419T152940
CREATED:20241029T200651Z
LAST-MODIFIED:20241029T200651Z
UID:10000431-1730566800-1730566800@riverartsalliance.org
SUMMARY:Heukeshoven Composer Residency at WSU
DESCRIPTION:WSU DuFresne Performing Arts Center | 450 Johnson St.\nsites.google.com/view/re-synth/ \nA. Eric Heukeshoven will serve as composer-in-residence for the 47th Annual High School Honor Band Festival on Saturday\, November 2 at Winona State University. A 5:00 pm concert will feature the premiere of “re-synth” for concert band and music technology. Heukeshoven describes the new work as a modern take on the classical “Concerto Grosso\,” where the musical material is passed between a small group of soloists (concertino) and full ensemble (ripieno). On Sunday\, November 3 at 2:00 pm\, Heukeshoven’s “re-synth” and “My Music Reaches to the Sky” will be given a second performance by the WSU Wind Ensemble directed by Dr. Janet Heukeshoven\, Interim Director of Bands. The concerts are free and all are welcome to attend. Learn more.
URL:https://riverartsalliance.org/event/heukeshoven-composer-residency-at-wsu/2024-11-02/
LOCATION:WSU DuFresne Performing Arts Center\, 450 Johnson St.\, Winona\, MN\, 55987\, United States
END:VEVENT
BEGIN:VEVENT
DTSTART;TZID=America/Chicago:20241102T190000
DTEND;TZID=America/Chicago:20241102T223000
DTSTAMP:20260419T152940
CREATED:20241029T201603Z
LAST-MODIFIED:20241029T201603Z
UID:10000434-1730574000-1730586600@riverartsalliance.org
SUMMARY:Dia de los Muertos (Day of the Dead Dance)
DESCRIPTION:Winona Athletic Club | 773 E 5th St.\nrivercitydancers.org \nGet ready to don your most colorful costumes\, adorned with sugar skulls\, marigolds\, and traditional Día de los Muertos face paint\, for a night of elegance and fun on the ballroom floor! Whether you’re an experienced dancer or a beginner\, everyone is welcome! Enjoy a lively mix of ballroom dances with a spirited Day of the Dead twist. There will be a costume contest during the night! The Cha-Cha & Rumba dance lesson will be taught by Stan & Molly Breitlow from 7:00 to 8:00 pm. The ballroom dance starts at 8:00 and goes until 10:30 pm. The cost of admission (general adults: $15; students: $10) includes the optional dance lesson. Learn more.
URL:https://riverartsalliance.org/event/dia-de-los-muertos-day-of-the-dead-dance/
LOCATION:Winona Athletic Club\, 773 E 5th St.\, Winona\, MN\, 55987\, United States
END:VEVENT
END:VCALENDAR