BEGIN:VCALENDAR
VERSION:2.0
PRODID:-//River Arts Alliance - ECPv6.15.20//NONSGML v1.0//EN
CALSCALE:GREGORIAN
METHOD:PUBLISH
X-WR-CALNAME:River Arts Alliance
X-ORIGINAL-URL:https://riverartsalliance.org
X-WR-CALDESC:Events for River Arts Alliance
REFRESH-INTERVAL;VALUE=DURATION:PT1H
X-Robots-Tag:noindex
X-PUBLISHED-TTL:PT1H
BEGIN:VTIMEZONE
TZID:America/Chicago
BEGIN:DAYLIGHT
TZOFFSETFROM:-0600
TZOFFSETTO:-0500
TZNAME:CDT
DTSTART:20230312T080000
END:DAYLIGHT
BEGIN:STANDARD
TZOFFSETFROM:-0500
TZOFFSETTO:-0600
TZNAME:CST
DTSTART:20231105T070000
END:STANDARD
BEGIN:DAYLIGHT
TZOFFSETFROM:-0600
TZOFFSETTO:-0500
TZNAME:CDT
DTSTART:20240310T080000
END:DAYLIGHT
BEGIN:STANDARD
TZOFFSETFROM:-0500
TZOFFSETTO:-0600
TZNAME:CST
DTSTART:20241103T070000
END:STANDARD
BEGIN:DAYLIGHT
TZOFFSETFROM:-0600
TZOFFSETTO:-0500
TZNAME:CDT
DTSTART:20250309T080000
END:DAYLIGHT
BEGIN:STANDARD
TZOFFSETFROM:-0500
TZOFFSETTO:-0600
TZNAME:CST
DTSTART:20251102T070000
END:STANDARD
END:VTIMEZONE
BEGIN:VEVENT
DTSTART;TZID=America/Chicago:20241106T190000
DTEND;TZID=America/Chicago:20241106T190000
DTSTAMP:20260419T134406
CREATED:20241031T023704Z
LAST-MODIFIED:20241031T023704Z
UID:10000443-1730919600-1730919600@riverartsalliance.org
SUMMARY:Laureate Writers Series Open Mic Night
DESCRIPTION:Blue Heron Coffeehouse | 162 W 2nd St. \nThe Laureate Writers Series will feature an open mic session for its November 6th meeting at the Blue Heron Coffeehouse. The program\, normally held on the first Tuesday of every month\, will meet at 7 pm on the first Wednesday of November in order to avoid conflicting with election night. The open mic program was scheduled in response to an earlier one that proved very popular. At open mic sessions writers young and old are invited to share original poetry or short prose pieces with members of the audience. No prizes will be awarded. Learn more.
URL:https://riverartsalliance.org/event/laureate-writers-series-open-mic-night/
LOCATION:Blue Heron Coffeehouse\, 162 W 2nd St\, Winona\, MN\, 55987\, United States
END:VEVENT
BEGIN:VEVENT
DTSTART;TZID=America/Chicago:20241106T190000
DTEND;TZID=America/Chicago:20241106T210000
DTSTAMP:20260419T134406
CREATED:20241029T210048Z
LAST-MODIFIED:20241106T165404Z
UID:10000438-1730919600-1730926800@riverartsalliance.org
SUMMARY:EVENT CANCELLED: Hope and Feathers: Celebration of Bird Poems @ Winona Bird Club
DESCRIPTION:UPDATE 11/6/24: This event has been cancelled. \nHolzinger Lodge | 925 W Lake Blvd.\nWinona Bird Club \nCome unwind in good company after Election Day. Scott Lowery will read famous-or-not poems about or for birds—among the not-so-famous may be a few of his own—and then will host an open mic for anyone who’d like to share their own favorites. Scott’s recent book\, Mutual Life\, (2nd Prize\, 2024 Wisconsin Fellowship of Poets Chapbook Contest) features on its cover a beautiful woodcut of a nuthatch on an oak trunk. Winona Bird Club programs are free and open to the public. Stick around for refreshments and chat after the program. Learn more.
URL:https://riverartsalliance.org/event/hope-and-feathers-celebration-of-bird-poems-winona-bird-club/
LOCATION:Holzinger Lodge\, 925 W Lake Blvd.\, Winona\, MN\, 55987
END:VEVENT
END:VCALENDAR