BEGIN:VCALENDAR
VERSION:2.0
PRODID:-//River Arts Alliance - ECPv6.15.20//NONSGML v1.0//EN
CALSCALE:GREGORIAN
METHOD:PUBLISH
X-WR-CALNAME:River Arts Alliance
X-ORIGINAL-URL:https://riverartsalliance.org
X-WR-CALDESC:Events for River Arts Alliance
REFRESH-INTERVAL;VALUE=DURATION:PT1H
X-Robots-Tag:noindex
X-PUBLISHED-TTL:PT1H
BEGIN:VTIMEZONE
TZID:America/Chicago
BEGIN:DAYLIGHT
TZOFFSETFROM:-0600
TZOFFSETTO:-0500
TZNAME:CDT
DTSTART:20230312T080000
END:DAYLIGHT
BEGIN:STANDARD
TZOFFSETFROM:-0500
TZOFFSETTO:-0600
TZNAME:CST
DTSTART:20231105T070000
END:STANDARD
BEGIN:DAYLIGHT
TZOFFSETFROM:-0600
TZOFFSETTO:-0500
TZNAME:CDT
DTSTART:20240310T080000
END:DAYLIGHT
BEGIN:STANDARD
TZOFFSETFROM:-0500
TZOFFSETTO:-0600
TZNAME:CST
DTSTART:20241103T070000
END:STANDARD
BEGIN:DAYLIGHT
TZOFFSETFROM:-0600
TZOFFSETTO:-0500
TZNAME:CDT
DTSTART:20250309T080000
END:DAYLIGHT
BEGIN:STANDARD
TZOFFSETFROM:-0500
TZOFFSETTO:-0600
TZNAME:CST
DTSTART:20251102T070000
END:STANDARD
END:VTIMEZONE
BEGIN:VEVENT
DTSTART;TZID=America/Chicago:20241108T180000
DTEND;TZID=America/Chicago:20241108T200000
DTSTAMP:20260419T134405
CREATED:20241114T183446Z
LAST-MODIFIED:20241114T183446Z
UID:10001282-1731088800-1731096000@riverartsalliance.org
SUMMARY:Opening Reception - Joan Porter-Einsman in Artistry Members’ Juried Art Show
DESCRIPTION:Bloomington Center for the Arts | 1800 West Old Shakopee Rd. | Bloomington\, MN\nartistrymn.org \nRAA member Joan Porter-Einsman is one of the artists whose work is included in Artistry’s 48th Annual Members’ Juried Art Show. Each year this exciting competition and exhibition brings together Artistry’s talented members. The exhibition is held at the Bloomington Center for the Arts Gallery in Bloomington\, MN and runs from November 8 through December 1\, 2024. Learn more.
URL:https://riverartsalliance.org/event/opening-reception-joan-porter-einsman-in-artistry-members-juried-art-show/
LOCATION:Bloomington Center for the Arts\, 1800 W Old Shakopee Rd.\, Bloomington\, MN\, 55431\, United States
END:VEVENT
BEGIN:VEVENT
DTSTART;TZID=America/Chicago:20241108T190000
DTEND;TZID=America/Chicago:20241108T190000
DTSTAMP:20260419T134405
CREATED:20241105T174308Z
LAST-MODIFIED:20241105T174308Z
UID:10000455-1731092400-1731092400@riverartsalliance.org
SUMMARY:WAC Film The Night of the 12th
DESCRIPTION:Winona Arts Center | 228 E 5th St.\nwinonaarts.org \nThe Winona Arts Center will show the French film The Night of the 12th on November 8 at 7:00. The gallery is open for viewing at 6:00. Cost is $5. The plot unfolds as the recently promoted Captain Vives faces this elusive mystery when he investigates the gruesome murder of a young woman in the French town of Grenoble. All the evidence points towards a scorned ex-lover but which one? Digging through the details of the dead woman’s life\, the police try to weed out the killer. Learn more.
URL:https://riverartsalliance.org/event/wac-film-the-night-of-the-12th/
LOCATION:Winona Arts Center\, 228 E 5th St.\, Winona\, MN\, 55987\, United States
END:VEVENT
BEGIN:VEVENT
DTSTART;TZID=America/Chicago:20241108T190000
DTEND;TZID=America/Chicago:20241108T190000
DTSTAMP:20260419T134405
CREATED:20241105T175352Z
LAST-MODIFIED:20241105T175352Z
UID:10001268-1731092400-1731092400@riverartsalliance.org
SUMMARY:Winona Community Chorale Concert “The Stories We Tell”
DESCRIPTION:Central Lutheran Church | 259 W Wabasha St.\nfacebook.com/WinonaCommunityChorale \nThe Winona Community Chorale will present its fall concert\, entitled “The Stories We Tell\,” on November 8 and 9 at Central Lutheran Church. There is no admission charge\, but a free-will offering will be collected. The Winona Community Chorale is a mixed choral ensemble of more than 40 members performing music from a wide variety of styles\, genres and time periods. This fall’s concert program features songs that tell a story\, ranging from folk songs to 20th-century hits and beyond. Learn more.
URL:https://riverartsalliance.org/event/winona-community-chorale-concert-the-stories-we-tell/2024-11-08/
LOCATION:MN
END:VEVENT
END:VCALENDAR