BEGIN:VCALENDAR
VERSION:2.0
PRODID:-//River Arts Alliance - ECPv6.15.20//NONSGML v1.0//EN
CALSCALE:GREGORIAN
METHOD:PUBLISH
X-WR-CALNAME:River Arts Alliance
X-ORIGINAL-URL:https://riverartsalliance.org
X-WR-CALDESC:Events for River Arts Alliance
REFRESH-INTERVAL;VALUE=DURATION:PT1H
X-Robots-Tag:noindex
X-PUBLISHED-TTL:PT1H
BEGIN:VTIMEZONE
TZID:America/Chicago
BEGIN:DAYLIGHT
TZOFFSETFROM:-0600
TZOFFSETTO:-0500
TZNAME:CDT
DTSTART:20230312T080000
END:DAYLIGHT
BEGIN:STANDARD
TZOFFSETFROM:-0500
TZOFFSETTO:-0600
TZNAME:CST
DTSTART:20231105T070000
END:STANDARD
BEGIN:DAYLIGHT
TZOFFSETFROM:-0600
TZOFFSETTO:-0500
TZNAME:CDT
DTSTART:20240310T080000
END:DAYLIGHT
BEGIN:STANDARD
TZOFFSETFROM:-0500
TZOFFSETTO:-0600
TZNAME:CST
DTSTART:20241103T070000
END:STANDARD
BEGIN:DAYLIGHT
TZOFFSETFROM:-0600
TZOFFSETTO:-0500
TZNAME:CDT
DTSTART:20250309T080000
END:DAYLIGHT
BEGIN:STANDARD
TZOFFSETFROM:-0500
TZOFFSETTO:-0600
TZNAME:CST
DTSTART:20251102T070000
END:STANDARD
END:VTIMEZONE
BEGIN:VEVENT
DTSTART;TZID=America/Chicago:20241109T100000
DTEND;TZID=America/Chicago:20241109T170000
DTSTAMP:20260419T134452
CREATED:20241107T022622Z
LAST-MODIFIED:20241107T022622Z
UID:10001270-1731146400-1731171600@riverartsalliance.org
SUMMARY:Fall Seasonal Saturday at MMAM
DESCRIPTION:Minnesota Marine Art Museum | 800 Riverview Dr.\nmmam.org \nOn Saturday\, November 9\, the Minnesota Marine Art Museum (MMAM) will hold its Fall Seasonal Saturday event. With $1 admission\, live music\, art-making\, guided tours\, and programming centered around a theme\, Seasonal Saturdays strive to increase access to the arts for everyone. The November theme\, Flights of Fancy\, is inspired by the current MMAM exhibition Judy Onofrio: Deep Dive. Learn more.
URL:https://riverartsalliance.org/event/fall-seasonal-saturday-at-mmam-2/
LOCATION:Minnesota Marine Art Museum\, 800 Riverview Dr.\, Winona\, MN\, 55987\, United States
END:VEVENT
BEGIN:VEVENT
DTSTART;TZID=America/Chicago:20241109T140000
DTEND;TZID=America/Chicago:20241109T140000
DTSTAMP:20260419T134452
CREATED:20241105T175352Z
LAST-MODIFIED:20241105T175352Z
UID:10001269-1731160800-1731160800@riverartsalliance.org
SUMMARY:Winona Community Chorale Concert “The Stories We Tell”
DESCRIPTION:Central Lutheran Church | 259 W Wabasha St.\nfacebook.com/WinonaCommunityChorale \nThe Winona Community Chorale will present its fall concert\, entitled “The Stories We Tell\,” on November 8 and 9 at Central Lutheran Church. There is no admission charge\, but a free-will offering will be collected. The Winona Community Chorale is a mixed choral ensemble of more than 40 members performing music from a wide variety of styles\, genres and time periods. This fall’s concert program features songs that tell a story\, ranging from folk songs to 20th-century hits and beyond. Learn more.
URL:https://riverartsalliance.org/event/winona-community-chorale-concert-the-stories-we-tell/2024-11-09/
LOCATION:MN
END:VEVENT
BEGIN:VEVENT
DTSTART;TZID=America/Chicago:20241109T190000
DTEND;TZID=America/Chicago:20241109T210000
DTSTAMP:20260419T134452
CREATED:20241031T030808Z
LAST-MODIFIED:20241031T030808Z
UID:10000445-1731178800-1731186000@riverartsalliance.org
SUMMARY:Mike Munson & Lars-Erik Larson Concert at WAC
DESCRIPTION:Winona Arts Center | 228 E 5th St.\nwinonaarts.org \nThe Winona Arts Center at 228 E 5th Street is excited to welcome back to our stage\, our favorite blues musician from Winona\, Mike Munson. Mike will be joined by percussionist Lars-Erik Larson for this amazing evening of music from 7:00-9:00 pm on Saturday\, November 9. Doors open at 6:00 for the coffeehouse and gallery viewing. Tickets are $15 in advance at Music Mart and Eventbrite until 4:00 pm on November 9th and $20 at the door. Learn more.
URL:https://riverartsalliance.org/event/mike-munson-lars-erik-larson-concert-at-wac/
LOCATION:Winona Arts Center\, 228 E 5th St.\, Winona\, MN\, 55987\, United States
END:VEVENT
BEGIN:VEVENT
DTSTART;TZID=America/Chicago:20241109T193000
DTEND;TZID=America/Chicago:20241109T213000
DTSTAMP:20260419T134452
CREATED:20241031T195853Z
LAST-MODIFIED:20241031T195853Z
UID:10000446-1731180600-1731187800@riverartsalliance.org
SUMMARY:John Paulson Big Band Fundraiser
DESCRIPTION:Wellington’s Pub & Grill | 1429 W Service Dr.\npaulsonjazz.com \nThe John Paulson Big Band is offering a free big band jazz fundraiser at Wellington’s Pub & Grill in Winona on November 9\, 2024 at 7:30 pm for the Winona Food Shelf-Winona Volunteer Services. Donations will be accepted at the concert and online until December 30th at https://gofund.me/055592cc. The 18-piece John Paulson Big Band includes some of the best jazz players and teachers in the region. They are unique in that they perform only original big band jazz composed and arranged by musical director and saxophonist John Paulson. Learn more.
URL:https://riverartsalliance.org/event/john-paulson-big-band-fundraiser/
LOCATION:Wellington’s Pub & Grill\, 1429 W Service Dr.\, Winona\, MN\, 55987\, United States
END:VEVENT
END:VCALENDAR