BEGIN:VCALENDAR
VERSION:2.0
PRODID:-//River Arts Alliance - ECPv6.15.20//NONSGML v1.0//EN
CALSCALE:GREGORIAN
METHOD:PUBLISH
X-ORIGINAL-URL:https://riverartsalliance.org
X-WR-CALDESC:Events for River Arts Alliance
REFRESH-INTERVAL;VALUE=DURATION:PT1H
X-Robots-Tag:noindex
X-PUBLISHED-TTL:PT1H
BEGIN:VTIMEZONE
TZID:America/Chicago
BEGIN:DAYLIGHT
TZOFFSETFROM:-0600
TZOFFSETTO:-0500
TZNAME:CDT
DTSTART:20230312T080000
END:DAYLIGHT
BEGIN:STANDARD
TZOFFSETFROM:-0500
TZOFFSETTO:-0600
TZNAME:CST
DTSTART:20231105T070000
END:STANDARD
BEGIN:DAYLIGHT
TZOFFSETFROM:-0600
TZOFFSETTO:-0500
TZNAME:CDT
DTSTART:20240310T080000
END:DAYLIGHT
BEGIN:STANDARD
TZOFFSETFROM:-0500
TZOFFSETTO:-0600
TZNAME:CST
DTSTART:20241103T070000
END:STANDARD
BEGIN:DAYLIGHT
TZOFFSETFROM:-0600
TZOFFSETTO:-0500
TZNAME:CDT
DTSTART:20250309T080000
END:DAYLIGHT
BEGIN:STANDARD
TZOFFSETFROM:-0500
TZOFFSETTO:-0600
TZNAME:CST
DTSTART:20251102T070000
END:STANDARD
END:VTIMEZONE
BEGIN:VEVENT
DTSTART;TZID=America/Chicago:20241116T190000
DTEND;TZID=America/Chicago:20241116T210000
DTSTAMP:20260419T134753
CREATED:20241110T233644Z
LAST-MODIFIED:20241110T233644Z
UID:10001275-1731783600-1731790800@riverartsalliance.org
SUMMARY:Philip Daniel Concert at WAC
DESCRIPTION:Winona Arts Center | 228 E 5th St.\nwinonaarts.org \nThe Winona Arts Center is excited to bring Philip Daniel from Lincoln\, Nebraska back to our stage on November 16 at 7:00. Our doors open at 6:00 for the coffeehouse and gallery. Tickets are $15 in advance at Music Mart in Winona or on Eventbrite until 4:00 pm on November 16\, or at the door for $20. \nIt is difficult to describe Philip Daniel’s music as it is something that you need to experience and it will fill your heart and soul. Daniel is a distinguished pianist and composer\, acclaimed for his ability to evoke powerful emotions through his music. He has cultivated a unique musical voice that gracefully merges classical elements\, minimalist soundscapes\, and cinematic qualities. More information about Philip Daniel is available at his website\, philipdanielpiano.com. Learn more.
URL:https://riverartsalliance.org/event/philip-daniel-concert-at-wac-2/
LOCATION:Winona Arts Center\, 228 E 5th St.\, Winona\, MN\, 55987\, United States
END:VEVENT
END:VCALENDAR