BEGIN:VCALENDAR
VERSION:2.0
PRODID:-//River Arts Alliance - ECPv6.15.20//NONSGML v1.0//EN
CALSCALE:GREGORIAN
METHOD:PUBLISH
X-WR-CALNAME:River Arts Alliance
X-ORIGINAL-URL:https://riverartsalliance.org
X-WR-CALDESC:Events for River Arts Alliance
REFRESH-INTERVAL;VALUE=DURATION:PT1H
X-Robots-Tag:noindex
X-PUBLISHED-TTL:PT1H
BEGIN:VTIMEZONE
TZID:America/Chicago
BEGIN:DAYLIGHT
TZOFFSETFROM:-0600
TZOFFSETTO:-0500
TZNAME:CDT
DTSTART:20230312T080000
END:DAYLIGHT
BEGIN:STANDARD
TZOFFSETFROM:-0500
TZOFFSETTO:-0600
TZNAME:CST
DTSTART:20231105T070000
END:STANDARD
BEGIN:DAYLIGHT
TZOFFSETFROM:-0600
TZOFFSETTO:-0500
TZNAME:CDT
DTSTART:20240310T080000
END:DAYLIGHT
BEGIN:STANDARD
TZOFFSETFROM:-0500
TZOFFSETTO:-0600
TZNAME:CST
DTSTART:20241103T070000
END:STANDARD
BEGIN:DAYLIGHT
TZOFFSETFROM:-0600
TZOFFSETTO:-0500
TZNAME:CDT
DTSTART:20250309T080000
END:DAYLIGHT
BEGIN:STANDARD
TZOFFSETFROM:-0500
TZOFFSETTO:-0600
TZNAME:CST
DTSTART:20251102T070000
END:STANDARD
END:VTIMEZONE
BEGIN:VEVENT
DTSTART;TZID=America/Chicago:20241117T130000
DTEND;TZID=America/Chicago:20241117T160000
DTSTAMP:20260419T134405
CREATED:20241114T175006Z
LAST-MODIFIED:20241114T175006Z
UID:10001279-1731848400-1731859200@riverartsalliance.org
SUMMARY:Intro To Playwriting: The Art of Listening
DESCRIPTION:Online via Zoom\ntheatredumiss.org \nTheatre du Mississippi presents Intro To Playwriting: The Art of Listening\, an online workshop facilitated by Taylor Sklenar. Are you ready to bring your story ideas to life\, but unsure where to start? Or maybe you’re stuck with writer’s block\, feeling a little lost? Join our Intro to Playwriting workshop\, where listening becomes the key to unlocking authentic dialogue\, character development\, and engaging stories. This workshop is for beginner and intermediate playwrights\, best for ages 16 and up\, looking to expand their creative toolkit and strengthen their storytelling skills. Sign up today and let the art of listening guide you to a stronger script! Learn more.
URL:https://riverartsalliance.org/event/intro-to-playwriting-the-art-of-listening/
LOCATION:MN
END:VEVENT
BEGIN:VEVENT
DTSTART;TZID=America/Chicago:20241117T143000
DTEND;TZID=America/Chicago:20241117T173000
DTSTAMP:20260419T134405
CREATED:20241112T060356Z
LAST-MODIFIED:20241112T060356Z
UID:10001277-1731853800-1731864600@riverartsalliance.org
SUMMARY:November Jazz Jam Supports Polish Museum
DESCRIPTION:Two Fathoms Brewing | 65 E Front St.\nH3OJazz.com \nOn Sunday\, November 17 from 2:30 – 5:30 pm\, H3O Jazz Trio and Two Fathoms Brewing Company will dedicate their monthly Jazz Jam fundraiser to a true Winona treasure – the Kashubian Cultural Institute and Polish Museum. Jazz Jams take place in the warmth of Two Fathoms’ taproom during the winter months. The Kashubian Cultural Institute and Polish Museum is a dedicated non-profit organization that strives to preserve and promote Polish and Kashubian heritage. The museum offers a vibrant and immersive experience into the rich traditions\, history\, and cultural contributions of the Polish and Kashubian communities. H3O Jazz Trio and Two Fathoms Brewing (formerly Island City) have helped support local nonprofits with over $53\,000 in total donations thanks to the generosity of Jazz Jam patrons! Learn more.
URL:https://riverartsalliance.org/event/november-jazz-jam-supports-polish-museum/
LOCATION:Two Fathoms Brewing\, 65 E Front St.\, Winona\, MN\, 55987\, United States
END:VEVENT
END:VCALENDAR