BEGIN:VCALENDAR
VERSION:2.0
PRODID:-//River Arts Alliance - ECPv6.15.20//NONSGML v1.0//EN
CALSCALE:GREGORIAN
METHOD:PUBLISH
X-WR-CALNAME:River Arts Alliance
X-ORIGINAL-URL:https://riverartsalliance.org
X-WR-CALDESC:Events for River Arts Alliance
REFRESH-INTERVAL;VALUE=DURATION:PT1H
X-Robots-Tag:noindex
X-PUBLISHED-TTL:PT1H
BEGIN:VTIMEZONE
TZID:America/Chicago
BEGIN:DAYLIGHT
TZOFFSETFROM:-0600
TZOFFSETTO:-0500
TZNAME:CDT
DTSTART:20230312T080000
END:DAYLIGHT
BEGIN:STANDARD
TZOFFSETFROM:-0500
TZOFFSETTO:-0600
TZNAME:CST
DTSTART:20231105T070000
END:STANDARD
BEGIN:DAYLIGHT
TZOFFSETFROM:-0600
TZOFFSETTO:-0500
TZNAME:CDT
DTSTART:20240310T080000
END:DAYLIGHT
BEGIN:STANDARD
TZOFFSETFROM:-0500
TZOFFSETTO:-0600
TZNAME:CST
DTSTART:20241103T070000
END:STANDARD
BEGIN:DAYLIGHT
TZOFFSETFROM:-0600
TZOFFSETTO:-0500
TZNAME:CDT
DTSTART:20250309T080000
END:DAYLIGHT
BEGIN:STANDARD
TZOFFSETFROM:-0500
TZOFFSETTO:-0600
TZNAME:CST
DTSTART:20251102T070000
END:STANDARD
END:VTIMEZONE
BEGIN:VEVENT
DTSTART;TZID=America/Chicago:20241128T200000
DTEND;TZID=America/Chicago:20241128T200000
DTSTAMP:20260419T134432
CREATED:20241114T182236Z
LAST-MODIFIED:20241114T182236Z
UID:10001281-1732824000-1732824000@riverartsalliance.org
SUMMARY:Janice Kirk Featured on Rendezvous with a Writer Radio Program
DESCRIPTION:Online Here \nAn interview with River Arts Alliance member Janice E. Kirk will be featured on an upcoming episode of Rendezvous with a Writer\, a program from LA Talk Radio. Janice will discuss her recent book\, Drawing Close\, Encountering Joy: An Artist’s Psalms and Prayers for the Earth. The episode will be broadcast on Thursday\, November 28 (Thanksgiving Day) at 8:00 pm Central Time and can be heard online here or watched on Facebook here. Learn more.
URL:https://riverartsalliance.org/event/janice-kirk-featured-on-rendezvous-with-a-writer-radio-program/
LOCATION:MN
END:VEVENT
END:VCALENDAR