BEGIN:VCALENDAR
VERSION:2.0
PRODID:-//River Arts Alliance - ECPv6.15.20//NONSGML v1.0//EN
CALSCALE:GREGORIAN
METHOD:PUBLISH
X-WR-CALNAME:River Arts Alliance
X-ORIGINAL-URL:https://riverartsalliance.org
X-WR-CALDESC:Events for River Arts Alliance
REFRESH-INTERVAL;VALUE=DURATION:PT1H
X-Robots-Tag:noindex
X-PUBLISHED-TTL:PT1H
BEGIN:VTIMEZONE
TZID:America/Chicago
BEGIN:DAYLIGHT
TZOFFSETFROM:-0600
TZOFFSETTO:-0500
TZNAME:CDT
DTSTART:20230312T080000
END:DAYLIGHT
BEGIN:STANDARD
TZOFFSETFROM:-0500
TZOFFSETTO:-0600
TZNAME:CST
DTSTART:20231105T070000
END:STANDARD
BEGIN:DAYLIGHT
TZOFFSETFROM:-0600
TZOFFSETTO:-0500
TZNAME:CDT
DTSTART:20240310T080000
END:DAYLIGHT
BEGIN:STANDARD
TZOFFSETFROM:-0500
TZOFFSETTO:-0600
TZNAME:CST
DTSTART:20241103T070000
END:STANDARD
BEGIN:DAYLIGHT
TZOFFSETFROM:-0600
TZOFFSETTO:-0500
TZNAME:CDT
DTSTART:20250309T080000
END:DAYLIGHT
BEGIN:STANDARD
TZOFFSETFROM:-0500
TZOFFSETTO:-0600
TZNAME:CST
DTSTART:20251102T070000
END:STANDARD
END:VTIMEZONE
BEGIN:VEVENT
DTSTART;TZID=America/Chicago:20241201T130000
DTEND;TZID=America/Chicago:20241201T160000
DTSTAMP:20260419T121258
CREATED:20241126T222442Z
LAST-MODIFIED:20241126T222442Z
UID:10001292-1733058000-1733068800@riverartsalliance.org
SUMMARY:Opening Reception - Dwelling: Collaborative Exhibit at WAC
DESCRIPTION:Winona Arts Center | 228 E 5th St.\nwinonaarts.org \nThe Winona Arts Center is excited to host our collaborative exhibit entitled Dwelling\, opening on Sunday\, December 1 from 1:00-4:00 pm. The exhibit will run from December 1\, 2024 – January 12\, 2025. This exhibit showcases printmaking using woodcuts created by Hiawatha Valley Mental Health Center and a Legacy Grant from the Southeastern Minnesota Arts Council (SEMAC). Participants designed\, carved and printed their own woodcut using the theme “dwelling” as a prompt. Winona Arts Center members were invited to display their own artwork using the same theme. Learn more.
URL:https://riverartsalliance.org/event/opening-reception-dwelling-collaborative-exhibit-at-wac/
LOCATION:Winona Arts Center\, 228 E 5th St.\, Winona\, MN\, 55987\, United States
END:VEVENT
END:VCALENDAR