BEGIN:VCALENDAR
VERSION:2.0
PRODID:-//River Arts Alliance - ECPv6.15.20//NONSGML v1.0//EN
CALSCALE:GREGORIAN
METHOD:PUBLISH
X-ORIGINAL-URL:https://riverartsalliance.org
X-WR-CALDESC:Events for River Arts Alliance
REFRESH-INTERVAL;VALUE=DURATION:PT1H
X-Robots-Tag:noindex
X-PUBLISHED-TTL:PT1H
BEGIN:VTIMEZONE
TZID:America/Chicago
BEGIN:DAYLIGHT
TZOFFSETFROM:-0600
TZOFFSETTO:-0500
TZNAME:CDT
DTSTART:20230312T080000
END:DAYLIGHT
BEGIN:STANDARD
TZOFFSETFROM:-0500
TZOFFSETTO:-0600
TZNAME:CST
DTSTART:20231105T070000
END:STANDARD
BEGIN:DAYLIGHT
TZOFFSETFROM:-0600
TZOFFSETTO:-0500
TZNAME:CDT
DTSTART:20240310T080000
END:DAYLIGHT
BEGIN:STANDARD
TZOFFSETFROM:-0500
TZOFFSETTO:-0600
TZNAME:CST
DTSTART:20241103T070000
END:STANDARD
BEGIN:DAYLIGHT
TZOFFSETFROM:-0600
TZOFFSETTO:-0500
TZNAME:CDT
DTSTART:20250309T080000
END:DAYLIGHT
BEGIN:STANDARD
TZOFFSETFROM:-0500
TZOFFSETTO:-0600
TZNAME:CST
DTSTART:20251102T070000
END:STANDARD
END:VTIMEZONE
BEGIN:VEVENT
DTSTART;TZID=America/Chicago:20241207T100000
DTEND;TZID=America/Chicago:20241207T160000
DTSTAMP:20260419T121359
CREATED:20241122T003741Z
LAST-MODIFIED:20241122T003741Z
UID:10001289-1733565600-1733587200@riverartsalliance.org
SUMMARY:Holiday Free Ink
DESCRIPTION:All Ages 10 am – 1 pm | Adults Only 1:30-4 pm\nWinona Arts Center | 228 E 5th St.\nwinonaarts.org \nThe Winona Arts Center is hosting our Holiday Free Ink on December 7\, 2024. Join in the fun and create holiday-themed monoprints using our etching press! You will be making cards that you can take home to family and friends. No experience necessary – instruction and materials included. Family and friends are welcome between 10:00 am and 1:00 pm and adults only (18 and older) from 1:30 pm to 4:00 pm. Children under 12 must be accompanied by an adult. Learn more.
URL:https://riverartsalliance.org/event/holiday-free-ink/
LOCATION:Winona Arts Center\, 228 E 5th St.\, Winona\, MN\, 55987\, United States
END:VEVENT
BEGIN:VEVENT
DTSTART;TZID=America/Chicago:20241207T130000
DTEND;TZID=America/Chicago:20241207T143000
DTSTAMP:20260419T121359
CREATED:20241122T000845Z
LAST-MODIFIED:20241122T000846Z
UID:10001287-1733576400-1733581800@riverartsalliance.org
SUMMARY:A Holiday Celebration of the Arts
DESCRIPTION:Page Theatre | 700 Terrace Heights\ncotterschools.org/mca \nThis year’s Minnesota Conservatory for the Arts holiday show is a festive celebration of dance\, music\, and theatre\, featuring the talents of local students from across the community. Performers of all ages will take the stage to bring holiday magic to life\, showcasing their hard work and passion for the arts. Learn more.
URL:https://riverartsalliance.org/event/a-holiday-celebration-of-the-arts/2024-12-07/
LOCATION:Page Theatre\, 700 Terrace Heights\, Winona\, MN\, 55987\, United States
END:VEVENT
BEGIN:VEVENT
DTSTART;TZID=America/Chicago:20241207T190000
DTEND;TZID=America/Chicago:20241207T190000
DTSTAMP:20260419T121359
CREATED:20241122T004434Z
LAST-MODIFIED:20241122T004434Z
UID:10001290-1733598000-1733598000@riverartsalliance.org
SUMMARY:Driftless Dance Film Tour at WAC
DESCRIPTION:Winona Arts Center | 228 E 5th St.\nwinonaarts.org \nThe Winona Arts Center is excited to be a part of Sydney Swanson’s dance film project\, the Driftless Dance Film Tour. She has produced eight dance films by seven Minnesota-based dance artists. The artists are: Brianna Johnson\, Erin Drummond\, Erinn Liebhard\, Leila Awadallah\, Sarah Abdel-Jelil\, Sharon Mansur\, and Sydney Swanson. Each film features a unique approach to creating dance films and will leave you curious and inspired. The event is 75 minutes of film and 20-30 minutes of Q & A. Cost is $10 for adults and $5 for children 16 and under. Learn more.
URL:https://riverartsalliance.org/event/driftless-dance-film-tour-at-wac/
LOCATION:Winona Arts Center\, 228 E 5th St.\, Winona\, MN\, 55987\, United States
END:VEVENT
BEGIN:VEVENT
DTSTART;TZID=America/Chicago:20241207T190000
DTEND;TZID=America/Chicago:20241207T190000
DTSTAMP:20260419T121359
CREATED:20241126T225332Z
LAST-MODIFIED:20241126T225332Z
UID:10001294-1733598000-1733598000@riverartsalliance.org
SUMMARY:Messiah Sing-in Celebrates 30 Years December 7
DESCRIPTION:Central Lutheran Church | 259 W Wabasha St. \nApart from a three-year break due to the pandemic\, Winona’s Messiah Sing-in has thrilled audiences since 1991. On Saturday\, December 7 at 7 pm\, this treasured tradition\, led by founding director Dr. Harry A. Mechell\, will once again herald in the holiday season. The performance will feature singers from Bella Musica\, orchestra\, and soloists. Members of the audience will once again lift their voices to favorite choruses from Part One of Handel’s magnificent oratorio\, Messiah. To enable all to attend\, the event will be free and open to all. Proceeds collected from a suggested $10 donation will be given to support the Winona Community Warming Center. Learn more.
URL:https://riverartsalliance.org/event/messiah-sing-in-celebrates-30-years-december-7/
LOCATION:Central Lutheran Church\, 259 W Wabasha St.\, Winona\, MN\, 55987\, United States
END:VEVENT
END:VCALENDAR