BEGIN:VCALENDAR
VERSION:2.0
PRODID:-//River Arts Alliance - ECPv6.15.20//NONSGML v1.0//EN
CALSCALE:GREGORIAN
METHOD:PUBLISH
X-WR-CALNAME:River Arts Alliance
X-ORIGINAL-URL:https://riverartsalliance.org
X-WR-CALDESC:Events for River Arts Alliance
REFRESH-INTERVAL;VALUE=DURATION:PT1H
X-Robots-Tag:noindex
X-PUBLISHED-TTL:PT1H
BEGIN:VTIMEZONE
TZID:America/Chicago
BEGIN:DAYLIGHT
TZOFFSETFROM:-0600
TZOFFSETTO:-0500
TZNAME:CDT
DTSTART:20230312T080000
END:DAYLIGHT
BEGIN:STANDARD
TZOFFSETFROM:-0500
TZOFFSETTO:-0600
TZNAME:CST
DTSTART:20231105T070000
END:STANDARD
BEGIN:DAYLIGHT
TZOFFSETFROM:-0600
TZOFFSETTO:-0500
TZNAME:CDT
DTSTART:20240310T080000
END:DAYLIGHT
BEGIN:STANDARD
TZOFFSETFROM:-0500
TZOFFSETTO:-0600
TZNAME:CST
DTSTART:20241103T070000
END:STANDARD
BEGIN:DAYLIGHT
TZOFFSETFROM:-0600
TZOFFSETTO:-0500
TZNAME:CDT
DTSTART:20250309T080000
END:DAYLIGHT
BEGIN:STANDARD
TZOFFSETFROM:-0500
TZOFFSETTO:-0600
TZNAME:CST
DTSTART:20251102T070000
END:STANDARD
END:VTIMEZONE
BEGIN:VEVENT
DTSTART;TZID=America/Chicago:20241208T130000
DTEND;TZID=America/Chicago:20241208T160000
DTSTAMP:20260419T121237
CREATED:20241203T035643Z
LAST-MODIFIED:20241203T035643Z
UID:10001297-1733662800-1733673600@riverartsalliance.org
SUMMARY:Patina at Elmaro
DESCRIPTION:Elmaro Vineyard | N14756 Delaney Rd. | Trempealeau\, WI\npatinatheband.com \nCome out to Elmaro Vineyard on December 8th to hear Patina play some traditional and contemporary Celtic\, easy listening\, folk\, and original tunes. You can listen to Irish music while you enjoy a glass of Elmaro wine. Sláinte! Learn more.
URL:https://riverartsalliance.org/event/patina-at-elmaro-3/
LOCATION:Elmaro Vineyard\, N14756 Delaney Rd.\, Trempealeau\, WI\, 54661\, United States
END:VEVENT
END:VCALENDAR