BEGIN:VCALENDAR
VERSION:2.0
PRODID:-//River Arts Alliance - ECPv6.15.20//NONSGML v1.0//EN
CALSCALE:GREGORIAN
METHOD:PUBLISH
X-ORIGINAL-URL:https://riverartsalliance.org
X-WR-CALDESC:Events for River Arts Alliance
REFRESH-INTERVAL;VALUE=DURATION:PT1H
X-Robots-Tag:noindex
X-PUBLISHED-TTL:PT1H
BEGIN:VTIMEZONE
TZID:America/Chicago
BEGIN:DAYLIGHT
TZOFFSETFROM:-0600
TZOFFSETTO:-0500
TZNAME:CDT
DTSTART:20230312T080000
END:DAYLIGHT
BEGIN:STANDARD
TZOFFSETFROM:-0500
TZOFFSETTO:-0600
TZNAME:CST
DTSTART:20231105T070000
END:STANDARD
BEGIN:DAYLIGHT
TZOFFSETFROM:-0600
TZOFFSETTO:-0500
TZNAME:CDT
DTSTART:20240310T080000
END:DAYLIGHT
BEGIN:STANDARD
TZOFFSETFROM:-0500
TZOFFSETTO:-0600
TZNAME:CST
DTSTART:20241103T070000
END:STANDARD
BEGIN:DAYLIGHT
TZOFFSETFROM:-0600
TZOFFSETTO:-0500
TZNAME:CDT
DTSTART:20250309T080000
END:DAYLIGHT
BEGIN:STANDARD
TZOFFSETFROM:-0500
TZOFFSETTO:-0600
TZNAME:CST
DTSTART:20251102T070000
END:STANDARD
END:VTIMEZONE
BEGIN:VEVENT
DTSTART;VALUE=DATE:20241210
DTEND;VALUE=DATE:20241211
DTSTAMP:20260419T121413
CREATED:20241122T002909Z
LAST-MODIFIED:20241122T002909Z
UID:10001288-1733788800-1733875199@riverartsalliance.org
SUMMARY:Application Deadline - Bluff Country Studio Art Tour 2025
DESCRIPTION:Bluff Country Studio Art Tour in SE Minnesota is accepting applications for artists and galleries to participate in the 2025 event taking place April 25-27. Studio artists in Winona\, Fillmore and Houston counties are encouraged to apply. A limited number of hosted locations are also available to artists outside the geographic area and those who have studios not suitable to a tour situation. Application deadline is December 10th. Learn more and apply here. River Arts Alliance serves as fiscal sponsor of the Bluff Country Studio Art Tour.
URL:https://riverartsalliance.org/event/application-deadline-bluff-country-studio-art-tour-2025/
LOCATION:MN
END:VEVENT
END:VCALENDAR