BEGIN:VCALENDAR
VERSION:2.0
PRODID:-//River Arts Alliance - ECPv6.15.20//NONSGML v1.0//EN
CALSCALE:GREGORIAN
METHOD:PUBLISH
X-WR-CALNAME:River Arts Alliance
X-ORIGINAL-URL:https://riverartsalliance.org
X-WR-CALDESC:Events for River Arts Alliance
REFRESH-INTERVAL;VALUE=DURATION:PT1H
X-Robots-Tag:noindex
X-PUBLISHED-TTL:PT1H
BEGIN:VTIMEZONE
TZID:America/Chicago
BEGIN:DAYLIGHT
TZOFFSETFROM:-0600
TZOFFSETTO:-0500
TZNAME:CDT
DTSTART:20230312T080000
END:DAYLIGHT
BEGIN:STANDARD
TZOFFSETFROM:-0500
TZOFFSETTO:-0600
TZNAME:CST
DTSTART:20231105T070000
END:STANDARD
BEGIN:DAYLIGHT
TZOFFSETFROM:-0600
TZOFFSETTO:-0500
TZNAME:CDT
DTSTART:20240310T080000
END:DAYLIGHT
BEGIN:STANDARD
TZOFFSETFROM:-0500
TZOFFSETTO:-0600
TZNAME:CST
DTSTART:20241103T070000
END:STANDARD
BEGIN:DAYLIGHT
TZOFFSETFROM:-0600
TZOFFSETTO:-0500
TZNAME:CDT
DTSTART:20250309T080000
END:DAYLIGHT
BEGIN:STANDARD
TZOFFSETFROM:-0500
TZOFFSETTO:-0600
TZNAME:CST
DTSTART:20251102T070000
END:STANDARD
END:VTIMEZONE
BEGIN:VEVENT
DTSTART;TZID=America/Chicago:20241214T110000
DTEND;TZID=America/Chicago:20241214T120000
DTSTAMP:20260419T121256
CREATED:20241203T040804Z
LAST-MODIFIED:20241203T040804Z
UID:10001298-1734174000-1734177600@riverartsalliance.org
SUMMARY:Christmas Joy! Performance by the Winona Brass Band
DESCRIPTION:Central Lutheran Church | 259 W Wabasha St.\nfacebook.com/winonabrassband \nOn December 14th at 11:00 am the Winona Brass Band\, directed by Dr. Janet Heukeshoven\, will perform a concert featuring familiar Christmas carols. The audience will be invited to participate in a carol sing-a-long as part of the concert\, families are encouraged to attend. This concert is being held in collaboration with the annual church Holiday Bake and Craft Sale which begins at 9 am. Come for the sale\, stay for the concert! A soup and sandwich luncheon is available after the performance. Learn more.
URL:https://riverartsalliance.org/event/christmas-joy-performance-by-the-winona-brass-band/
LOCATION:Central Lutheran Church\, 259 W Wabasha St.\, Winona\, MN\, 55987\, United States
END:VEVENT
BEGIN:VEVENT
DTSTART;TZID=America/Chicago:20241214T190000
DTEND;TZID=America/Chicago:20241214T190000
DTSTAMP:20260419T121256
CREATED:20241126T230645Z
LAST-MODIFIED:20241126T230645Z
UID:10001295-1734202800-1734202800@riverartsalliance.org
SUMMARY:Johnson Street Underground Holiday Concert at WAC
DESCRIPTION:Winona Arts Center | 228 E 5th St.\nwinonaarts.org \nThe Winona Arts Center is very excited to welcome back Johnson Street Underground for their annual holiday show on Saturday\, December 14 at 7:00 pm. The coffeehouse and gallery open at 6:00 pm. Tickets are $10 in advance or $15 at the door and are available at Music Mart and Eventbrite until Saturday\, December 14 at 4:00 pm. Johnson Street Underground is Winona’s premiere TTBB acapella group. JSU performs in and around Winona covering a wide variety of songs and styles\, including songs by Green Day\, Dolly Parton\, the Beatles\, and Adele. Members of the group are Matt Schultz\, tenor; Seth Flatten\, lyric tenor; Charlie Opatz\, baritone; and John Chernega\, second bass. Learn more.
URL:https://riverartsalliance.org/event/johnson-street-underground-holiday-concert-at-wac-3/
LOCATION:Winona Arts Center\, 228 E 5th St.\, Winona\, MN\, 55987\, United States
END:VEVENT
END:VCALENDAR