BEGIN:VCALENDAR
VERSION:2.0
PRODID:-//River Arts Alliance - ECPv6.15.20//NONSGML v1.0//EN
CALSCALE:GREGORIAN
METHOD:PUBLISH
X-WR-CALNAME:River Arts Alliance
X-ORIGINAL-URL:https://riverartsalliance.org
X-WR-CALDESC:Events for River Arts Alliance
REFRESH-INTERVAL;VALUE=DURATION:PT1H
X-Robots-Tag:noindex
X-PUBLISHED-TTL:PT1H
BEGIN:VTIMEZONE
TZID:America/Chicago
BEGIN:DAYLIGHT
TZOFFSETFROM:-0600
TZOFFSETTO:-0500
TZNAME:CDT
DTSTART:20230312T080000
END:DAYLIGHT
BEGIN:STANDARD
TZOFFSETFROM:-0500
TZOFFSETTO:-0600
TZNAME:CST
DTSTART:20231105T070000
END:STANDARD
BEGIN:DAYLIGHT
TZOFFSETFROM:-0600
TZOFFSETTO:-0500
TZNAME:CDT
DTSTART:20240310T080000
END:DAYLIGHT
BEGIN:STANDARD
TZOFFSETFROM:-0500
TZOFFSETTO:-0600
TZNAME:CST
DTSTART:20241103T070000
END:STANDARD
BEGIN:DAYLIGHT
TZOFFSETFROM:-0600
TZOFFSETTO:-0500
TZNAME:CDT
DTSTART:20250309T080000
END:DAYLIGHT
BEGIN:STANDARD
TZOFFSETFROM:-0500
TZOFFSETTO:-0600
TZNAME:CST
DTSTART:20251102T070000
END:STANDARD
END:VTIMEZONE
BEGIN:VEVENT
DTSTART;TZID=America/Chicago:20241215T143000
DTEND;TZID=America/Chicago:20241215T173000
DTSTAMP:20260419T121256
CREATED:20241210T200309Z
LAST-MODIFIED:20241210T200309Z
UID:10000465-1734273000-1734283800@riverartsalliance.org
SUMMARY:Holiday Jazz Jam Supports Winona Immigration Network
DESCRIPTION:Two Fathoms Brewing | 65 E Front St.\nH3OJazz.com \nH3O Jazz Trio’s 7th annual holiday Jazz Jam takes place Sunday\, December 15 from 2:30 – 5:30 pm in the warmth of Two Fathoms Brewing Company’s cozy taproom. In addition to all your favorite holiday hits\, the December Jazz Jam will support the Winona Immigration Network. And if that’s not enough\, H3O will also announce their next recording project! \nThe Winona Immigration Network was founded by members from Central Lutheran\, Faith Lutheran\, Cedar Valley Lutheran\, St. Paul’s ELCA/UCC in Lewiston and other community members. Since 2021\, WIN has assisted 4 families from Colombia and Nicaragua resettle in Winona. During the December Jazz Jam\, members of WIN will have baked goods for sale to enjoy while listening to the great music\, or to take home to enjoy for the holidays. All bake sale proceeds will be added to the total donations raised at the event. \nH3O Jazz Trio and Two Fathoms Brewing (formerly Island City) have helped support local nonprofits with nearly $55\,000 in total donations thanks to the generosity of Jazz Jam patrons! Learn more.
URL:https://riverartsalliance.org/event/holiday-jazz-jam-supports-winona-immigration-network/
LOCATION:Two Fathoms Brewing\, 65 E Front St.\, Winona\, MN\, 55987\, United States
END:VEVENT
END:VCALENDAR