BEGIN:VCALENDAR
VERSION:2.0
PRODID:-//River Arts Alliance - ECPv6.15.20//NONSGML v1.0//EN
CALSCALE:GREGORIAN
METHOD:PUBLISH
X-WR-CALNAME:River Arts Alliance
X-ORIGINAL-URL:https://riverartsalliance.org
X-WR-CALDESC:Events for River Arts Alliance
REFRESH-INTERVAL;VALUE=DURATION:PT1H
X-Robots-Tag:noindex
X-PUBLISHED-TTL:PT1H
BEGIN:VTIMEZONE
TZID:America/Chicago
BEGIN:DAYLIGHT
TZOFFSETFROM:-0600
TZOFFSETTO:-0500
TZNAME:CDT
DTSTART:20230312T080000
END:DAYLIGHT
BEGIN:STANDARD
TZOFFSETFROM:-0500
TZOFFSETTO:-0600
TZNAME:CST
DTSTART:20231105T070000
END:STANDARD
BEGIN:DAYLIGHT
TZOFFSETFROM:-0600
TZOFFSETTO:-0500
TZNAME:CDT
DTSTART:20240310T080000
END:DAYLIGHT
BEGIN:STANDARD
TZOFFSETFROM:-0500
TZOFFSETTO:-0600
TZNAME:CST
DTSTART:20241103T070000
END:STANDARD
BEGIN:DAYLIGHT
TZOFFSETFROM:-0600
TZOFFSETTO:-0500
TZNAME:CDT
DTSTART:20250309T080000
END:DAYLIGHT
BEGIN:STANDARD
TZOFFSETFROM:-0500
TZOFFSETTO:-0600
TZNAME:CST
DTSTART:20251102T070000
END:STANDARD
END:VTIMEZONE
BEGIN:VEVENT
DTSTART;TZID=America/Chicago:20241218T120000
DTEND;TZID=America/Chicago:20241218T130000
DTSTAMP:20260419T121237
CREATED:20241211T021305Z
LAST-MODIFIED:20241211T021305Z
UID:10000466-1734523200-1734526800@riverartsalliance.org
SUMMARY:Final Hendrickson Organ Recital December 18
DESCRIPTION:Central Lutheran Church | 259 W Wabasha St.\nsites.google.com/centrallutheranchurch.org/hendrickson-30th \nCentral Lutheran’s year-long celebration of their magnificent Hendrickson Pipe Organ will conclude triumphantly on December 18 from noon to 1 pm. Scott Turkington will perform works by Bach\, Bossi\, Franck\, Boëllmann\, Rowley\, Saint-Martine\, and Vierne. The recital is free and open to all. Donations collected from a freewill offering will support the instrument’s upcoming renovation. Scott Turkington will be familiar to all who have attended Central’s Messiah Sing-In the past two years. As an organ recitalist\, he has played innumerable U.S. recitals\, having made his New York debut at St. Patrick’s Cathedral\, and in Washington\, D.C.\, at the Washington National Cathedral. Turkington currently serves as organist and choirmaster for the Shrine of Our Lady of Guadalupe in La Crosse. Learn more.
URL:https://riverartsalliance.org/event/final-hendrickson-organ-recital-december-18/
LOCATION:Central Lutheran Church\, 259 W Wabasha St.\, Winona\, MN\, 55987\, United States
END:VEVENT
END:VCALENDAR