BEGIN:VCALENDAR
VERSION:2.0
PRODID:-//River Arts Alliance - ECPv6.15.20//NONSGML v1.0//EN
CALSCALE:GREGORIAN
METHOD:PUBLISH
X-ORIGINAL-URL:https://riverartsalliance.org
X-WR-CALDESC:Events for River Arts Alliance
REFRESH-INTERVAL;VALUE=DURATION:PT1H
X-Robots-Tag:noindex
X-PUBLISHED-TTL:PT1H
BEGIN:VTIMEZONE
TZID:America/Chicago
BEGIN:DAYLIGHT
TZOFFSETFROM:-0600
TZOFFSETTO:-0500
TZNAME:CDT
DTSTART:20240310T080000
END:DAYLIGHT
BEGIN:STANDARD
TZOFFSETFROM:-0500
TZOFFSETTO:-0600
TZNAME:CST
DTSTART:20241103T070000
END:STANDARD
BEGIN:DAYLIGHT
TZOFFSETFROM:-0600
TZOFFSETTO:-0500
TZNAME:CDT
DTSTART:20250309T080000
END:DAYLIGHT
BEGIN:STANDARD
TZOFFSETFROM:-0500
TZOFFSETTO:-0600
TZNAME:CST
DTSTART:20251102T070000
END:STANDARD
BEGIN:DAYLIGHT
TZOFFSETFROM:-0600
TZOFFSETTO:-0500
TZNAME:CDT
DTSTART:20260308T080000
END:DAYLIGHT
BEGIN:STANDARD
TZOFFSETFROM:-0500
TZOFFSETTO:-0600
TZNAME:CST
DTSTART:20261101T070000
END:STANDARD
END:VTIMEZONE
BEGIN:VEVENT
DTSTART;TZID=America/Chicago:20250108T170000
DTEND;TZID=America/Chicago:20250108T190000
DTSTAMP:20260419T103839
CREATED:20250115T010517Z
LAST-MODIFIED:20250115T010517Z
UID:10000476-1736355600-1736362800@riverartsalliance.org
SUMMARY:Auditions: Annual Original One-Acts
DESCRIPTION:Valencia Arts Center | 1164 W Howard St.\ntheatredumiss.org \nCalling all performers! Auditions for Theatre du Mississippi’s Annual Original One-Acts are just around the corner. This unique showcase of short plays offers flexible schedules and a welcoming environment for everyone\, from first-time performers to experienced thespians. Auditions are Wednesday\, January 8\, & Thursday\, January 9\, from 5:00 PM – 7:00 PM. Location: Valencia Arts Center\, Academy Theatre\, 1164 W Howard St.\, Winona\, MN. Accessibility: Fully ADA-compliant venue. Performances are evenings: February 28\, March 1\, 7\, & 8 and matinees: March 2 & 9. No preparation needed—audition sides will be provided. Learn more about roles and scripts here.
URL:https://riverartsalliance.org/event/auditions-annual-original-one-acts/2025-01-08/
LOCATION:Minnesota Conservatory for the Arts\, 1164 W 10th St.\, Winona\, MN\, United States
END:VEVENT
END:VCALENDAR