BEGIN:VCALENDAR
VERSION:2.0
PRODID:-//River Arts Alliance - ECPv6.15.20//NONSGML v1.0//EN
CALSCALE:GREGORIAN
METHOD:PUBLISH
X-ORIGINAL-URL:https://riverartsalliance.org
X-WR-CALDESC:Events for River Arts Alliance
REFRESH-INTERVAL;VALUE=DURATION:PT1H
X-Robots-Tag:noindex
X-PUBLISHED-TTL:PT1H
BEGIN:VTIMEZONE
TZID:America/Chicago
BEGIN:DAYLIGHT
TZOFFSETFROM:-0600
TZOFFSETTO:-0500
TZNAME:CDT
DTSTART:20240310T080000
END:DAYLIGHT
BEGIN:STANDARD
TZOFFSETFROM:-0500
TZOFFSETTO:-0600
TZNAME:CST
DTSTART:20241103T070000
END:STANDARD
BEGIN:DAYLIGHT
TZOFFSETFROM:-0600
TZOFFSETTO:-0500
TZNAME:CDT
DTSTART:20250309T080000
END:DAYLIGHT
BEGIN:STANDARD
TZOFFSETFROM:-0500
TZOFFSETTO:-0600
TZNAME:CST
DTSTART:20251102T070000
END:STANDARD
BEGIN:DAYLIGHT
TZOFFSETFROM:-0600
TZOFFSETTO:-0500
TZNAME:CDT
DTSTART:20260308T080000
END:DAYLIGHT
BEGIN:STANDARD
TZOFFSETFROM:-0500
TZOFFSETTO:-0600
TZNAME:CST
DTSTART:20261101T070000
END:STANDARD
END:VTIMEZONE
BEGIN:VEVENT
DTSTART;TZID=America/Chicago:20250113T180000
DTEND;TZID=America/Chicago:20250113T200000
DTSTAMP:20260419T103847
CREATED:20241227T222437Z
LAST-MODIFIED:20241227T222437Z
UID:10000472-1736791200-1736798400@riverartsalliance.org
SUMMARY:Tales from the Barnyard Auditions
DESCRIPTION:Bluffview Montessori School | 1321 Gilmore Ave.\nlinktr.ee/sugarloaftheatre \nSugarloaf Theatre is proud to announce auditions for the annual theatre for young audiences play\, Tales from the Barnyard on Jan. 13th. Tales from the Barnyard is an original play written and directed by Sugarloaf Theatre Executive Director\, Seamus Schwaba. The story follows larger-than-life farm animals with big personalities as they go on unique adventures around the barnyard. All auditions\, rehearsals\, and performances will be held at Bluffview Montessori School. Learn more.
URL:https://riverartsalliance.org/event/tales-from-the-barnyard-auditions/
LOCATION:Bluffview Montessori School\, 1321 Gilmore Ave\, Winona\, MN\, 55987\, United States
END:VEVENT
END:VCALENDAR