BEGIN:VCALENDAR
VERSION:2.0
PRODID:-//River Arts Alliance - ECPv6.15.20//NONSGML v1.0//EN
CALSCALE:GREGORIAN
METHOD:PUBLISH
X-WR-CALNAME:River Arts Alliance
X-ORIGINAL-URL:https://riverartsalliance.org
X-WR-CALDESC:Events for River Arts Alliance
REFRESH-INTERVAL;VALUE=DURATION:PT1H
X-Robots-Tag:noindex
X-PUBLISHED-TTL:PT1H
BEGIN:VTIMEZONE
TZID:America/Chicago
BEGIN:DAYLIGHT
TZOFFSETFROM:-0600
TZOFFSETTO:-0500
TZNAME:CDT
DTSTART:20240310T080000
END:DAYLIGHT
BEGIN:STANDARD
TZOFFSETFROM:-0500
TZOFFSETTO:-0600
TZNAME:CST
DTSTART:20241103T070000
END:STANDARD
BEGIN:DAYLIGHT
TZOFFSETFROM:-0600
TZOFFSETTO:-0500
TZNAME:CDT
DTSTART:20250309T080000
END:DAYLIGHT
BEGIN:STANDARD
TZOFFSETFROM:-0500
TZOFFSETTO:-0600
TZNAME:CST
DTSTART:20251102T070000
END:STANDARD
BEGIN:DAYLIGHT
TZOFFSETFROM:-0600
TZOFFSETTO:-0500
TZNAME:CDT
DTSTART:20260308T080000
END:DAYLIGHT
BEGIN:STANDARD
TZOFFSETFROM:-0500
TZOFFSETTO:-0600
TZNAME:CST
DTSTART:20261101T070000
END:STANDARD
END:VTIMEZONE
BEGIN:VEVENT
DTSTART;TZID=America/Chicago:20250124T180000
DTEND;TZID=America/Chicago:20250124T200000
DTSTAMP:20260419T103722
CREATED:20250117T212143Z
LAST-MODIFIED:20250117T212143Z
UID:10001306-1737741600-1737748800@riverartsalliance.org
SUMMARY:Unwind Fridays Return to Blooming Grounds January 24
DESCRIPTION:Blooming Grounds Coffee House | 50 E 3rd St.\nH3OJazz.com \nIn 2023\, H3O Jazz Trio began their Unwind Friday series – a relaxing way to end the week\, meet with friends\, and enjoy some mellow jazz with the exceptional menu at Blooming Grounds Coffeehouse. On Friday\, January 24\, from 6 – 8 pm\, Unwind Friday returns to Blooming Grounds main location\, 50 E 3rd Street. Unwind Friday with H3O is scheduled on numerous last Fridays throughout the year. An up-to-date schedule is always available at H3OJazz.com. Learn more.
URL:https://riverartsalliance.org/event/unwind-fridays-return-to-blooming-grounds-january-24/
LOCATION:Blooming Grounds Coffee House\, 50 E 3rd St.\, Winona\, MN\, 55987\, United States
END:VEVENT
BEGIN:VEVENT
DTSTART;TZID=America/Chicago:20250124T180000
DTEND;TZID=America/Chicago:20250124T203000
DTSTAMP:20260419T103722
CREATED:20250122T204832Z
LAST-MODIFIED:20250122T204832Z
UID:10001307-1737741600-1737750600@riverartsalliance.org
SUMMARY:Shine: Short Film Screening & Artist Reception
DESCRIPTION:Engage Winona Art Space | 119 E 3rd St.\nshine-thestory.com \nJoin local author\, Rick Hall (in collaboration with the Heart of Winona organization)\, for an evening of storytelling through all mediums: animated film\, narration\, illustration\, and print. Immerse yourself in a suspenseful southern gothic tale from the bygone era of 1920s prohibition. This dramatized animated short\, written and narrated by author Rick Hall\, is told from the first-person perspective of a 14-year-old Irish immigrant boy. Original illustrations and animations\, created by artist Natalia Slattery\, visually tell the story as this haunting tale unfolds. Contains mature language and themes. Tickets are available here. Learn more.
URL:https://riverartsalliance.org/event/shine-short-film-screening-artist-reception/
LOCATION:Engage Winona\, 119 E 3rd St.\, Winona\, MN\, 55987
END:VEVENT
BEGIN:VEVENT
DTSTART;TZID=America/Chicago:20250124T190000
DTEND;TZID=America/Chicago:20250124T220000
DTSTAMP:20260419T103722
CREATED:20250122T205556Z
LAST-MODIFIED:20250122T205556Z
UID:10001308-1737745200-1737756000@riverartsalliance.org
SUMMARY:MMAM Celebrates the Start of 2025 and Three New Exhibitions January 24
DESCRIPTION:Minnesota Marine Art Museum | 800 Riverview Dr.\nmmam.org \nThe Minnesota Marine Art Museum (MMAM) invites art enthusiasts and community members to celebrate the beginning of an inspiring new year at the 2025 MMAM Launch Party. This highly anticipated event will take place on Friday\, January 24\, from 7 PM to 10 PM at the museum\, with tickets priced at $20 for the general public and $15 for MMAM members. This year’s theme\, Rising Tides\, will guide MMAM’s exhibitions and programming\, highlighting the dynamic relationship between art\, water\, nature\, and resilience. Learn more.
URL:https://riverartsalliance.org/event/mmam-celebrates-the-start-of-2025-and-three-new-exhibitions-january-24/
LOCATION:Minnesota Marine Art Museum\, 800 Riverview Dr.\, Winona\, MN\, 55987\, United States
END:VEVENT
END:VCALENDAR