BEGIN:VCALENDAR
VERSION:2.0
PRODID:-//River Arts Alliance - ECPv6.15.20//NONSGML v1.0//EN
CALSCALE:GREGORIAN
METHOD:PUBLISH
X-ORIGINAL-URL:https://riverartsalliance.org
X-WR-CALDESC:Events for River Arts Alliance
REFRESH-INTERVAL;VALUE=DURATION:PT1H
X-Robots-Tag:noindex
X-PUBLISHED-TTL:PT1H
BEGIN:VTIMEZONE
TZID:America/Chicago
BEGIN:DAYLIGHT
TZOFFSETFROM:-0600
TZOFFSETTO:-0500
TZNAME:CDT
DTSTART:20240310T080000
END:DAYLIGHT
BEGIN:STANDARD
TZOFFSETFROM:-0500
TZOFFSETTO:-0600
TZNAME:CST
DTSTART:20241103T070000
END:STANDARD
BEGIN:DAYLIGHT
TZOFFSETFROM:-0600
TZOFFSETTO:-0500
TZNAME:CDT
DTSTART:20250309T080000
END:DAYLIGHT
BEGIN:STANDARD
TZOFFSETFROM:-0500
TZOFFSETTO:-0600
TZNAME:CST
DTSTART:20251102T070000
END:STANDARD
BEGIN:DAYLIGHT
TZOFFSETFROM:-0600
TZOFFSETTO:-0500
TZNAME:CDT
DTSTART:20260308T080000
END:DAYLIGHT
BEGIN:STANDARD
TZOFFSETFROM:-0500
TZOFFSETTO:-0600
TZNAME:CST
DTSTART:20261101T070000
END:STANDARD
END:VTIMEZONE
BEGIN:VEVENT
DTSTART;TZID=America/Chicago:20250125T140000
DTEND;TZID=America/Chicago:20250125T180000
DTSTAMP:20260419T103847
CREATED:20250122T210845Z
LAST-MODIFIED:20250122T210947Z
UID:10001312-1737813600-1737828000@riverartsalliance.org
SUMMARY:The Music Man - Classic Movie at Galesville Old Main Cultural Center
DESCRIPTION:Old Main Cultural Center | 20869 College Ave. | Galesville\, WI\noldmaingalesville.com \nThe Old Main Cultural Center in Galesville will two classic movies that are certain to entertain family members of all ages. The Music Man\, starring Robert Preston and Shirley Jones\, will be featured Saturday\, January 25\, at 2pm with tickets priced at $10 for Adults. The silent classic Charlie Chaplin City Lights will be featured Friday\, January 31\, at 7pm with tiered pricing. Adults $10; School Age $5; and audience members 5 years and under FREE! Movie snacks will be available. Learn more.
URL:https://riverartsalliance.org/event/the-music-man-classic-movie-at-galesville-old-main-cultural-center/
LOCATION:Old Main Cultural Center\, 20869 S College Ave.\, Galesville\, WI\, 54630\, United States
END:VEVENT
BEGIN:VEVENT
DTSTART;TZID=America/Chicago:20250125T190000
DTEND;TZID=America/Chicago:20250125T210000
DTSTAMP:20260419T103847
CREATED:20250123T015131Z
LAST-MODIFIED:20250123T015131Z
UID:10001315-1737831600-1737838800@riverartsalliance.org
SUMMARY:Bon Appetit French Food\, Wine & Film at WAC
DESCRIPTION:Winona Arts Center | 228 E 5th St.\nwinonaarts.org \nAre you ready for a reprieve from the cold winter? Come join us at the Winona Arts Center\, 228 E 5th Street\, for a fun evening of food\, film\, wine\, and warm conversations on January 25\, 2025. Enjoy charcuterie board appetizers\, desserts\, wine\, non-alcoholic beverages and coffee while watching the French film The Taste of Things starring Juliette Binoche and Benoit Magimel. Doors open at 6:00 pm for food\, wine\, and beverages and the movie begins at 7:00 pm. Tickets are $25 and can be purchased at Eventbrite or Music Mart (115 E 3rd St). Learn more.
URL:https://riverartsalliance.org/event/bon-appetit-french-food-wine-film-at-wac/
LOCATION:Winona Arts Center\, 228 E 5th St.\, Winona\, MN\, 55987\, United States
END:VEVENT
BEGIN:VEVENT
DTSTART;TZID=America/Chicago:20250125T190000
DTEND;TZID=America/Chicago:20250125T223000
DTSTAMP:20260419T103847
CREATED:20250123T015425Z
LAST-MODIFIED:20250123T015425Z
UID:10001316-1737831600-1737844200@riverartsalliance.org
SUMMARY:River City Dancers’ Masquerade Ball
DESCRIPTION:Winona Athletic Club | 773 E 5th St\nrivercitydancers.org \nCome celebrate the beginning of 2025! This year’s Winter Formal theme is Masquerade Ball. General Adult Admission $15; Students (college/high school) $10. Costume masks and formal wear are encouraged. (Think Phantom of the Opera\, Mardi Gras\, Venetian\, Shakespeare…). The cost of admission includes an optional Tango and Waltz dance lesson\, taught by Stan and Molly Breitlow\, 7-8:00pm. Our Music is lively. Dances are smoke-free. Zero dance experience is required. Couples and singles of ALL ages welcome! Learn more.
URL:https://riverartsalliance.org/event/river-city-dancers-masquerade-ball/
LOCATION:Winona Athletic Club\, 773 E 5th St.\, Winona\, MN\, 55987\, United States
END:VEVENT
END:VCALENDAR