BEGIN:VCALENDAR
VERSION:2.0
PRODID:-//River Arts Alliance - ECPv6.15.20//NONSGML v1.0//EN
CALSCALE:GREGORIAN
METHOD:PUBLISH
X-ORIGINAL-URL:https://riverartsalliance.org
X-WR-CALDESC:Events for River Arts Alliance
REFRESH-INTERVAL;VALUE=DURATION:PT1H
X-Robots-Tag:noindex
X-PUBLISHED-TTL:PT1H
BEGIN:VTIMEZONE
TZID:America/Chicago
BEGIN:DAYLIGHT
TZOFFSETFROM:-0600
TZOFFSETTO:-0500
TZNAME:CDT
DTSTART:20240310T080000
END:DAYLIGHT
BEGIN:STANDARD
TZOFFSETFROM:-0500
TZOFFSETTO:-0600
TZNAME:CST
DTSTART:20241103T070000
END:STANDARD
BEGIN:DAYLIGHT
TZOFFSETFROM:-0600
TZOFFSETTO:-0500
TZNAME:CDT
DTSTART:20250309T080000
END:DAYLIGHT
BEGIN:STANDARD
TZOFFSETFROM:-0500
TZOFFSETTO:-0600
TZNAME:CST
DTSTART:20251102T070000
END:STANDARD
BEGIN:DAYLIGHT
TZOFFSETFROM:-0600
TZOFFSETTO:-0500
TZNAME:CDT
DTSTART:20260308T080000
END:DAYLIGHT
BEGIN:STANDARD
TZOFFSETFROM:-0500
TZOFFSETTO:-0600
TZNAME:CST
DTSTART:20261101T070000
END:STANDARD
END:VTIMEZONE
BEGIN:VEVENT
DTSTART;TZID=America/Chicago:20250204T190000
DTEND;TZID=America/Chicago:20250204T210000
DTSTAMP:20260419T090523
CREATED:20250123T020540Z
LAST-MODIFIED:20250123T020624Z
UID:10001318-1738695600-1738702800@riverartsalliance.org
SUMMARY:February Laureate Writers’ Series Features Cynthia Marie Hoffman
DESCRIPTION:Blue Heron Coffeehouse | 162 W 2nd St. \nThe Laureate Writers’ Series for February 4 will feature Cynthia Marie Hoffman at the Blue Heron Coffeehouse. Hoffman\, from Madison\, Wisconsin\, is the author of four books of poetry\, and has had her work published in several outstanding journals. Her recent work\, “Exploding Head” takes us into the mind of a woman living with OCD\, otherwise known as Obsessive Compulsive Disorder. Hoffman will present her work and respond to audience questions. An open mic period will follow\, during which members of the audience are welcome to read short works of their own. Learn more.
URL:https://riverartsalliance.org/event/february-laureate-writers-series-features-cynthia-marie-hoffman/
LOCATION:Blue Heron Coffeehouse\, 162 W 2nd St\, Winona\, MN\, 55987\, United States
END:VEVENT
BEGIN:VEVENT
DTSTART;TZID=America/Chicago:20250204T193000
DTEND;TZID=America/Chicago:20250204T210000
DTSTAMP:20260419T090523
CREATED:20250123T020820Z
LAST-MODIFIED:20250123T020820Z
UID:10001319-1738697400-1738702800@riverartsalliance.org
SUMMARY:WSU Faculty Recital – Eric Brisson
DESCRIPTION:DuFresne Performing Arts Center – Recital Hall | Winona State University | 450 Johnson St. \nEric Brisson will present a piano recital featuring J.S. Bach’s French Suite no.2 in C minor\, BWV 813 and Johannes Brahms’ Sonata No. 3 in F minor\, Op. 5.\nAdmission is free. Learn more.
URL:https://riverartsalliance.org/event/wsu-faculty-recital-eric-brisson-2/
LOCATION:WSU DuFresne Performing Arts Center Recital Hall\, 450 Johnson St.\, Winona\, MN\, 55987\, United States
END:VEVENT
END:VCALENDAR