BEGIN:VCALENDAR
VERSION:2.0
PRODID:-//River Arts Alliance - ECPv6.15.20//NONSGML v1.0//EN
CALSCALE:GREGORIAN
METHOD:PUBLISH
X-WR-CALNAME:River Arts Alliance
X-ORIGINAL-URL:https://riverartsalliance.org
X-WR-CALDESC:Events for River Arts Alliance
REFRESH-INTERVAL;VALUE=DURATION:PT1H
X-Robots-Tag:noindex
X-PUBLISHED-TTL:PT1H
BEGIN:VTIMEZONE
TZID:America/Chicago
BEGIN:DAYLIGHT
TZOFFSETFROM:-0600
TZOFFSETTO:-0500
TZNAME:CDT
DTSTART:20240310T080000
END:DAYLIGHT
BEGIN:STANDARD
TZOFFSETFROM:-0500
TZOFFSETTO:-0600
TZNAME:CST
DTSTART:20241103T070000
END:STANDARD
BEGIN:DAYLIGHT
TZOFFSETFROM:-0600
TZOFFSETTO:-0500
TZNAME:CDT
DTSTART:20250309T080000
END:DAYLIGHT
BEGIN:STANDARD
TZOFFSETFROM:-0500
TZOFFSETTO:-0600
TZNAME:CST
DTSTART:20251102T070000
END:STANDARD
BEGIN:DAYLIGHT
TZOFFSETFROM:-0600
TZOFFSETTO:-0500
TZNAME:CDT
DTSTART:20260308T080000
END:DAYLIGHT
BEGIN:STANDARD
TZOFFSETFROM:-0500
TZOFFSETTO:-0600
TZNAME:CST
DTSTART:20261101T070000
END:STANDARD
END:VTIMEZONE
BEGIN:VEVENT
DTSTART;TZID=America/Chicago:20250208T100000
DTEND;TZID=America/Chicago:20250208T170000
DTSTAMP:20260419T090440
CREATED:20250202T152537Z
LAST-MODIFIED:20250202T152915Z
UID:10000906-1739008800-1739034000@riverartsalliance.org
SUMMARY:Art\, Music\, and Community at MMAM Winter Seasonal Saturday\, Feb. 8
DESCRIPTION:Minnesota Marine Art Museum | 800 Riverview Dr.\nmmam.org \nThe Minnesota Marine Art Museum (MMAM) invites visitors to its Winter Seasonal Saturday\, inspired by MMAM’s new literary arts exhibition Once Upon a Shore. This lively event will take place on Saturday\, February 8\, from 10 am to 5 pm\, offering a full day of activities for just $1 admission. The event is free for MMAM members and children 5 and under. Learn more.
URL:https://riverartsalliance.org/event/23423/
LOCATION:Minnesota Marine Art Museum\, 800 Riverview Dr.\, Winona\, MN\, 55987\, United States
END:VEVENT
END:VCALENDAR