BEGIN:VCALENDAR
VERSION:2.0
PRODID:-//River Arts Alliance - ECPv6.15.20//NONSGML v1.0//EN
CALSCALE:GREGORIAN
METHOD:PUBLISH
X-ORIGINAL-URL:https://riverartsalliance.org
X-WR-CALDESC:Events for River Arts Alliance
REFRESH-INTERVAL;VALUE=DURATION:PT1H
X-Robots-Tag:noindex
X-PUBLISHED-TTL:PT1H
BEGIN:VTIMEZONE
TZID:America/Chicago
BEGIN:DAYLIGHT
TZOFFSETFROM:-0600
TZOFFSETTO:-0500
TZNAME:CDT
DTSTART:20240310T080000
END:DAYLIGHT
BEGIN:STANDARD
TZOFFSETFROM:-0500
TZOFFSETTO:-0600
TZNAME:CST
DTSTART:20241103T070000
END:STANDARD
BEGIN:DAYLIGHT
TZOFFSETFROM:-0600
TZOFFSETTO:-0500
TZNAME:CDT
DTSTART:20250309T080000
END:DAYLIGHT
BEGIN:STANDARD
TZOFFSETFROM:-0500
TZOFFSETTO:-0600
TZNAME:CST
DTSTART:20251102T070000
END:STANDARD
BEGIN:DAYLIGHT
TZOFFSETFROM:-0600
TZOFFSETTO:-0500
TZNAME:CDT
DTSTART:20260308T080000
END:DAYLIGHT
BEGIN:STANDARD
TZOFFSETFROM:-0500
TZOFFSETTO:-0600
TZNAME:CST
DTSTART:20261101T070000
END:STANDARD
END:VTIMEZONE
BEGIN:VEVENT
DTSTART;VALUE=DATE:20250312
DTEND;VALUE=DATE:20250320
DTSTAMP:20260419T073955
CREATED:20250202T152244Z
LAST-MODIFIED:20250202T152244Z
UID:10000523-1741737600-1742428799@riverartsalliance.org
SUMMARY:Frozen River Film Festival Celebrates 20 Years with New Film Series
DESCRIPTION:frff.eventive.org \nThis year the Frozen River Film Festival (FRFF) will be celebrating 20 years of bringing documentary films and filmmakers to Winona. The festival begins Sunday\, February 9\, (You can still get home in time to watch the Super Bowl!) and runs through Sunday\, February 16. This year’s event will feature the World Premiere of FRFF’s self-produced documentary\, Beneath the Ice: The Frozen River Film Festival Story. Learn more.
URL:https://riverartsalliance.org/event/frozen-river-film-festival-celebrates-20-years-with-new-film-series/2025-03-12/
LOCATION:MN
END:VEVENT
BEGIN:VEVENT
DTSTART;VALUE=DATE:20250313
DTEND;VALUE=DATE:20250321
DTSTAMP:20260419T073955
CREATED:20250202T152244Z
LAST-MODIFIED:20250202T152244Z
UID:10000524-1741824000-1742515199@riverartsalliance.org
SUMMARY:Frozen River Film Festival Celebrates 20 Years with New Film Series
DESCRIPTION:frff.eventive.org \nThis year the Frozen River Film Festival (FRFF) will be celebrating 20 years of bringing documentary films and filmmakers to Winona. The festival begins Sunday\, February 9\, (You can still get home in time to watch the Super Bowl!) and runs through Sunday\, February 16. This year’s event will feature the World Premiere of FRFF’s self-produced documentary\, Beneath the Ice: The Frozen River Film Festival Story. Learn more.
URL:https://riverartsalliance.org/event/frozen-river-film-festival-celebrates-20-years-with-new-film-series/2025-03-13/
LOCATION:MN
END:VEVENT
BEGIN:VEVENT
DTSTART;VALUE=DATE:20250314
DTEND;VALUE=DATE:20250322
DTSTAMP:20260419T073955
CREATED:20250202T152244Z
LAST-MODIFIED:20250202T152244Z
UID:10000525-1741910400-1742601599@riverartsalliance.org
SUMMARY:Frozen River Film Festival Celebrates 20 Years with New Film Series
DESCRIPTION:frff.eventive.org \nThis year the Frozen River Film Festival (FRFF) will be celebrating 20 years of bringing documentary films and filmmakers to Winona. The festival begins Sunday\, February 9\, (You can still get home in time to watch the Super Bowl!) and runs through Sunday\, February 16. This year’s event will feature the World Premiere of FRFF’s self-produced documentary\, Beneath the Ice: The Frozen River Film Festival Story. Learn more.
URL:https://riverartsalliance.org/event/frozen-river-film-festival-celebrates-20-years-with-new-film-series/2025-03-14/
LOCATION:MN
END:VEVENT
BEGIN:VEVENT
DTSTART;VALUE=DATE:20250315
DTEND;VALUE=DATE:20250323
DTSTAMP:20260419T073955
CREATED:20250202T152244Z
LAST-MODIFIED:20250202T152244Z
UID:10000526-1741996800-1742687999@riverartsalliance.org
SUMMARY:Frozen River Film Festival Celebrates 20 Years with New Film Series
DESCRIPTION:frff.eventive.org \nThis year the Frozen River Film Festival (FRFF) will be celebrating 20 years of bringing documentary films and filmmakers to Winona. The festival begins Sunday\, February 9\, (You can still get home in time to watch the Super Bowl!) and runs through Sunday\, February 16. This year’s event will feature the World Premiere of FRFF’s self-produced documentary\, Beneath the Ice: The Frozen River Film Festival Story. Learn more.
URL:https://riverartsalliance.org/event/frozen-river-film-festival-celebrates-20-years-with-new-film-series/2025-03-15/
LOCATION:MN
END:VEVENT
BEGIN:VEVENT
DTSTART;VALUE=DATE:20250316
DTEND;VALUE=DATE:20250324
DTSTAMP:20260419T073955
CREATED:20250202T152244Z
LAST-MODIFIED:20250202T152244Z
UID:10000527-1742083200-1742774399@riverartsalliance.org
SUMMARY:Frozen River Film Festival Celebrates 20 Years with New Film Series
DESCRIPTION:frff.eventive.org \nThis year the Frozen River Film Festival (FRFF) will be celebrating 20 years of bringing documentary films and filmmakers to Winona. The festival begins Sunday\, February 9\, (You can still get home in time to watch the Super Bowl!) and runs through Sunday\, February 16. This year’s event will feature the World Premiere of FRFF’s self-produced documentary\, Beneath the Ice: The Frozen River Film Festival Story. Learn more.
URL:https://riverartsalliance.org/event/frozen-river-film-festival-celebrates-20-years-with-new-film-series/2025-03-16/
LOCATION:MN
END:VEVENT
BEGIN:VEVENT
DTSTART;VALUE=DATE:20250317
DTEND;VALUE=DATE:20250325
DTSTAMP:20260419T073955
CREATED:20250202T152244Z
LAST-MODIFIED:20250202T152244Z
UID:10000528-1742169600-1742860799@riverartsalliance.org
SUMMARY:Frozen River Film Festival Celebrates 20 Years with New Film Series
DESCRIPTION:frff.eventive.org \nThis year the Frozen River Film Festival (FRFF) will be celebrating 20 years of bringing documentary films and filmmakers to Winona. The festival begins Sunday\, February 9\, (You can still get home in time to watch the Super Bowl!) and runs through Sunday\, February 16. This year’s event will feature the World Premiere of FRFF’s self-produced documentary\, Beneath the Ice: The Frozen River Film Festival Story. Learn more.
URL:https://riverartsalliance.org/event/frozen-river-film-festival-celebrates-20-years-with-new-film-series/2025-03-17/
LOCATION:MN
END:VEVENT
BEGIN:VEVENT
DTSTART;VALUE=DATE:20250318
DTEND;VALUE=DATE:20250326
DTSTAMP:20260419T073955
CREATED:20250202T152244Z
LAST-MODIFIED:20250202T152244Z
UID:10000529-1742256000-1742947199@riverartsalliance.org
SUMMARY:Frozen River Film Festival Celebrates 20 Years with New Film Series
DESCRIPTION:frff.eventive.org \nThis year the Frozen River Film Festival (FRFF) will be celebrating 20 years of bringing documentary films and filmmakers to Winona. The festival begins Sunday\, February 9\, (You can still get home in time to watch the Super Bowl!) and runs through Sunday\, February 16. This year’s event will feature the World Premiere of FRFF’s self-produced documentary\, Beneath the Ice: The Frozen River Film Festival Story. Learn more.
URL:https://riverartsalliance.org/event/frozen-river-film-festival-celebrates-20-years-with-new-film-series/2025-03-18/
LOCATION:MN
END:VEVENT
BEGIN:VEVENT
DTSTART;VALUE=DATE:20250319
DTEND;VALUE=DATE:20250327
DTSTAMP:20260419T073955
CREATED:20250202T152244Z
LAST-MODIFIED:20250202T152244Z
UID:10000530-1742342400-1743033599@riverartsalliance.org
SUMMARY:Frozen River Film Festival Celebrates 20 Years with New Film Series
DESCRIPTION:frff.eventive.org \nThis year the Frozen River Film Festival (FRFF) will be celebrating 20 years of bringing documentary films and filmmakers to Winona. The festival begins Sunday\, February 9\, (You can still get home in time to watch the Super Bowl!) and runs through Sunday\, February 16. This year’s event will feature the World Premiere of FRFF’s self-produced documentary\, Beneath the Ice: The Frozen River Film Festival Story. Learn more.
URL:https://riverartsalliance.org/event/frozen-river-film-festival-celebrates-20-years-with-new-film-series/2025-03-19/
LOCATION:MN
END:VEVENT
BEGIN:VEVENT
DTSTART;TZID=America/Chicago:20250319T180000
DTEND;TZID=America/Chicago:20250319T210000
DTSTAMP:20260419T073955
CREATED:20250306T142021Z
LAST-MODIFIED:20250318T164821Z
UID:10000924-1742407200-1742418000@riverartsalliance.org
SUMMARY:Honoring Women’s History Through Feminist Solidarity with Palestine: A Multimedia Educational Evening
DESCRIPTION:WSU Dorothy B Magnus Black Box Theatre | 450 Johnson St\nFree to Public | Reservations Requested\ntheatredumiss.org \nThis multimedia educational event will center feminist solidarity with Palestine in honor of women’s history month. Performances by Sana Wazwaz\, Andrea Shaker\, and Sharon Mansur will be integrated throughout the evening. The community reading of My Name is Rachel Corrie documents the life of Rachel Corrie. Doors open at 5:30 pm. Learn more.
URL:https://riverartsalliance.org/event/honoring-womens-history-through-feminist-solidarity-with-palestine-a-multimedia-educational-evening/
LOCATION:WSU Dorothy B Magnus Black Box Theatre\, 163 E 2nd St\, Winona\, MN\, 55987\, United States
END:VEVENT
END:VCALENDAR