BEGIN:VCALENDAR
VERSION:2.0
PRODID:-//River Arts Alliance - ECPv6.15.20//NONSGML v1.0//EN
CALSCALE:GREGORIAN
METHOD:PUBLISH
X-ORIGINAL-URL:https://riverartsalliance.org
X-WR-CALDESC:Events for River Arts Alliance
REFRESH-INTERVAL;VALUE=DURATION:PT1H
X-Robots-Tag:noindex
X-PUBLISHED-TTL:PT1H
BEGIN:VTIMEZONE
TZID:America/Chicago
BEGIN:DAYLIGHT
TZOFFSETFROM:-0600
TZOFFSETTO:-0500
TZNAME:CDT
DTSTART:20240310T080000
END:DAYLIGHT
BEGIN:STANDARD
TZOFFSETFROM:-0500
TZOFFSETTO:-0600
TZNAME:CST
DTSTART:20241103T070000
END:STANDARD
BEGIN:DAYLIGHT
TZOFFSETFROM:-0600
TZOFFSETTO:-0500
TZNAME:CDT
DTSTART:20250309T080000
END:DAYLIGHT
BEGIN:STANDARD
TZOFFSETFROM:-0500
TZOFFSETTO:-0600
TZNAME:CST
DTSTART:20251102T070000
END:STANDARD
BEGIN:DAYLIGHT
TZOFFSETFROM:-0600
TZOFFSETTO:-0500
TZNAME:CDT
DTSTART:20260308T080000
END:DAYLIGHT
BEGIN:STANDARD
TZOFFSETFROM:-0500
TZOFFSETTO:-0600
TZNAME:CST
DTSTART:20261101T070000
END:STANDARD
END:VTIMEZONE
BEGIN:VEVENT
DTSTART;VALUE=DATE:20250330
DTEND;VALUE=DATE:20250407
DTSTAMP:20260421T050515
CREATED:20250202T152244Z
LAST-MODIFIED:20250202T152244Z
UID:10000541-1743292800-1743983999@riverartsalliance.org
SUMMARY:Frozen River Film Festival Celebrates 20 Years with New Film Series
DESCRIPTION:frff.eventive.org \nThis year the Frozen River Film Festival (FRFF) will be celebrating 20 years of bringing documentary films and filmmakers to Winona. The festival begins Sunday\, February 9\, (You can still get home in time to watch the Super Bowl!) and runs through Sunday\, February 16. This year’s event will feature the World Premiere of FRFF’s self-produced documentary\, Beneath the Ice: The Frozen River Film Festival Story. Learn more.
URL:https://riverartsalliance.org/event/frozen-river-film-festival-celebrates-20-years-with-new-film-series/2025-03-30/
LOCATION:MN
END:VEVENT
BEGIN:VEVENT
DTSTART;VALUE=DATE:20250331
DTEND;VALUE=DATE:20250408
DTSTAMP:20260421T050515
CREATED:20250202T152244Z
LAST-MODIFIED:20250202T152244Z
UID:10000542-1743379200-1744070399@riverartsalliance.org
SUMMARY:Frozen River Film Festival Celebrates 20 Years with New Film Series
DESCRIPTION:frff.eventive.org \nThis year the Frozen River Film Festival (FRFF) will be celebrating 20 years of bringing documentary films and filmmakers to Winona. The festival begins Sunday\, February 9\, (You can still get home in time to watch the Super Bowl!) and runs through Sunday\, February 16. This year’s event will feature the World Premiere of FRFF’s self-produced documentary\, Beneath the Ice: The Frozen River Film Festival Story. Learn more.
URL:https://riverartsalliance.org/event/frozen-river-film-festival-celebrates-20-years-with-new-film-series/2025-03-31/
LOCATION:MN
END:VEVENT
BEGIN:VEVENT
DTSTART;VALUE=DATE:20250401
DTEND;VALUE=DATE:20250409
DTSTAMP:20260421T050515
CREATED:20250202T152244Z
LAST-MODIFIED:20250202T152244Z
UID:10000543-1743465600-1744156799@riverartsalliance.org
SUMMARY:Frozen River Film Festival Celebrates 20 Years with New Film Series
DESCRIPTION:frff.eventive.org \nThis year the Frozen River Film Festival (FRFF) will be celebrating 20 years of bringing documentary films and filmmakers to Winona. The festival begins Sunday\, February 9\, (You can still get home in time to watch the Super Bowl!) and runs through Sunday\, February 16. This year’s event will feature the World Premiere of FRFF’s self-produced documentary\, Beneath the Ice: The Frozen River Film Festival Story. Learn more.
URL:https://riverartsalliance.org/event/frozen-river-film-festival-celebrates-20-years-with-new-film-series/2025-04-01/
LOCATION:MN
END:VEVENT
BEGIN:VEVENT
DTSTART;VALUE=DATE:20250402
DTEND;VALUE=DATE:20250410
DTSTAMP:20260421T050515
CREATED:20250202T152244Z
LAST-MODIFIED:20250202T152244Z
UID:10000544-1743552000-1744243199@riverartsalliance.org
SUMMARY:Frozen River Film Festival Celebrates 20 Years with New Film Series
DESCRIPTION:frff.eventive.org \nThis year the Frozen River Film Festival (FRFF) will be celebrating 20 years of bringing documentary films and filmmakers to Winona. The festival begins Sunday\, February 9\, (You can still get home in time to watch the Super Bowl!) and runs through Sunday\, February 16. This year’s event will feature the World Premiere of FRFF’s self-produced documentary\, Beneath the Ice: The Frozen River Film Festival Story. Learn more.
URL:https://riverartsalliance.org/event/frozen-river-film-festival-celebrates-20-years-with-new-film-series/2025-04-02/
LOCATION:MN
END:VEVENT
BEGIN:VEVENT
DTSTART;VALUE=DATE:20250403
DTEND;VALUE=DATE:20250411
DTSTAMP:20260421T050515
CREATED:20250202T152244Z
LAST-MODIFIED:20250202T152244Z
UID:10000545-1743638400-1744329599@riverartsalliance.org
SUMMARY:Frozen River Film Festival Celebrates 20 Years with New Film Series
DESCRIPTION:frff.eventive.org \nThis year the Frozen River Film Festival (FRFF) will be celebrating 20 years of bringing documentary films and filmmakers to Winona. The festival begins Sunday\, February 9\, (You can still get home in time to watch the Super Bowl!) and runs through Sunday\, February 16. This year’s event will feature the World Premiere of FRFF’s self-produced documentary\, Beneath the Ice: The Frozen River Film Festival Story. Learn more.
URL:https://riverartsalliance.org/event/frozen-river-film-festival-celebrates-20-years-with-new-film-series/2025-04-03/
LOCATION:MN
END:VEVENT
BEGIN:VEVENT
DTSTART;VALUE=DATE:20250404
DTEND;VALUE=DATE:20250407
DTSTAMP:20260421T050515
CREATED:20250309T192841Z
LAST-MODIFIED:20250309T192841Z
UID:10001343-1743724800-1743983999@riverartsalliance.org
SUMMARY:MCA and Cotter Schools Host Jazz Festival
DESCRIPTION:HBP Theater at St. Cecilia Hall | 1124 W Wabasha St\nwww.cotterschools.org/jazz-festival \nExperience an unforgettable weekend of jazz presented by the Minnesota Conservatory for the Arts (MCA) at Cotter Schools. Students and musicians from across the region will participate in performances\, clinics\, and masterclasses led by expert clinicians and world-class guest artists. This year’s featured artist is Grammy-nominated guitarist and composer Cory Wong. Learn more.
URL:https://riverartsalliance.org/event/mca-and-cotter-schools-host-jazz-festival/
LOCATION:HBP Theater at St. Cecilia Hall\, 1124 W Wabasha St\, Winona\, MN\, 55987\, United States
END:VEVENT
BEGIN:VEVENT
DTSTART;VALUE=DATE:20250404
DTEND;VALUE=DATE:20250412
DTSTAMP:20260421T050515
CREATED:20250202T152244Z
LAST-MODIFIED:20250202T152244Z
UID:10000546-1743724800-1744415999@riverartsalliance.org
SUMMARY:Frozen River Film Festival Celebrates 20 Years with New Film Series
DESCRIPTION:frff.eventive.org \nThis year the Frozen River Film Festival (FRFF) will be celebrating 20 years of bringing documentary films and filmmakers to Winona. The festival begins Sunday\, February 9\, (You can still get home in time to watch the Super Bowl!) and runs through Sunday\, February 16. This year’s event will feature the World Premiere of FRFF’s self-produced documentary\, Beneath the Ice: The Frozen River Film Festival Story. Learn more.
URL:https://riverartsalliance.org/event/frozen-river-film-festival-celebrates-20-years-with-new-film-series/2025-04-04/
LOCATION:MN
END:VEVENT
BEGIN:VEVENT
DTSTART;VALUE=DATE:20250405
DTEND;VALUE=DATE:20250413
DTSTAMP:20260421T050515
CREATED:20250202T152244Z
LAST-MODIFIED:20250202T152244Z
UID:10000547-1743811200-1744502399@riverartsalliance.org
SUMMARY:Frozen River Film Festival Celebrates 20 Years with New Film Series
DESCRIPTION:frff.eventive.org \nThis year the Frozen River Film Festival (FRFF) will be celebrating 20 years of bringing documentary films and filmmakers to Winona. The festival begins Sunday\, February 9\, (You can still get home in time to watch the Super Bowl!) and runs through Sunday\, February 16. This year’s event will feature the World Premiere of FRFF’s self-produced documentary\, Beneath the Ice: The Frozen River Film Festival Story. Learn more.
URL:https://riverartsalliance.org/event/frozen-river-film-festival-celebrates-20-years-with-new-film-series/2025-04-05/
LOCATION:MN
END:VEVENT
BEGIN:VEVENT
DTSTART;VALUE=DATE:20250406
DTEND;VALUE=DATE:20250414
DTSTAMP:20260421T050515
CREATED:20250202T152244Z
LAST-MODIFIED:20250202T152244Z
UID:10000548-1743897600-1744588799@riverartsalliance.org
SUMMARY:Frozen River Film Festival Celebrates 20 Years with New Film Series
DESCRIPTION:frff.eventive.org \nThis year the Frozen River Film Festival (FRFF) will be celebrating 20 years of bringing documentary films and filmmakers to Winona. The festival begins Sunday\, February 9\, (You can still get home in time to watch the Super Bowl!) and runs through Sunday\, February 16. This year’s event will feature the World Premiere of FRFF’s self-produced documentary\, Beneath the Ice: The Frozen River Film Festival Story. Learn more.
URL:https://riverartsalliance.org/event/frozen-river-film-festival-celebrates-20-years-with-new-film-series/2025-04-06/
LOCATION:MN
END:VEVENT
BEGIN:VEVENT
DTSTART;TZID=America/Chicago:20250406T090000
DTEND;TZID=America/Chicago:20250406T160000
DTSTAMP:20260421T050515
CREATED:20250318T153322Z
LAST-MODIFIED:20250318T153322Z
UID:10001427-1743930000-1743955200@riverartsalliance.org
SUMMARY:Two-Day Workshop at MMAM: “Mindful Threads: Sewing Garments with Lindsay Krage”
DESCRIPTION:  \nTwo-Day Workshop: Saturday and Sunday\nRegistration Required | Tuition $250 | MMAM member rate of $240\nMinnesota Marine Art Museum | 800 Riverview Dr.\nminnesotamarineart.org \n  \nAspiring sewists are invited to develop their garment-making skills in the upcoming workshop led by instructor Lindsay Krage. Participants will learn the basics of sewing a beginner-friendly garment using the size-inclusive Ruby Vest pattern by Syd Graham Patterns. The workshop will cover essential skills including pattern preparation\, sizing\, basic terminology\, and the process of following pattern directions. Learn more.
URL:https://riverartsalliance.org/event/two-day-workshop-at-mmam-mindful-threads-sewing-garments-with-lindsay-krage/2025-04-06/
LOCATION:Minnesota Marine Art Museum\, 800 Riverview Dr.\, Winona\, MN\, 55987\, United States
END:VEVENT
BEGIN:VEVENT
DTSTART;TZID=America/Chicago:20250406T133000
DTEND;TZID=America/Chicago:20250406T153000
DTSTAMP:20260421T050515
CREATED:20250316T142354Z
LAST-MODIFIED:20250318T114059Z
UID:10001346-1743946200-1743953400@riverartsalliance.org
SUMMARY:Commonweal Theatre Presents The Half-Life of Marie Curie
DESCRIPTION:Commonweal Theatre Company | 208 Parkway Ave N\, Lanesboro\, MN\ncommonwealtheatre.org \n  \nDon’t miss this wonderful production of The Half-Life of Marie Curie\, directed by Jaclyn June Johnson and featuring Commonweal ensemble members Stela Burdt and Laurie Roberts. The play is based on a true story that illuminates the indomitable power of friendship between two extraordinary scientists. Learn more.
URL:https://riverartsalliance.org/event/commonweal-theatre-presents-the-half-life-of-marie-curie/2025-04-06/
LOCATION:Commonweal Theatre\, 208 Parkway Ave. N\, Lanesboro\, MN\, United States
END:VEVENT
BEGIN:VEVENT
DTSTART;TZID=America/Chicago:20250406T140000
DTEND;TZID=America/Chicago:20250406T150000
DTSTAMP:20260421T050515
CREATED:20250401T124216Z
LAST-MODIFIED:20250401T124216Z
UID:10000967-1743948000-1743951600@riverartsalliance.org
SUMMARY:Storytelling Hour with Sufian Zhemukhov
DESCRIPTION:First Congregational Church | 161 W Broadway St \n  \nJoin award-winning author and storyteller\, Sufian Zhemukhov\, for a full hour of captivating storytelling. His stories are based on his personal experience as a first-generation Russian immigrant. Goodwill donations will help support the Sandbar Storytelling Festival. Learn more.
URL:https://riverartsalliance.org/event/storytelling-hour-with-sufian-zhemukhov/
LOCATION:cafe congo\, 161 West Broadway\, Winona\, MN\, 55987\, United States
END:VEVENT
BEGIN:VEVENT
DTSTART;TZID=America/Chicago:20250406T150000
DTEND;TZID=America/Chicago:20250406T170000
DTSTAMP:20260421T050515
CREATED:20250328T082312Z
LAST-MODIFIED:20250328T082312Z
UID:10000945-1743951600-1743958800@riverartsalliance.org
SUMMARY:Winona Brass Band Spring Concert
DESCRIPTION:Free to the Public | Donations Appreciated\nWinona Middle School Auditorium | 1570 Homer Rd\nfacebook.com/winonabrassband \n  \nThe Winona Brass Band concludes their 31st season with a spring concert at the Winona Middle School Auditorium. The ensemble is excited to return to the Middle School stage for their second performance this season featuring a variety of pieces\, both old and new. Learn more.
URL:https://riverartsalliance.org/event/winona-brass-band-spring-concert/
LOCATION:Winona Middle School Auditorium\, 1570 Homer Rd\, Winona\, MN\, 55987\, United States
END:VEVENT
BEGIN:VEVENT
DTSTART;TZID=America/Chicago:20250406T170000
DTEND;TZID=America/Chicago:20250406T190000
DTSTAMP:20260421T050515
CREATED:20250330T225650Z
LAST-MODIFIED:20251203T164645Z
UID:10000951-1743958800-1743966000@riverartsalliance.org
SUMMARY:Gate City Jazz Band Performs First Sunday Each Month
DESCRIPTION:First Sunday of Each Month | 5-7 pm\nWestfield Golf Course | 1460 W 5th St\nNo Cover Charge\nwestfieldgolfclub.com \nThe Gate City Jazz Band is rising from the ashes of the Blackhorse restaurant where they regularly played\, to once again perform in their new location at the Westfield Golf Course restaurant. Performances are the first Sunday of each month\, 5-7 pm for your listening and toe-tapping pleasure. Come enjoy the cuisine and music at the same time. No cover charge. Learn more.
URL:https://riverartsalliance.org/event/gate-city-jazz-band-performs-first-sunday-each-month/2025-04-06/
LOCATION:MN
END:VEVENT
END:VCALENDAR