BEGIN:VCALENDAR
VERSION:2.0
PRODID:-//River Arts Alliance - ECPv6.15.20//NONSGML v1.0//EN
CALSCALE:GREGORIAN
METHOD:PUBLISH
X-ORIGINAL-URL:https://riverartsalliance.org
X-WR-CALDESC:Events for River Arts Alliance
REFRESH-INTERVAL;VALUE=DURATION:PT1H
X-Robots-Tag:noindex
X-PUBLISHED-TTL:PT1H
BEGIN:VTIMEZONE
TZID:America/Chicago
BEGIN:DAYLIGHT
TZOFFSETFROM:-0600
TZOFFSETTO:-0500
TZNAME:CDT
DTSTART:20240310T080000
END:DAYLIGHT
BEGIN:STANDARD
TZOFFSETFROM:-0500
TZOFFSETTO:-0600
TZNAME:CST
DTSTART:20241103T070000
END:STANDARD
BEGIN:DAYLIGHT
TZOFFSETFROM:-0600
TZOFFSETTO:-0500
TZNAME:CDT
DTSTART:20250309T080000
END:DAYLIGHT
BEGIN:STANDARD
TZOFFSETFROM:-0500
TZOFFSETTO:-0600
TZNAME:CST
DTSTART:20251102T070000
END:STANDARD
BEGIN:DAYLIGHT
TZOFFSETFROM:-0600
TZOFFSETTO:-0500
TZNAME:CDT
DTSTART:20260308T080000
END:DAYLIGHT
BEGIN:STANDARD
TZOFFSETFROM:-0500
TZOFFSETTO:-0600
TZNAME:CST
DTSTART:20261101T070000
END:STANDARD
END:VTIMEZONE
BEGIN:VEVENT
DTSTART;VALUE=DATE:20250418
DTEND;VALUE=DATE:20250609
DTSTAMP:20260421T053115
CREATED:20250420T143307Z
LAST-MODIFIED:20250420T143511Z
UID:10000973-1744934400-1749427199@riverartsalliance.org
SUMMARY:Redwing Poet Artist Collaboration Show Open April 18 to June 8
DESCRIPTION:Thurs-Mon\, 10-5 / Sat\, 9-5\nTues & Wed by Appointment\nRed Wing Arts\, Depot Gallery\, 418 Levee Street\, Red Wing\nredwingarts.org \n  \nEnjoy this stunning interplay of verbal and visual imagery\, now open through early June in Red Wing. This annual show\, now in its 25th year\, attracts regional and national poets and artists\, and is lovingly curated by Red Wing Arts. RAA member Scott Lowery is excited to be participating again\, along with many other SE MN poets. Learn more.
URL:https://riverartsalliance.org/event/redwing-poet-artist-collaboration-show-open-april-18-to-june-8/
LOCATION:redwing\, Red Wing Arts\, Depot Gallery\, 418 Levee Street\, Redwing\, MN\, 55066
END:VEVENT
BEGIN:VEVENT
DTSTART;VALUE=DATE:20250429
DTEND;VALUE=DATE:20250507
DTSTAMP:20260421T053115
CREATED:20250202T152244Z
LAST-MODIFIED:20250202T152244Z
UID:10000571-1745884800-1746575999@riverartsalliance.org
SUMMARY:Frozen River Film Festival Celebrates 20 Years with New Film Series
DESCRIPTION:frff.eventive.org \nThis year the Frozen River Film Festival (FRFF) will be celebrating 20 years of bringing documentary films and filmmakers to Winona. The festival begins Sunday\, February 9\, (You can still get home in time to watch the Super Bowl!) and runs through Sunday\, February 16. This year’s event will feature the World Premiere of FRFF’s self-produced documentary\, Beneath the Ice: The Frozen River Film Festival Story. Learn more.
URL:https://riverartsalliance.org/event/frozen-river-film-festival-celebrates-20-years-with-new-film-series/2025-04-29/
LOCATION:MN
END:VEVENT
BEGIN:VEVENT
DTSTART;VALUE=DATE:20250430
DTEND;VALUE=DATE:20250508
DTSTAMP:20260421T053115
CREATED:20250202T152244Z
LAST-MODIFIED:20250202T152244Z
UID:10000572-1745971200-1746662399@riverartsalliance.org
SUMMARY:Frozen River Film Festival Celebrates 20 Years with New Film Series
DESCRIPTION:frff.eventive.org \nThis year the Frozen River Film Festival (FRFF) will be celebrating 20 years of bringing documentary films and filmmakers to Winona. The festival begins Sunday\, February 9\, (You can still get home in time to watch the Super Bowl!) and runs through Sunday\, February 16. This year’s event will feature the World Premiere of FRFF’s self-produced documentary\, Beneath the Ice: The Frozen River Film Festival Story. Learn more.
URL:https://riverartsalliance.org/event/frozen-river-film-festival-celebrates-20-years-with-new-film-series/2025-04-30/
LOCATION:MN
END:VEVENT
BEGIN:VEVENT
DTSTART;VALUE=DATE:20250501
DTEND;VALUE=DATE:20250509
DTSTAMP:20260421T053115
CREATED:20250202T152244Z
LAST-MODIFIED:20250202T152244Z
UID:10000573-1746057600-1746748799@riverartsalliance.org
SUMMARY:Frozen River Film Festival Celebrates 20 Years with New Film Series
DESCRIPTION:frff.eventive.org \nThis year the Frozen River Film Festival (FRFF) will be celebrating 20 years of bringing documentary films and filmmakers to Winona. The festival begins Sunday\, February 9\, (You can still get home in time to watch the Super Bowl!) and runs through Sunday\, February 16. This year’s event will feature the World Premiere of FRFF’s self-produced documentary\, Beneath the Ice: The Frozen River Film Festival Story. Learn more.
URL:https://riverartsalliance.org/event/frozen-river-film-festival-celebrates-20-years-with-new-film-series/2025-05-01/
LOCATION:MN
END:VEVENT
BEGIN:VEVENT
DTSTART;VALUE=DATE:20250501
DTEND;VALUE=DATE:20250601
DTSTAMP:20260421T053115
CREATED:20250430T103603Z
LAST-MODIFIED:20250430T103603Z
UID:10000978-1746057600-1748735999@riverartsalliance.org
SUMMARY:RAA Announces “Keep the Arts Alive in Winona” Spring Fund Drive
DESCRIPTION:$5\,000 Fundraising Goal\nDonate Now! \n  \nRiver Arts Alliance (RAA) has announced it will be conducting a spring fund drive throughout the month of May. The fund drive theme is “Keep the Arts Alive in Winona” and has a donation goal of $5\,000. \nProceeds from the “Keep the Arts Alive in Winona” fund drive will help RAA continue its work. Learn more.
URL:https://riverartsalliance.org/event/raa-announces-keep-the-arts-alive-in-winona-spring-fund-drive/
LOCATION:MN
END:VEVENT
BEGIN:VEVENT
DTSTART;VALUE=DATE:20250502
DTEND;VALUE=DATE:20250510
DTSTAMP:20260421T053115
CREATED:20250202T152244Z
LAST-MODIFIED:20250202T152244Z
UID:10000574-1746144000-1746835199@riverartsalliance.org
SUMMARY:Frozen River Film Festival Celebrates 20 Years with New Film Series
DESCRIPTION:frff.eventive.org \nThis year the Frozen River Film Festival (FRFF) will be celebrating 20 years of bringing documentary films and filmmakers to Winona. The festival begins Sunday\, February 9\, (You can still get home in time to watch the Super Bowl!) and runs through Sunday\, February 16. This year’s event will feature the World Premiere of FRFF’s self-produced documentary\, Beneath the Ice: The Frozen River Film Festival Story. Learn more.
URL:https://riverartsalliance.org/event/frozen-river-film-festival-celebrates-20-years-with-new-film-series/2025-05-02/
LOCATION:MN
END:VEVENT
BEGIN:VEVENT
DTSTART;VALUE=DATE:20250503
DTEND;VALUE=DATE:20250511
DTSTAMP:20260421T053115
CREATED:20250202T152244Z
LAST-MODIFIED:20250202T152244Z
UID:10000575-1746230400-1746921599@riverartsalliance.org
SUMMARY:Frozen River Film Festival Celebrates 20 Years with New Film Series
DESCRIPTION:frff.eventive.org \nThis year the Frozen River Film Festival (FRFF) will be celebrating 20 years of bringing documentary films and filmmakers to Winona. The festival begins Sunday\, February 9\, (You can still get home in time to watch the Super Bowl!) and runs through Sunday\, February 16. This year’s event will feature the World Premiere of FRFF’s self-produced documentary\, Beneath the Ice: The Frozen River Film Festival Story. Learn more.
URL:https://riverartsalliance.org/event/frozen-river-film-festival-celebrates-20-years-with-new-film-series/2025-05-03/
LOCATION:MN
END:VEVENT
BEGIN:VEVENT
DTSTART;VALUE=DATE:20250504
DTEND;VALUE=DATE:20250512
DTSTAMP:20260421T053115
CREATED:20250202T152244Z
LAST-MODIFIED:20250202T152244Z
UID:10000576-1746316800-1747007999@riverartsalliance.org
SUMMARY:Frozen River Film Festival Celebrates 20 Years with New Film Series
DESCRIPTION:frff.eventive.org \nThis year the Frozen River Film Festival (FRFF) will be celebrating 20 years of bringing documentary films and filmmakers to Winona. The festival begins Sunday\, February 9\, (You can still get home in time to watch the Super Bowl!) and runs through Sunday\, February 16. This year’s event will feature the World Premiere of FRFF’s self-produced documentary\, Beneath the Ice: The Frozen River Film Festival Story. Learn more.
URL:https://riverartsalliance.org/event/frozen-river-film-festival-celebrates-20-years-with-new-film-series/2025-05-04/
LOCATION:MN
END:VEVENT
BEGIN:VEVENT
DTSTART;VALUE=DATE:20250505
DTEND;VALUE=DATE:20250513
DTSTAMP:20260421T053115
CREATED:20250202T152244Z
LAST-MODIFIED:20250202T152244Z
UID:10000577-1746403200-1747094399@riverartsalliance.org
SUMMARY:Frozen River Film Festival Celebrates 20 Years with New Film Series
DESCRIPTION:frff.eventive.org \nThis year the Frozen River Film Festival (FRFF) will be celebrating 20 years of bringing documentary films and filmmakers to Winona. The festival begins Sunday\, February 9\, (You can still get home in time to watch the Super Bowl!) and runs through Sunday\, February 16. This year’s event will feature the World Premiere of FRFF’s self-produced documentary\, Beneath the Ice: The Frozen River Film Festival Story. Learn more.
URL:https://riverartsalliance.org/event/frozen-river-film-festival-celebrates-20-years-with-new-film-series/2025-05-05/
LOCATION:MN
END:VEVENT
BEGIN:VEVENT
DTSTART;VALUE=DATE:20250506
DTEND;VALUE=DATE:20250514
DTSTAMP:20260421T053115
CREATED:20250202T152244Z
LAST-MODIFIED:20250202T152244Z
UID:10000578-1746489600-1747180799@riverartsalliance.org
SUMMARY:Frozen River Film Festival Celebrates 20 Years with New Film Series
DESCRIPTION:frff.eventive.org \nThis year the Frozen River Film Festival (FRFF) will be celebrating 20 years of bringing documentary films and filmmakers to Winona. The festival begins Sunday\, February 9\, (You can still get home in time to watch the Super Bowl!) and runs through Sunday\, February 16. This year’s event will feature the World Premiere of FRFF’s self-produced documentary\, Beneath the Ice: The Frozen River Film Festival Story. Learn more.
URL:https://riverartsalliance.org/event/frozen-river-film-festival-celebrates-20-years-with-new-film-series/2025-05-06/
LOCATION:MN
END:VEVENT
BEGIN:VEVENT
DTSTART;TZID=America/Chicago:20250506T190000
DTEND;TZID=America/Chicago:20250506T200000
DTSTAMP:20260421T053115
CREATED:20250424T110633Z
LAST-MODIFIED:20250424T110633Z
UID:10000976-1746558000-1746561600@riverartsalliance.org
SUMMARY:Poet\, Essayist\, and Jazz Musician Richard Terrill to Read at Blue Heron
DESCRIPTION:Free to the Public\nBlue Heron Coffeehouse | 162 W 2nd St. \nAs part of the continuing Laureate Writers Series\, Poet\, Essayist\, and jazz musician Richard Terrill will present his work at 7 p.m. Tuesday\, May 6 at the Blue Heron Coffeehouse. His most recent books are What Falls Away Is Always: Poems and Conversations and Essentially\, a book of essays. Learn more.
URL:https://riverartsalliance.org/event/poet-essayist-and-jazz-musician-richard-terrill-to-read-at-blue-heron/
LOCATION:Blue Heron Coffeehouse\, 162 W 2nd St\, Winona\, MN\, 55987\, United States
END:VEVENT
END:VCALENDAR