BEGIN:VCALENDAR
VERSION:2.0
PRODID:-//River Arts Alliance - ECPv6.15.20//NONSGML v1.0//EN
CALSCALE:GREGORIAN
METHOD:PUBLISH
X-WR-CALNAME:River Arts Alliance
X-ORIGINAL-URL:https://riverartsalliance.org
X-WR-CALDESC:Events for River Arts Alliance
REFRESH-INTERVAL;VALUE=DURATION:PT1H
X-Robots-Tag:noindex
X-PUBLISHED-TTL:PT1H
BEGIN:VTIMEZONE
TZID:America/Chicago
BEGIN:DAYLIGHT
TZOFFSETFROM:-0600
TZOFFSETTO:-0500
TZNAME:CDT
DTSTART:20240310T080000
END:DAYLIGHT
BEGIN:STANDARD
TZOFFSETFROM:-0500
TZOFFSETTO:-0600
TZNAME:CST
DTSTART:20241103T070000
END:STANDARD
BEGIN:DAYLIGHT
TZOFFSETFROM:-0600
TZOFFSETTO:-0500
TZNAME:CDT
DTSTART:20250309T080000
END:DAYLIGHT
BEGIN:STANDARD
TZOFFSETFROM:-0500
TZOFFSETTO:-0600
TZNAME:CST
DTSTART:20251102T070000
END:STANDARD
BEGIN:DAYLIGHT
TZOFFSETFROM:-0600
TZOFFSETTO:-0500
TZNAME:CDT
DTSTART:20260308T080000
END:DAYLIGHT
BEGIN:STANDARD
TZOFFSETFROM:-0500
TZOFFSETTO:-0600
TZNAME:CST
DTSTART:20261101T070000
END:STANDARD
END:VTIMEZONE
BEGIN:VEVENT
DTSTART;VALUE=DATE:20250629
DTEND;VALUE=DATE:20250707
DTSTAMP:20260421T032945
CREATED:20250202T152244Z
LAST-MODIFIED:20250202T152244Z
UID:10000632-1751155200-1751846399@riverartsalliance.org
SUMMARY:Frozen River Film Festival Celebrates 20 Years with New Film Series
DESCRIPTION:frff.eventive.org \nThis year the Frozen River Film Festival (FRFF) will be celebrating 20 years of bringing documentary films and filmmakers to Winona. The festival begins Sunday\, February 9\, (You can still get home in time to watch the Super Bowl!) and runs through Sunday\, February 16. This year’s event will feature the World Premiere of FRFF’s self-produced documentary\, Beneath the Ice: The Frozen River Film Festival Story. Learn more.
URL:https://riverartsalliance.org/event/frozen-river-film-festival-celebrates-20-years-with-new-film-series/2025-06-29/
LOCATION:MN
END:VEVENT
BEGIN:VEVENT
DTSTART;VALUE=DATE:20250630
DTEND;VALUE=DATE:20250708
DTSTAMP:20260421T032945
CREATED:20250202T152244Z
LAST-MODIFIED:20250202T152244Z
UID:10000633-1751241600-1751932799@riverartsalliance.org
SUMMARY:Frozen River Film Festival Celebrates 20 Years with New Film Series
DESCRIPTION:frff.eventive.org \nThis year the Frozen River Film Festival (FRFF) will be celebrating 20 years of bringing documentary films and filmmakers to Winona. The festival begins Sunday\, February 9\, (You can still get home in time to watch the Super Bowl!) and runs through Sunday\, February 16. This year’s event will feature the World Premiere of FRFF’s self-produced documentary\, Beneath the Ice: The Frozen River Film Festival Story. Learn more.
URL:https://riverartsalliance.org/event/frozen-river-film-festival-celebrates-20-years-with-new-film-series/2025-06-30/
LOCATION:MN
END:VEVENT
BEGIN:VEVENT
DTSTART;VALUE=DATE:20250701
DTEND;VALUE=DATE:20250709
DTSTAMP:20260421T032945
CREATED:20250202T152244Z
LAST-MODIFIED:20250202T152244Z
UID:10000634-1751328000-1752019199@riverartsalliance.org
SUMMARY:Frozen River Film Festival Celebrates 20 Years with New Film Series
DESCRIPTION:frff.eventive.org \nThis year the Frozen River Film Festival (FRFF) will be celebrating 20 years of bringing documentary films and filmmakers to Winona. The festival begins Sunday\, February 9\, (You can still get home in time to watch the Super Bowl!) and runs through Sunday\, February 16. This year’s event will feature the World Premiere of FRFF’s self-produced documentary\, Beneath the Ice: The Frozen River Film Festival Story. Learn more.
URL:https://riverartsalliance.org/event/frozen-river-film-festival-celebrates-20-years-with-new-film-series/2025-07-01/
LOCATION:MN
END:VEVENT
BEGIN:VEVENT
DTSTART;VALUE=DATE:20250702
DTEND;VALUE=DATE:20250710
DTSTAMP:20260421T032945
CREATED:20250202T152244Z
LAST-MODIFIED:20250202T152244Z
UID:10000635-1751414400-1752105599@riverartsalliance.org
SUMMARY:Frozen River Film Festival Celebrates 20 Years with New Film Series
DESCRIPTION:frff.eventive.org \nThis year the Frozen River Film Festival (FRFF) will be celebrating 20 years of bringing documentary films and filmmakers to Winona. The festival begins Sunday\, February 9\, (You can still get home in time to watch the Super Bowl!) and runs through Sunday\, February 16. This year’s event will feature the World Premiere of FRFF’s self-produced documentary\, Beneath the Ice: The Frozen River Film Festival Story. Learn more.
URL:https://riverartsalliance.org/event/frozen-river-film-festival-celebrates-20-years-with-new-film-series/2025-07-02/
LOCATION:MN
END:VEVENT
BEGIN:VEVENT
DTSTART;VALUE=DATE:20250703
DTEND;VALUE=DATE:20250711
DTSTAMP:20260421T032945
CREATED:20250202T152244Z
LAST-MODIFIED:20250202T152244Z
UID:10000636-1751500800-1752191999@riverartsalliance.org
SUMMARY:Frozen River Film Festival Celebrates 20 Years with New Film Series
DESCRIPTION:frff.eventive.org \nThis year the Frozen River Film Festival (FRFF) will be celebrating 20 years of bringing documentary films and filmmakers to Winona. The festival begins Sunday\, February 9\, (You can still get home in time to watch the Super Bowl!) and runs through Sunday\, February 16. This year’s event will feature the World Premiere of FRFF’s self-produced documentary\, Beneath the Ice: The Frozen River Film Festival Story. Learn more.
URL:https://riverartsalliance.org/event/frozen-river-film-festival-celebrates-20-years-with-new-film-series/2025-07-03/
LOCATION:MN
END:VEVENT
BEGIN:VEVENT
DTSTART;VALUE=DATE:20250704
DTEND;VALUE=DATE:20250712
DTSTAMP:20260421T032945
CREATED:20250202T152244Z
LAST-MODIFIED:20250202T152244Z
UID:10000637-1751587200-1752278399@riverartsalliance.org
SUMMARY:Frozen River Film Festival Celebrates 20 Years with New Film Series
DESCRIPTION:frff.eventive.org \nThis year the Frozen River Film Festival (FRFF) will be celebrating 20 years of bringing documentary films and filmmakers to Winona. The festival begins Sunday\, February 9\, (You can still get home in time to watch the Super Bowl!) and runs through Sunday\, February 16. This year’s event will feature the World Premiere of FRFF’s self-produced documentary\, Beneath the Ice: The Frozen River Film Festival Story. Learn more.
URL:https://riverartsalliance.org/event/frozen-river-film-festival-celebrates-20-years-with-new-film-series/2025-07-04/
LOCATION:MN
END:VEVENT
BEGIN:VEVENT
DTSTART;VALUE=DATE:20250705
DTEND;VALUE=DATE:20250713
DTSTAMP:20260421T032945
CREATED:20250202T152244Z
LAST-MODIFIED:20250202T152244Z
UID:10000638-1751673600-1752364799@riverartsalliance.org
SUMMARY:Frozen River Film Festival Celebrates 20 Years with New Film Series
DESCRIPTION:frff.eventive.org \nThis year the Frozen River Film Festival (FRFF) will be celebrating 20 years of bringing documentary films and filmmakers to Winona. The festival begins Sunday\, February 9\, (You can still get home in time to watch the Super Bowl!) and runs through Sunday\, February 16. This year’s event will feature the World Premiere of FRFF’s self-produced documentary\, Beneath the Ice: The Frozen River Film Festival Story. Learn more.
URL:https://riverartsalliance.org/event/frozen-river-film-festival-celebrates-20-years-with-new-film-series/2025-07-05/
LOCATION:MN
END:VEVENT
BEGIN:VEVENT
DTSTART;VALUE=DATE:20250705
DTEND;VALUE=DATE:20251101
DTSTAMP:20260421T032945
CREATED:20250720T125611Z
LAST-MODIFIED:20250720T125611Z
UID:10001603-1751673600-1761955199@riverartsalliance.org
SUMMARY:Art on the Fly- Schwaba Drama Exhibit
DESCRIPTION:Now through Oct 31\nLa Crosse Regional Airport\n2850 Airport Rd | La Crosse\, WI\nJamie Schwaba \nRiver Arts Alliance Member\, Jamie Schwaba of Schwaba Drama Art has over 30 pieces on exhibit at the La Crosse Regional Airport in La Crosse\, WI as a part of the Art on the Fly program. Learn more. \n  \n 
URL:https://riverartsalliance.org/event/art-on-the-fly-schwaba-drama-exhibit/
LOCATION:la crosse regional airport\, 2850 Airport Rd\, La Crosse\, WI\, 54603\, United States
END:VEVENT
BEGIN:VEVENT
DTSTART;VALUE=DATE:20250706
DTEND;VALUE=DATE:20250714
DTSTAMP:20260421T032945
CREATED:20250202T152244Z
LAST-MODIFIED:20250202T152244Z
UID:10000639-1751760000-1752451199@riverartsalliance.org
SUMMARY:Frozen River Film Festival Celebrates 20 Years with New Film Series
DESCRIPTION:frff.eventive.org \nThis year the Frozen River Film Festival (FRFF) will be celebrating 20 years of bringing documentary films and filmmakers to Winona. The festival begins Sunday\, February 9\, (You can still get home in time to watch the Super Bowl!) and runs through Sunday\, February 16. This year’s event will feature the World Premiere of FRFF’s self-produced documentary\, Beneath the Ice: The Frozen River Film Festival Story. Learn more.
URL:https://riverartsalliance.org/event/frozen-river-film-festival-celebrates-20-years-with-new-film-series/2025-07-06/
LOCATION:MN
END:VEVENT
BEGIN:VEVENT
DTSTART;TZID=America/Chicago:20250706T133000
DTEND;TZID=America/Chicago:20250706T160000
DTSTAMP:20260421T032945
CREATED:20250319T172710Z
LAST-MODIFIED:20250319T173102Z
UID:10001452-1751808600-1751817600@riverartsalliance.org
SUMMARY:Commonweal Theatre Presents The Angel Next Door
DESCRIPTION:Preview Dates\nSaturday\, May 17 | 7:30-9:30 pm\nSunday\, May 18 | 1:30-3:30 pm\nThursday & Friday | May 22\, 23 | 7:30-9:30 pm \nFull Run Dates Listed on RAA Event Page \nCommonweal Theatre Company\n208 Parkway Ave N\, Lanesboro\, MN\ncommonwealtheatre.org \n  \nJoin the Commonweal Theatre Company for Paul Slade Smith’s romantic screwball comedy\, The Angel Next Door. Journey to an opulent Newport mansion in 1948\, where playwrights\, actors\, and a star-struck novelist gather to work on their next Broadway hit! (Never mind the housekeeper who wants them gone.) Learn more.
URL:https://riverartsalliance.org/event/commonweal-theatre-presents-the-angel-next-door/2025-07-06/
LOCATION:Commonweal Theatre\, 208 Parkway Ave. N\, Lanesboro\, MN\, United States
END:VEVENT
BEGIN:VEVENT
DTSTART;TZID=America/Chicago:20250706T170000
DTEND;TZID=America/Chicago:20250706T190000
DTSTAMP:20260421T032945
CREATED:20250330T225650Z
LAST-MODIFIED:20251203T164645Z
UID:10000954-1751821200-1751828400@riverartsalliance.org
SUMMARY:Gate City Jazz Band Performs First Sunday Each Month
DESCRIPTION:First Sunday of Each Month | 5-7 pm\nWestfield Golf Course | 1460 W 5th St\nNo Cover Charge\nwestfieldgolfclub.com \nThe Gate City Jazz Band is rising from the ashes of the Blackhorse restaurant where they regularly played\, to once again perform in their new location at the Westfield Golf Course restaurant. Performances are the first Sunday of each month\, 5-7 pm for your listening and toe-tapping pleasure. Come enjoy the cuisine and music at the same time. No cover charge. Learn more.
URL:https://riverartsalliance.org/event/gate-city-jazz-band-performs-first-sunday-each-month/2025-07-06/
LOCATION:MN
END:VEVENT
END:VCALENDAR