BEGIN:VCALENDAR
VERSION:2.0
PRODID:-//River Arts Alliance - ECPv6.15.20//NONSGML v1.0//EN
CALSCALE:GREGORIAN
METHOD:PUBLISH
X-ORIGINAL-URL:https://riverartsalliance.org
X-WR-CALDESC:Events for River Arts Alliance
REFRESH-INTERVAL;VALUE=DURATION:PT1H
X-Robots-Tag:noindex
X-PUBLISHED-TTL:PT1H
BEGIN:VTIMEZONE
TZID:America/Chicago
BEGIN:DAYLIGHT
TZOFFSETFROM:-0600
TZOFFSETTO:-0500
TZNAME:CDT
DTSTART:20240310T080000
END:DAYLIGHT
BEGIN:STANDARD
TZOFFSETFROM:-0500
TZOFFSETTO:-0600
TZNAME:CST
DTSTART:20241103T070000
END:STANDARD
BEGIN:DAYLIGHT
TZOFFSETFROM:-0600
TZOFFSETTO:-0500
TZNAME:CDT
DTSTART:20250309T080000
END:DAYLIGHT
BEGIN:STANDARD
TZOFFSETFROM:-0500
TZOFFSETTO:-0600
TZNAME:CST
DTSTART:20251102T070000
END:STANDARD
BEGIN:DAYLIGHT
TZOFFSETFROM:-0600
TZOFFSETTO:-0500
TZNAME:CDT
DTSTART:20260308T080000
END:DAYLIGHT
BEGIN:STANDARD
TZOFFSETFROM:-0500
TZOFFSETTO:-0600
TZNAME:CST
DTSTART:20261101T070000
END:STANDARD
END:VTIMEZONE
BEGIN:VEVENT
DTSTART;VALUE=DATE:20250418
DTEND;VALUE=DATE:20250609
DTSTAMP:20260421T072217
CREATED:20250420T143307Z
LAST-MODIFIED:20250420T143511Z
UID:10000973-1744934400-1749427199@riverartsalliance.org
SUMMARY:Redwing Poet Artist Collaboration Show Open April 18 to June 8
DESCRIPTION:Thurs-Mon\, 10-5 / Sat\, 9-5\nTues & Wed by Appointment\nRed Wing Arts\, Depot Gallery\, 418 Levee Street\, Red Wing\nredwingarts.org \n  \nEnjoy this stunning interplay of verbal and visual imagery\, now open through early June in Red Wing. This annual show\, now in its 25th year\, attracts regional and national poets and artists\, and is lovingly curated by Red Wing Arts. RAA member Scott Lowery is excited to be participating again\, along with many other SE MN poets. Learn more.
URL:https://riverartsalliance.org/event/redwing-poet-artist-collaboration-show-open-april-18-to-june-8/
LOCATION:redwing\, Red Wing Arts\, Depot Gallery\, 418 Levee Street\, Redwing\, MN\, 55066
END:VEVENT
BEGIN:VEVENT
DTSTART;VALUE=DATE:20250501
DTEND;VALUE=DATE:20250601
DTSTAMP:20260421T072217
CREATED:20250430T103603Z
LAST-MODIFIED:20250430T103603Z
UID:10000978-1746057600-1748735999@riverartsalliance.org
SUMMARY:RAA Announces “Keep the Arts Alive in Winona” Spring Fund Drive
DESCRIPTION:$5\,000 Fundraising Goal\nDonate Now! \n  \nRiver Arts Alliance (RAA) has announced it will be conducting a spring fund drive throughout the month of May. The fund drive theme is “Keep the Arts Alive in Winona” and has a donation goal of $5\,000. \nProceeds from the “Keep the Arts Alive in Winona” fund drive will help RAA continue its work. Learn more.
URL:https://riverartsalliance.org/event/raa-announces-keep-the-arts-alive-in-winona-spring-fund-drive/
LOCATION:MN
END:VEVENT
BEGIN:VEVENT
DTSTART;VALUE=DATE:20250521
DTEND;VALUE=DATE:20250529
DTSTAMP:20260421T072217
CREATED:20250202T152244Z
LAST-MODIFIED:20250202T152244Z
UID:10000593-1747785600-1748476799@riverartsalliance.org
SUMMARY:Frozen River Film Festival Celebrates 20 Years with New Film Series
DESCRIPTION:frff.eventive.org \nThis year the Frozen River Film Festival (FRFF) will be celebrating 20 years of bringing documentary films and filmmakers to Winona. The festival begins Sunday\, February 9\, (You can still get home in time to watch the Super Bowl!) and runs through Sunday\, February 16. This year’s event will feature the World Premiere of FRFF’s self-produced documentary\, Beneath the Ice: The Frozen River Film Festival Story. Learn more.
URL:https://riverartsalliance.org/event/frozen-river-film-festival-celebrates-20-years-with-new-film-series/2025-05-21/
LOCATION:MN
END:VEVENT
BEGIN:VEVENT
DTSTART;VALUE=DATE:20250522
DTEND;VALUE=DATE:20250530
DTSTAMP:20260421T072217
CREATED:20250202T152244Z
LAST-MODIFIED:20250202T152244Z
UID:10000594-1747872000-1748563199@riverartsalliance.org
SUMMARY:Frozen River Film Festival Celebrates 20 Years with New Film Series
DESCRIPTION:frff.eventive.org \nThis year the Frozen River Film Festival (FRFF) will be celebrating 20 years of bringing documentary films and filmmakers to Winona. The festival begins Sunday\, February 9\, (You can still get home in time to watch the Super Bowl!) and runs through Sunday\, February 16. This year’s event will feature the World Premiere of FRFF’s self-produced documentary\, Beneath the Ice: The Frozen River Film Festival Story. Learn more.
URL:https://riverartsalliance.org/event/frozen-river-film-festival-celebrates-20-years-with-new-film-series/2025-05-22/
LOCATION:MN
END:VEVENT
BEGIN:VEVENT
DTSTART;VALUE=DATE:20250523
DTEND;VALUE=DATE:20250531
DTSTAMP:20260421T072217
CREATED:20250202T152244Z
LAST-MODIFIED:20250202T152244Z
UID:10000595-1747958400-1748649599@riverartsalliance.org
SUMMARY:Frozen River Film Festival Celebrates 20 Years with New Film Series
DESCRIPTION:frff.eventive.org \nThis year the Frozen River Film Festival (FRFF) will be celebrating 20 years of bringing documentary films and filmmakers to Winona. The festival begins Sunday\, February 9\, (You can still get home in time to watch the Super Bowl!) and runs through Sunday\, February 16. This year’s event will feature the World Premiere of FRFF’s self-produced documentary\, Beneath the Ice: The Frozen River Film Festival Story. Learn more.
URL:https://riverartsalliance.org/event/frozen-river-film-festival-celebrates-20-years-with-new-film-series/2025-05-23/
LOCATION:MN
END:VEVENT
BEGIN:VEVENT
DTSTART;VALUE=DATE:20250524
DTEND;VALUE=DATE:20250601
DTSTAMP:20260421T072217
CREATED:20250202T152244Z
LAST-MODIFIED:20250202T152244Z
UID:10000596-1748044800-1748735999@riverartsalliance.org
SUMMARY:Frozen River Film Festival Celebrates 20 Years with New Film Series
DESCRIPTION:frff.eventive.org \nThis year the Frozen River Film Festival (FRFF) will be celebrating 20 years of bringing documentary films and filmmakers to Winona. The festival begins Sunday\, February 9\, (You can still get home in time to watch the Super Bowl!) and runs through Sunday\, February 16. This year’s event will feature the World Premiere of FRFF’s self-produced documentary\, Beneath the Ice: The Frozen River Film Festival Story. Learn more.
URL:https://riverartsalliance.org/event/frozen-river-film-festival-celebrates-20-years-with-new-film-series/2025-05-24/
LOCATION:MN
END:VEVENT
BEGIN:VEVENT
DTSTART;VALUE=DATE:20250525
DTEND;VALUE=DATE:20250602
DTSTAMP:20260421T072217
CREATED:20250202T152244Z
LAST-MODIFIED:20250202T152244Z
UID:10000597-1748131200-1748822399@riverartsalliance.org
SUMMARY:Frozen River Film Festival Celebrates 20 Years with New Film Series
DESCRIPTION:frff.eventive.org \nThis year the Frozen River Film Festival (FRFF) will be celebrating 20 years of bringing documentary films and filmmakers to Winona. The festival begins Sunday\, February 9\, (You can still get home in time to watch the Super Bowl!) and runs through Sunday\, February 16. This year’s event will feature the World Premiere of FRFF’s self-produced documentary\, Beneath the Ice: The Frozen River Film Festival Story. Learn more.
URL:https://riverartsalliance.org/event/frozen-river-film-festival-celebrates-20-years-with-new-film-series/2025-05-25/
LOCATION:MN
END:VEVENT
BEGIN:VEVENT
DTSTART;VALUE=DATE:20250526
DTEND;VALUE=DATE:20250603
DTSTAMP:20260421T072217
CREATED:20250202T152244Z
LAST-MODIFIED:20250202T152244Z
UID:10000598-1748217600-1748908799@riverartsalliance.org
SUMMARY:Frozen River Film Festival Celebrates 20 Years with New Film Series
DESCRIPTION:frff.eventive.org \nThis year the Frozen River Film Festival (FRFF) will be celebrating 20 years of bringing documentary films and filmmakers to Winona. The festival begins Sunday\, February 9\, (You can still get home in time to watch the Super Bowl!) and runs through Sunday\, February 16. This year’s event will feature the World Premiere of FRFF’s self-produced documentary\, Beneath the Ice: The Frozen River Film Festival Story. Learn more.
URL:https://riverartsalliance.org/event/frozen-river-film-festival-celebrates-20-years-with-new-film-series/2025-05-26/
LOCATION:MN
END:VEVENT
BEGIN:VEVENT
DTSTART;VALUE=DATE:20250527
DTEND;VALUE=DATE:20250604
DTSTAMP:20260421T072217
CREATED:20250202T152244Z
LAST-MODIFIED:20250202T152244Z
UID:10000599-1748304000-1748995199@riverartsalliance.org
SUMMARY:Frozen River Film Festival Celebrates 20 Years with New Film Series
DESCRIPTION:frff.eventive.org \nThis year the Frozen River Film Festival (FRFF) will be celebrating 20 years of bringing documentary films and filmmakers to Winona. The festival begins Sunday\, February 9\, (You can still get home in time to watch the Super Bowl!) and runs through Sunday\, February 16. This year’s event will feature the World Premiere of FRFF’s self-produced documentary\, Beneath the Ice: The Frozen River Film Festival Story. Learn more.
URL:https://riverartsalliance.org/event/frozen-river-film-festival-celebrates-20-years-with-new-film-series/2025-05-27/
LOCATION:MN
END:VEVENT
BEGIN:VEVENT
DTSTART;VALUE=DATE:20250528
DTEND;VALUE=DATE:20250605
DTSTAMP:20260421T072217
CREATED:20250202T152244Z
LAST-MODIFIED:20250202T152244Z
UID:10000600-1748390400-1749081599@riverartsalliance.org
SUMMARY:Frozen River Film Festival Celebrates 20 Years with New Film Series
DESCRIPTION:frff.eventive.org \nThis year the Frozen River Film Festival (FRFF) will be celebrating 20 years of bringing documentary films and filmmakers to Winona. The festival begins Sunday\, February 9\, (You can still get home in time to watch the Super Bowl!) and runs through Sunday\, February 16. This year’s event will feature the World Premiere of FRFF’s self-produced documentary\, Beneath the Ice: The Frozen River Film Festival Story. Learn more.
URL:https://riverartsalliance.org/event/frozen-river-film-festival-celebrates-20-years-with-new-film-series/2025-05-28/
LOCATION:MN
END:VEVENT
BEGIN:VEVENT
DTSTART;TZID=America/Chicago:20250528T173000
DTEND;TZID=America/Chicago:20250528T193000
DTSTAMP:20260421T072217
CREATED:20250512T010031Z
LAST-MODIFIED:20250512T010031Z
UID:10001568-1748453400-1748460600@riverartsalliance.org
SUMMARY:WAC Offers Collagraph Printing Making with Preston Lawing
DESCRIPTION:Cost: $150\nWinona Arts Center | 228 E 5th St \n  \nJoin the momentum in the Winona Arts Center Print Studio to Explore Collagraph Printmaking with Preston Lawing. Learn more.
URL:https://riverartsalliance.org/event/wac-offers-collagraph-printing-making-with-preston-lawing/2025-05-28/
LOCATION:MN
END:VEVENT
BEGIN:VEVENT
DTSTART;VALUE=DATE:20250529
DTEND;VALUE=DATE:20250606
DTSTAMP:20260421T072217
CREATED:20250202T152244Z
LAST-MODIFIED:20250202T152244Z
UID:10000601-1748476800-1749167999@riverartsalliance.org
SUMMARY:Frozen River Film Festival Celebrates 20 Years with New Film Series
DESCRIPTION:frff.eventive.org \nThis year the Frozen River Film Festival (FRFF) will be celebrating 20 years of bringing documentary films and filmmakers to Winona. The festival begins Sunday\, February 9\, (You can still get home in time to watch the Super Bowl!) and runs through Sunday\, February 16. This year’s event will feature the World Premiere of FRFF’s self-produced documentary\, Beneath the Ice: The Frozen River Film Festival Story. Learn more.
URL:https://riverartsalliance.org/event/frozen-river-film-festival-celebrates-20-years-with-new-film-series/2025-05-29/
LOCATION:MN
END:VEVENT
BEGIN:VEVENT
DTSTART;TZID=America/Chicago:20250529T193000
DTEND;TZID=America/Chicago:20250529T220000
DTSTAMP:20260421T072217
CREATED:20250319T172710Z
LAST-MODIFIED:20250319T173102Z
UID:10001436-1748547000-1748556000@riverartsalliance.org
SUMMARY:Commonweal Theatre Presents The Angel Next Door
DESCRIPTION:Preview Dates\nSaturday\, May 17 | 7:30-9:30 pm\nSunday\, May 18 | 1:30-3:30 pm\nThursday & Friday | May 22\, 23 | 7:30-9:30 pm \nFull Run Dates Listed on RAA Event Page \nCommonweal Theatre Company\n208 Parkway Ave N\, Lanesboro\, MN\ncommonwealtheatre.org \n  \nJoin the Commonweal Theatre Company for Paul Slade Smith’s romantic screwball comedy\, The Angel Next Door. Journey to an opulent Newport mansion in 1948\, where playwrights\, actors\, and a star-struck novelist gather to work on their next Broadway hit! (Never mind the housekeeper who wants them gone.) Learn more.
URL:https://riverartsalliance.org/event/commonweal-theatre-presents-the-angel-next-door/2025-05-29/
LOCATION:Commonweal Theatre\, 208 Parkway Ave. N\, Lanesboro\, MN\, United States
END:VEVENT
BEGIN:VEVENT
DTSTART;VALUE=DATE:20250530
DTEND;VALUE=DATE:20250607
DTSTAMP:20260421T072217
CREATED:20250202T152244Z
LAST-MODIFIED:20250202T152244Z
UID:10000602-1748563200-1749254399@riverartsalliance.org
SUMMARY:Frozen River Film Festival Celebrates 20 Years with New Film Series
DESCRIPTION:frff.eventive.org \nThis year the Frozen River Film Festival (FRFF) will be celebrating 20 years of bringing documentary films and filmmakers to Winona. The festival begins Sunday\, February 9\, (You can still get home in time to watch the Super Bowl!) and runs through Sunday\, February 16. This year’s event will feature the World Premiere of FRFF’s self-produced documentary\, Beneath the Ice: The Frozen River Film Festival Story. Learn more.
URL:https://riverartsalliance.org/event/frozen-river-film-festival-celebrates-20-years-with-new-film-series/2025-05-30/
LOCATION:MN
END:VEVENT
BEGIN:VEVENT
DTSTART;TZID=America/Chicago:20250530T193000
DTEND;TZID=America/Chicago:20250530T213000
DTSTAMP:20260421T072217
CREATED:20250316T142354Z
LAST-MODIFIED:20250318T114059Z
UID:10001366-1748633400-1748640600@riverartsalliance.org
SUMMARY:Commonweal Theatre Presents The Half-Life of Marie Curie
DESCRIPTION:Commonweal Theatre Company | 208 Parkway Ave N\, Lanesboro\, MN\ncommonwealtheatre.org \n  \nDon’t miss this wonderful production of The Half-Life of Marie Curie\, directed by Jaclyn June Johnson and featuring Commonweal ensemble members Stela Burdt and Laurie Roberts. The play is based on a true story that illuminates the indomitable power of friendship between two extraordinary scientists. Learn more.
URL:https://riverartsalliance.org/event/commonweal-theatre-presents-the-half-life-of-marie-curie/2025-05-30/
LOCATION:Commonweal Theatre\, 208 Parkway Ave. N\, Lanesboro\, MN\, United States
END:VEVENT
BEGIN:VEVENT
DTSTART;VALUE=DATE:20250531
DTEND;VALUE=DATE:20250608
DTSTAMP:20260421T072217
CREATED:20250202T152244Z
LAST-MODIFIED:20250202T152244Z
UID:10000603-1748649600-1749340799@riverartsalliance.org
SUMMARY:Frozen River Film Festival Celebrates 20 Years with New Film Series
DESCRIPTION:frff.eventive.org \nThis year the Frozen River Film Festival (FRFF) will be celebrating 20 years of bringing documentary films and filmmakers to Winona. The festival begins Sunday\, February 9\, (You can still get home in time to watch the Super Bowl!) and runs through Sunday\, February 16. This year’s event will feature the World Premiere of FRFF’s self-produced documentary\, Beneath the Ice: The Frozen River Film Festival Story. Learn more.
URL:https://riverartsalliance.org/event/frozen-river-film-festival-celebrates-20-years-with-new-film-series/2025-05-31/
LOCATION:MN
END:VEVENT
BEGIN:VEVENT
DTSTART;TZID=America/Chicago:20250531T100000
DTEND;TZID=America/Chicago:20250531T120000
DTSTAMP:20260421T072217
CREATED:20250525T123950Z
LAST-MODIFIED:20250525T123950Z
UID:10000989-1748685600-1748692800@riverartsalliance.org
SUMMARY:Closing Reception  Saturday 10 am to Noon! RAA Members’ Exhibit at Engage Winona
DESCRIPTION:Engage Winona | 119 E 3rd St \nJoin us for the closing reception of this magnificent gallery display of works featuring over 40 works by 23 RAA member artists… Read more.
URL:https://riverartsalliance.org/event/closing-reception-saturday-10-am-to-noon-raa-members-exhibit-at-engage-winona/
LOCATION:Engage Winona\, 119 E 3rd St.\, Winona\, MN\, 55987
END:VEVENT
BEGIN:VEVENT
DTSTART;TZID=America/Chicago:20250531T133000
DTEND;TZID=America/Chicago:20250531T153000
DTSTAMP:20260421T072217
CREATED:20250316T142354Z
LAST-MODIFIED:20250318T114059Z
UID:10001367-1748698200-1748705400@riverartsalliance.org
SUMMARY:Commonweal Theatre Presents The Half-Life of Marie Curie
DESCRIPTION:Commonweal Theatre Company | 208 Parkway Ave N\, Lanesboro\, MN\ncommonwealtheatre.org \n  \nDon’t miss this wonderful production of The Half-Life of Marie Curie\, directed by Jaclyn June Johnson and featuring Commonweal ensemble members Stela Burdt and Laurie Roberts. The play is based on a true story that illuminates the indomitable power of friendship between two extraordinary scientists. Learn more.
URL:https://riverartsalliance.org/event/commonweal-theatre-presents-the-half-life-of-marie-curie/2025-05-31/
LOCATION:Commonweal Theatre\, 208 Parkway Ave. N\, Lanesboro\, MN\, United States
END:VEVENT
BEGIN:VEVENT
DTSTART;TZID=America/Chicago:20250531T193000
DTEND;TZID=America/Chicago:20250531T220000
DTSTAMP:20260421T072217
CREATED:20250319T172710Z
LAST-MODIFIED:20250319T173102Z
UID:10001437-1748719800-1748728800@riverartsalliance.org
SUMMARY:Commonweal Theatre Presents The Angel Next Door
DESCRIPTION:Preview Dates\nSaturday\, May 17 | 7:30-9:30 pm\nSunday\, May 18 | 1:30-3:30 pm\nThursday & Friday | May 22\, 23 | 7:30-9:30 pm \nFull Run Dates Listed on RAA Event Page \nCommonweal Theatre Company\n208 Parkway Ave N\, Lanesboro\, MN\ncommonwealtheatre.org \n  \nJoin the Commonweal Theatre Company for Paul Slade Smith’s romantic screwball comedy\, The Angel Next Door. Journey to an opulent Newport mansion in 1948\, where playwrights\, actors\, and a star-struck novelist gather to work on their next Broadway hit! (Never mind the housekeeper who wants them gone.) Learn more.
URL:https://riverartsalliance.org/event/commonweal-theatre-presents-the-angel-next-door/2025-05-31/
LOCATION:Commonweal Theatre\, 208 Parkway Ave. N\, Lanesboro\, MN\, United States
END:VEVENT
BEGIN:VEVENT
DTSTART;VALUE=DATE:20250601
DTEND;VALUE=DATE:20250602
DTSTAMP:20260421T072217
CREATED:20250122T211522Z
LAST-MODIFIED:20250122T211522Z
UID:10001314-1748736000-1748822399@riverartsalliance.org
SUMMARY:Deadline to Enter Maria W. Faust Sonnet Contest
DESCRIPTION:Entries are now being accepted for the 2025 Maria W. Faust Sonnet Contest. Deadline for entries is June 1\, 2025. Complete instructions for entering are available at sonnetcontest.org. The Maria W. Faust Sonnet Contest is an annual event that welcomes entries from around the world. Cash prizes\, totaling over $3\,000\, will be awarded in several categories. Learn more.
URL:https://riverartsalliance.org/event/deadline-to-enter-maria-w-faust-sonnet-contest/
LOCATION:MN
END:VEVENT
BEGIN:VEVENT
DTSTART;VALUE=DATE:20250601
DTEND;VALUE=DATE:20250609
DTSTAMP:20260421T072217
CREATED:20250202T152244Z
LAST-MODIFIED:20250202T152244Z
UID:10000604-1748736000-1749427199@riverartsalliance.org
SUMMARY:Frozen River Film Festival Celebrates 20 Years with New Film Series
DESCRIPTION:frff.eventive.org \nThis year the Frozen River Film Festival (FRFF) will be celebrating 20 years of bringing documentary films and filmmakers to Winona. The festival begins Sunday\, February 9\, (You can still get home in time to watch the Super Bowl!) and runs through Sunday\, February 16. This year’s event will feature the World Premiere of FRFF’s self-produced documentary\, Beneath the Ice: The Frozen River Film Festival Story. Learn more.
URL:https://riverartsalliance.org/event/frozen-river-film-festival-celebrates-20-years-with-new-film-series/2025-06-01/
LOCATION:MN
END:VEVENT
BEGIN:VEVENT
DTSTART;TZID=America/Chicago:20250601T130000
DTEND;TZID=America/Chicago:20250601T160000
DTSTAMP:20260421T072217
CREATED:20250517T133354Z
LAST-MODIFIED:20250517T133354Z
UID:10000987-1748782800-1748793600@riverartsalliance.org
SUMMARY:Patina to Play at Elmaro Vineyard
DESCRIPTION:Elmaro Vineyard | N14756 Delaney Rd\,\nTrempealeau\, WI\npatinatheband.com \nCome out to Elmaro Vineyard to hear the band Patina play a mix of traditional and contemporary Celtic\, folk\, and original instrumentals and vocals. Learn more.
URL:https://riverartsalliance.org/event/patina-to-play-at-elmaro-vineyard/
LOCATION:Elmaro Vineyard\, N14756 Delaney Rd.\, Trempealeau\, WI\, 54661\, United States
END:VEVENT
BEGIN:VEVENT
DTSTART;TZID=America/Chicago:20250601T133000
DTEND;TZID=America/Chicago:20250601T160000
DTSTAMP:20260421T072217
CREATED:20250319T172710Z
LAST-MODIFIED:20250319T173102Z
UID:10001438-1748784600-1748793600@riverartsalliance.org
SUMMARY:Commonweal Theatre Presents The Angel Next Door
DESCRIPTION:Preview Dates\nSaturday\, May 17 | 7:30-9:30 pm\nSunday\, May 18 | 1:30-3:30 pm\nThursday & Friday | May 22\, 23 | 7:30-9:30 pm \nFull Run Dates Listed on RAA Event Page \nCommonweal Theatre Company\n208 Parkway Ave N\, Lanesboro\, MN\ncommonwealtheatre.org \n  \nJoin the Commonweal Theatre Company for Paul Slade Smith’s romantic screwball comedy\, The Angel Next Door. Journey to an opulent Newport mansion in 1948\, where playwrights\, actors\, and a star-struck novelist gather to work on their next Broadway hit! (Never mind the housekeeper who wants them gone.) Learn more.
URL:https://riverartsalliance.org/event/commonweal-theatre-presents-the-angel-next-door/2025-06-01/
LOCATION:Commonweal Theatre\, 208 Parkway Ave. N\, Lanesboro\, MN\, United States
END:VEVENT
BEGIN:VEVENT
DTSTART;TZID=America/Chicago:20250601T170000
DTEND;TZID=America/Chicago:20250601T190000
DTSTAMP:20260421T072217
CREATED:20250330T225650Z
LAST-MODIFIED:20251203T164645Z
UID:10000953-1748797200-1748804400@riverartsalliance.org
SUMMARY:Gate City Jazz Band Performs First Sunday Each Month
DESCRIPTION:First Sunday of Each Month | 5-7 pm\nWestfield Golf Course | 1460 W 5th St\nNo Cover Charge\nwestfieldgolfclub.com \nThe Gate City Jazz Band is rising from the ashes of the Blackhorse restaurant where they regularly played\, to once again perform in their new location at the Westfield Golf Course restaurant. Performances are the first Sunday of each month\, 5-7 pm for your listening and toe-tapping pleasure. Come enjoy the cuisine and music at the same time. No cover charge. Learn more.
URL:https://riverartsalliance.org/event/gate-city-jazz-band-performs-first-sunday-each-month/2025-06-01/
LOCATION:MN
END:VEVENT
BEGIN:VEVENT
DTSTART;VALUE=DATE:20250602
DTEND;VALUE=DATE:20250603
DTSTAMP:20260421T072217
CREATED:20250516T114529Z
LAST-MODIFIED:20250516T114729Z
UID:10000984-1748822400-1748908799@riverartsalliance.org
SUMMARY:Deadline to Submit Your Work: Call for Artists – 2025 RAA Annual Members’ Exhibition and Showcase
DESCRIPTION:River Arts Alliance member artists:\nRegistration is now open to participate in our 2025 Annual Members’ Exhibition & Showcase! \nDeadline to submit your work is Monday\, June 2. \n  \n  \nThe 2025 event will once again include both an in-person exhibition and an online exhibition and showcase. Members may enter either or both. Get all the details you need to enter your work. \n 
URL:https://riverartsalliance.org/event/call-for-artists-2025-raa-annual-members-exhibition-and-showcase/
LOCATION:MN
END:VEVENT
BEGIN:VEVENT
DTSTART;VALUE=DATE:20250602
DTEND;VALUE=DATE:20250610
DTSTAMP:20260421T072217
CREATED:20250202T152244Z
LAST-MODIFIED:20250202T152244Z
UID:10000605-1748822400-1749513599@riverartsalliance.org
SUMMARY:Frozen River Film Festival Celebrates 20 Years with New Film Series
DESCRIPTION:frff.eventive.org \nThis year the Frozen River Film Festival (FRFF) will be celebrating 20 years of bringing documentary films and filmmakers to Winona. The festival begins Sunday\, February 9\, (You can still get home in time to watch the Super Bowl!) and runs through Sunday\, February 16. This year’s event will feature the World Premiere of FRFF’s self-produced documentary\, Beneath the Ice: The Frozen River Film Festival Story. Learn more.
URL:https://riverartsalliance.org/event/frozen-river-film-festival-celebrates-20-years-with-new-film-series/2025-06-02/
LOCATION:MN
END:VEVENT
BEGIN:VEVENT
DTSTART;TZID=America/Chicago:20250602T193000
DTEND;TZID=America/Chicago:20250602T213000
DTSTAMP:20260421T072217
CREATED:20250316T142354Z
LAST-MODIFIED:20250318T114059Z
UID:10001368-1748892600-1748899800@riverartsalliance.org
SUMMARY:Commonweal Theatre Presents The Half-Life of Marie Curie
DESCRIPTION:Commonweal Theatre Company | 208 Parkway Ave N\, Lanesboro\, MN\ncommonwealtheatre.org \n  \nDon’t miss this wonderful production of The Half-Life of Marie Curie\, directed by Jaclyn June Johnson and featuring Commonweal ensemble members Stela Burdt and Laurie Roberts. The play is based on a true story that illuminates the indomitable power of friendship between two extraordinary scientists. Learn more.
URL:https://riverartsalliance.org/event/commonweal-theatre-presents-the-half-life-of-marie-curie/2025-06-02/
LOCATION:Commonweal Theatre\, 208 Parkway Ave. N\, Lanesboro\, MN\, United States
END:VEVENT
BEGIN:VEVENT
DTSTART;VALUE=DATE:20250603
DTEND;VALUE=DATE:20250611
DTSTAMP:20260421T072217
CREATED:20250202T152244Z
LAST-MODIFIED:20250202T152244Z
UID:10000606-1748908800-1749599999@riverartsalliance.org
SUMMARY:Frozen River Film Festival Celebrates 20 Years with New Film Series
DESCRIPTION:frff.eventive.org \nThis year the Frozen River Film Festival (FRFF) will be celebrating 20 years of bringing documentary films and filmmakers to Winona. The festival begins Sunday\, February 9\, (You can still get home in time to watch the Super Bowl!) and runs through Sunday\, February 16. This year’s event will feature the World Premiere of FRFF’s self-produced documentary\, Beneath the Ice: The Frozen River Film Festival Story. Learn more.
URL:https://riverartsalliance.org/event/frozen-river-film-festival-celebrates-20-years-with-new-film-series/2025-06-03/
LOCATION:MN
END:VEVENT
BEGIN:VEVENT
DTSTART;TZID=America/Chicago:20250603T190000
DTEND;TZID=America/Chicago:20250603T200000
DTSTAMP:20260421T072217
CREATED:20250525T200226Z
LAST-MODIFIED:20250525T200226Z
UID:10000991-1748977200-1748980800@riverartsalliance.org
SUMMARY:First Tuesday Laureate Writers Series June 3
DESCRIPTION:Blue Heron Coffeehouse | 162 W 2nd St \nThe Laureate Writers Series will host six River Arts Alliance member writers to read from their works on Tuesday\, June 3\, at the Blue Heron Coffeehouse. Learn more.
URL:https://riverartsalliance.org/event/first-tuesday-laureate-writers-series-june-3/
LOCATION:Blue Heron Coffeehouse\, 162 W 2nd St\, Winona\, MN\, 55987\, United States
END:VEVENT
BEGIN:VEVENT
DTSTART;VALUE=DATE:20250604
DTEND;VALUE=DATE:20250612
DTSTAMP:20260421T072217
CREATED:20250202T152244Z
LAST-MODIFIED:20250202T152244Z
UID:10000607-1748995200-1749686399@riverartsalliance.org
SUMMARY:Frozen River Film Festival Celebrates 20 Years with New Film Series
DESCRIPTION:frff.eventive.org \nThis year the Frozen River Film Festival (FRFF) will be celebrating 20 years of bringing documentary films and filmmakers to Winona. The festival begins Sunday\, February 9\, (You can still get home in time to watch the Super Bowl!) and runs through Sunday\, February 16. This year’s event will feature the World Premiere of FRFF’s self-produced documentary\, Beneath the Ice: The Frozen River Film Festival Story. Learn more.
URL:https://riverartsalliance.org/event/frozen-river-film-festival-celebrates-20-years-with-new-film-series/2025-06-04/
LOCATION:MN
END:VEVENT
END:VCALENDAR