BEGIN:VCALENDAR
VERSION:2.0
PRODID:-//River Arts Alliance - ECPv6.15.20//NONSGML v1.0//EN
CALSCALE:GREGORIAN
METHOD:PUBLISH
X-WR-CALNAME:River Arts Alliance
X-ORIGINAL-URL:https://riverartsalliance.org
X-WR-CALDESC:Events for River Arts Alliance
REFRESH-INTERVAL;VALUE=DURATION:PT1H
X-Robots-Tag:noindex
X-PUBLISHED-TTL:PT1H
BEGIN:VTIMEZONE
TZID:America/Chicago
BEGIN:DAYLIGHT
TZOFFSETFROM:-0600
TZOFFSETTO:-0500
TZNAME:CDT
DTSTART:20250309T080000
END:DAYLIGHT
BEGIN:STANDARD
TZOFFSETFROM:-0500
TZOFFSETTO:-0600
TZNAME:CST
DTSTART:20251102T070000
END:STANDARD
BEGIN:DAYLIGHT
TZOFFSETFROM:-0600
TZOFFSETTO:-0500
TZNAME:CDT
DTSTART:20260308T080000
END:DAYLIGHT
BEGIN:STANDARD
TZOFFSETFROM:-0500
TZOFFSETTO:-0600
TZNAME:CST
DTSTART:20261101T070000
END:STANDARD
BEGIN:DAYLIGHT
TZOFFSETFROM:-0600
TZOFFSETTO:-0500
TZNAME:CDT
DTSTART:20270314T080000
END:DAYLIGHT
BEGIN:STANDARD
TZOFFSETFROM:-0500
TZOFFSETTO:-0600
TZNAME:CST
DTSTART:20271107T070000
END:STANDARD
END:VTIMEZONE
BEGIN:VEVENT
DTSTART;VALUE=DATE:20260224
DTEND;VALUE=DATE:20260304
DTSTAMP:20260422T171947
CREATED:20250202T152244Z
LAST-MODIFIED:20250202T152244Z
UID:10000872-1771891200-1772582399@riverartsalliance.org
SUMMARY:Frozen River Film Festival Celebrates 20 Years with New Film Series
DESCRIPTION:frff.eventive.org \nThis year the Frozen River Film Festival (FRFF) will be celebrating 20 years of bringing documentary films and filmmakers to Winona. The festival begins Sunday\, February 9\, (You can still get home in time to watch the Super Bowl!) and runs through Sunday\, February 16. This year’s event will feature the World Premiere of FRFF’s self-produced documentary\, Beneath the Ice: The Frozen River Film Festival Story. Learn more.
URL:https://riverartsalliance.org/event/frozen-river-film-festival-celebrates-20-years-with-new-film-series/2026-02-24/
LOCATION:MN
END:VEVENT
BEGIN:VEVENT
DTSTART;TZID=America/Chicago:20260223T180000
DTEND;TZID=America/Chicago:20260223T210000
DTSTAMP:20260422T171948
CREATED:20250822T141537Z
LAST-MODIFIED:20250822T141537Z
UID:10001756-1771869600-1771880400@riverartsalliance.org
SUMMARY:Call to Artists: Between the Bluffs Plein Air
DESCRIPTION:Demonstrations: Sat. Oct 11\ 9 – Noon\nShow: Oct 17\, 18\, 19 \nBetweenthebluffs.com \nColleen Shore is a member of the River Arts Alliance. To learn more about the benefits of membership\, please visit: riverartsalliance.org/membership/.
URL:https://riverartsalliance.org/event/call-to-artists-between-the-bluffs-plein-air/2026-02-23/
LOCATION:MN
ATTACH;FMTTYPE=image/png:https://riverartsalliance.org/wp-content/uploads/2025/08/Between-the-Bluffs-call-to-artists-1-1-1.png
END:VEVENT
BEGIN:VEVENT
DTSTART;VALUE=DATE:20260223
DTEND;VALUE=DATE:20260303
DTSTAMP:20260422T171948
CREATED:20250202T152244Z
LAST-MODIFIED:20250202T152244Z
UID:10000871-1771804800-1772495999@riverartsalliance.org
SUMMARY:Frozen River Film Festival Celebrates 20 Years with New Film Series
DESCRIPTION:frff.eventive.org \nThis year the Frozen River Film Festival (FRFF) will be celebrating 20 years of bringing documentary films and filmmakers to Winona. The festival begins Sunday\, February 9\, (You can still get home in time to watch the Super Bowl!) and runs through Sunday\, February 16. This year’s event will feature the World Premiere of FRFF’s self-produced documentary\, Beneath the Ice: The Frozen River Film Festival Story. Learn more.
URL:https://riverartsalliance.org/event/frozen-river-film-festival-celebrates-20-years-with-new-film-series/2026-02-23/
LOCATION:MN
END:VEVENT
BEGIN:VEVENT
DTSTART;TZID=America/Chicago:20260222T180000
DTEND;TZID=America/Chicago:20260222T210000
DTSTAMP:20260422T171948
CREATED:20250822T141537Z
LAST-MODIFIED:20250822T141537Z
UID:10001755-1771783200-1771794000@riverartsalliance.org
SUMMARY:Call to Artists: Between the Bluffs Plein Air
DESCRIPTION:Demonstrations: Sat. Oct 11\ 9 – Noon\nShow: Oct 17\, 18\, 19 \nBetweenthebluffs.com \nColleen Shore is a member of the River Arts Alliance. To learn more about the benefits of membership\, please visit: riverartsalliance.org/membership/.
URL:https://riverartsalliance.org/event/call-to-artists-between-the-bluffs-plein-air/2026-02-22/
LOCATION:MN
ATTACH;FMTTYPE=image/png:https://riverartsalliance.org/wp-content/uploads/2025/08/Between-the-Bluffs-call-to-artists-1-1-1.png
END:VEVENT
BEGIN:VEVENT
DTSTART;TZID=America/Chicago:20260222T140000
DTEND;TZID=America/Chicago:20260222T160000
DTSTAMP:20260422T171948
CREATED:20260215T170940Z
LAST-MODIFIED:20260215T170940Z
UID:10001908-1771768800-1771776000@riverartsalliance.org
SUMMARY:Beaver Creek Band | Old Main Cultural Center
DESCRIPTION:Beaver Creek Community Band Concert \nOld Main Cultural Center \nSunday\, February 22nd at 2:00 \nTickets: Adults $10/Students $5/under 5 free \nBenefit for the G-E-T Food Pantry \n3rd Floor of Old Main \nRefreshments Art Gallery Room immediately following the program \nProgram features the Beaver Creek Band\, soloists\, and ensembles \nProgram includes a variety of music from different genres
URL:https://riverartsalliance.org/event/beaver-creek-band-old-main-cultural-center/
LOCATION:Old Main Cultural Center\, 20869 S College Ave.\, Galesville\, WI\, 54630\, United States
END:VEVENT
BEGIN:VEVENT
DTSTART;TZID=America/Chicago:20260222T134500
DTEND;TZID=America/Chicago:20260222T150000
DTSTAMP:20260422T171948
CREATED:20260214T233443Z
LAST-MODIFIED:20260214T233443Z
UID:10001907-1771767900-1771772400@riverartsalliance.org
SUMMARY:Cafe Congo | Winona Symphony Orchestra's Concert for the Kids
DESCRIPTION:Join us at Cafe Congo to benefit the Winona Symphony Orchestra’s annual Children’s Concert.\nThe program will include performances from Nicholas Shaneyfelt\, McKenzie Whitney and Valeria Kishkuna with Rachel Ryan-Dahlgren on Cello.\nIt will include classical works from Sondheim\, Puccini\, Massenet and Wagner. \nYour freewill donation will help support the annual Children’s Concert presented by Winona Symphony Orchestra for local elementary students.\nDoors will open at 1:45\, with a reception to follow the program.
URL:https://riverartsalliance.org/event/cafe-congo-winona-symphony-orchestras-concert-for-the-kids/
LOCATION:First Congregational Church\, 161 W Broadway St.\, Winona\, MN\, 55987\, United States
END:VEVENT
BEGIN:VEVENT
DTSTART;VALUE=DATE:20260222
DTEND;VALUE=DATE:20260302
DTSTAMP:20260422T171948
CREATED:20250202T152244Z
LAST-MODIFIED:20250202T152244Z
UID:10000870-1771718400-1772409599@riverartsalliance.org
SUMMARY:Frozen River Film Festival Celebrates 20 Years with New Film Series
DESCRIPTION:frff.eventive.org \nThis year the Frozen River Film Festival (FRFF) will be celebrating 20 years of bringing documentary films and filmmakers to Winona. The festival begins Sunday\, February 9\, (You can still get home in time to watch the Super Bowl!) and runs through Sunday\, February 16. This year’s event will feature the World Premiere of FRFF’s self-produced documentary\, Beneath the Ice: The Frozen River Film Festival Story. Learn more.
URL:https://riverartsalliance.org/event/frozen-river-film-festival-celebrates-20-years-with-new-film-series/2026-02-22/
LOCATION:MN
END:VEVENT
BEGIN:VEVENT
DTSTART;TZID=America/Chicago:20260221T190000
DTEND;TZID=America/Chicago:20260221T223000
DTSTAMP:20260422T171948
CREATED:20260214T225638Z
LAST-MODIFIED:20260214T225638Z
UID:10001906-1771700400-1771713000@riverartsalliance.org
SUMMARY:Carnival Dance | The ARC
DESCRIPTION:Beat the winter blues and cabin fever – come out of the cold and into a night of fiery samba beats\, vibrant colors\, and unstoppable energy! This is your escape to a tropical celebration full of rhythm\, fun\, and festive heat. Whether you’re a dance pro or a total beginner\, join us to shake off the chill and turn up the heat on the dance floor. \nDress Code? Bright\, bold\, and colorful – think feathers\, sequins\, tropical prints\, or whatever makes you feel like you’re dancing in the streets of Rio!
URL:https://riverartsalliance.org/event/carnival-dance-the-arc/
LOCATION:The ARC\, 255 Main St.\, Winona\, MN\, 55987\, United States
END:VEVENT
BEGIN:VEVENT
DTSTART;TZID=America/Chicago:20260221T180000
DTEND;TZID=America/Chicago:20260221T210000
DTSTAMP:20260422T171948
CREATED:20250822T141537Z
LAST-MODIFIED:20250822T141537Z
UID:10001754-1771696800-1771707600@riverartsalliance.org
SUMMARY:Call to Artists: Between the Bluffs Plein Air
DESCRIPTION:Demonstrations: Sat. Oct 11\ 9 – Noon\nShow: Oct 17\, 18\, 19 \nBetweenthebluffs.com \nColleen Shore is a member of the River Arts Alliance. To learn more about the benefits of membership\, please visit: riverartsalliance.org/membership/.
URL:https://riverartsalliance.org/event/call-to-artists-between-the-bluffs-plein-air/2026-02-21/
LOCATION:MN
ATTACH;FMTTYPE=image/png:https://riverartsalliance.org/wp-content/uploads/2025/08/Between-the-Bluffs-call-to-artists-1-1-1.png
END:VEVENT
BEGIN:VEVENT
DTSTART;TZID=America/Chicago:20260221T180000
DTEND;TZID=America/Chicago:20260221T200000
DTSTAMP:20260422T171948
CREATED:20260214T213030Z
LAST-MODIFIED:20260214T213030Z
UID:10001905-1771696800-1771704000@riverartsalliance.org
SUMMARY:Jack Norton Concerts | Winona Arts Center
DESCRIPTION:Jack Norton in concert for two shows on February 21. The family friendly event at 10:00 am with Conductor Jack is a high energy children’s show while the 7:00 evening performance offers vaudeville blues\, country\, and vintage Americana folk music. Both events are FREE and will be live streamed.
URL:https://riverartsalliance.org/event/jack-norton-concerts-winona-arts-center/2026-02-21/2/
LOCATION:Winona Arts Center\, 228 E 5th St.\, Winona\, MN\, 55987\, United States
END:VEVENT
BEGIN:VEVENT
DTSTART;TZID=America/Chicago:20260221T140000
DTEND;TZID=America/Chicago:20260221T163000
DTSTAMP:20260422T171948
CREATED:20260211T150052Z
LAST-MODIFIED:20260211T054249Z
UID:10001902-1771682400-1771691400@riverartsalliance.org
SUMMARY:Suminagashi with Dawn Tevis | Winona Arts Center
DESCRIPTION:Celebrate a cozy winter afternoon with the meditative process of Suminagashi\, or ink floating\, at The Winona Arts Center (228 East 5th Street) on Saturday\, February 21st from 2:00PM – 4:30PM. Led by Dawn Tevis\, this Japanese paper marbling art is at least as old as the 12th century. Participants will learn to float ink in dynamic patterns on water and print unique images on your choice of surfaces\, including notecards\, coasters\, and specialty papers. Whether a beginner or a practitioner\, you’ll expand your skills by experimenting with new effects and materials\, and leave with works you can enjoy as-is or use for bookmaking\, painting\, drawing\, and more. \nAlso included will be a take-home supply of protective finish to apply to coaster once they dry. Ages 12 and up. No experience necessary. Class size limited to 15. Cost for members is $45 and nonmembers $50. All materials are included. Scholarships are available. Register today at jsbenson50+WAC@gmail.com
URL:https://riverartsalliance.org/event/suminagashi-with-dawn-tevis-winona-arts-center/
LOCATION:Winona Arts Center\, 228 E 5th St.\, Winona\, MN\, 55987\, United States
END:VEVENT
BEGIN:VEVENT
DTSTART;TZID=America/Chicago:20260221T093000
DTEND;TZID=America/Chicago:20260221T110000
DTSTAMP:20260422T171948
CREATED:20260214T213030Z
LAST-MODIFIED:20260214T213030Z
UID:10001904-1771666200-1771671600@riverartsalliance.org
SUMMARY:Jack Norton Concerts | Winona Arts Center
DESCRIPTION:Jack Norton in concert for two shows on February 21. The family friendly event at 10:00 am with Conductor Jack is a high energy children’s show while the 7:00 evening performance offers vaudeville blues\, country\, and vintage Americana folk music. Both events are FREE and will be live streamed.
URL:https://riverartsalliance.org/event/jack-norton-concerts-winona-arts-center/2026-02-21/1/
LOCATION:Winona Arts Center\, 228 E 5th St.\, Winona\, MN\, 55987\, United States
END:VEVENT
BEGIN:VEVENT
DTSTART;VALUE=DATE:20260221
DTEND;VALUE=DATE:20260301
DTSTAMP:20260422T171948
CREATED:20250202T152244Z
LAST-MODIFIED:20250202T152244Z
UID:10000869-1771632000-1772323199@riverartsalliance.org
SUMMARY:Frozen River Film Festival Celebrates 20 Years with New Film Series
DESCRIPTION:frff.eventive.org \nThis year the Frozen River Film Festival (FRFF) will be celebrating 20 years of bringing documentary films and filmmakers to Winona. The festival begins Sunday\, February 9\, (You can still get home in time to watch the Super Bowl!) and runs through Sunday\, February 16. This year’s event will feature the World Premiere of FRFF’s self-produced documentary\, Beneath the Ice: The Frozen River Film Festival Story. Learn more.
URL:https://riverartsalliance.org/event/frozen-river-film-festival-celebrates-20-years-with-new-film-series/2026-02-21/
LOCATION:MN
END:VEVENT
BEGIN:VEVENT
DTSTART;TZID=America/Chicago:20260220T190000
DTEND;TZID=America/Chicago:20260220T210000
DTSTAMP:20260422T171948
CREATED:20260211T180040Z
LAST-MODIFIED:20260211T064041Z
UID:10001903-1771614000-1771621200@riverartsalliance.org
SUMMARY:Way Down East | Old Main
DESCRIPTION:
URL:https://riverartsalliance.org/event/way-down-east-old-main/
LOCATION:Old Main Cultural Center\, 20869 S College Ave.\, Galesville\, WI\, 54630\, United States
END:VEVENT
BEGIN:VEVENT
DTSTART;TZID=America/Chicago:20260220T190000
DTEND;TZID=America/Chicago:20260220T210000
DTSTAMP:20260422T171948
CREATED:20260114T150018Z
LAST-MODIFIED:20260114T004945Z
UID:10001149-1771614000-1771621200@riverartsalliance.org
SUMMARY:Movies at Old Main
DESCRIPTION:20869 College Ave Galesville | Adults $10/Students $5 | Concessions available \nSaturday\, Feb 20 | 7 PM | “Way Down East” A silent movie
URL:https://riverartsalliance.org/event/movies-at-old-main-4/
LOCATION:Old Main Cultural Center\, 20869 S College Ave.\, Galesville\, WI\, 54630\, United States
END:VEVENT
BEGIN:VEVENT
DTSTART;TZID=America/Chicago:20260220T180000
DTEND;TZID=America/Chicago:20260220T210000
DTSTAMP:20260422T171948
CREATED:20260208T170942Z
LAST-MODIFIED:20260208T170942Z
UID:10001899-1771610400-1771621200@riverartsalliance.org
SUMMARY:Film: I'm Still Here | Winona Arts Center
DESCRIPTION:The Winona Arts Center International Film Series presents I’m Still Here on February 20 at 7:00pm on February 20: Doors open 6:00 for gallery viewing Film is at 7:00 $5\nThe wrenching true life saga of a Brazilian family torn apart by the military dictatorship during the 1970’s  A powerful example of survival\, resistance and endurance that explores the permanence of love and grief. Portuguese with English subtitles. Academy Award Winner Best International Film for 2025. (Brazil\, 2024)
URL:https://riverartsalliance.org/event/film-im-still-here-winona-arts-center/
LOCATION:Winona Arts Center\, 228 E 5th St.\, Winona\, MN\, 55987\, United States
END:VEVENT
BEGIN:VEVENT
DTSTART;TZID=America/Chicago:20260220T180000
DTEND;TZID=America/Chicago:20260220T210000
DTSTAMP:20260422T171948
CREATED:20250822T141537Z
LAST-MODIFIED:20250822T141537Z
UID:10001753-1771610400-1771621200@riverartsalliance.org
SUMMARY:Call to Artists: Between the Bluffs Plein Air
DESCRIPTION:Demonstrations: Sat. Oct 11\ 9 – Noon\nShow: Oct 17\, 18\, 19 \nBetweenthebluffs.com \nColleen Shore is a member of the River Arts Alliance. To learn more about the benefits of membership\, please visit: riverartsalliance.org/membership/.
URL:https://riverartsalliance.org/event/call-to-artists-between-the-bluffs-plein-air/2026-02-20/
LOCATION:MN
ATTACH;FMTTYPE=image/png:https://riverartsalliance.org/wp-content/uploads/2025/08/Between-the-Bluffs-call-to-artists-1-1-1.png
END:VEVENT
BEGIN:VEVENT
DTSTART;VALUE=DATE:20260220
DTEND;VALUE=DATE:20260228
DTSTAMP:20260422T171948
CREATED:20250202T152244Z
LAST-MODIFIED:20250202T152244Z
UID:10000868-1771545600-1772236799@riverartsalliance.org
SUMMARY:Frozen River Film Festival Celebrates 20 Years with New Film Series
DESCRIPTION:frff.eventive.org \nThis year the Frozen River Film Festival (FRFF) will be celebrating 20 years of bringing documentary films and filmmakers to Winona. The festival begins Sunday\, February 9\, (You can still get home in time to watch the Super Bowl!) and runs through Sunday\, February 16. This year’s event will feature the World Premiere of FRFF’s self-produced documentary\, Beneath the Ice: The Frozen River Film Festival Story. Learn more.
URL:https://riverartsalliance.org/event/frozen-river-film-festival-celebrates-20-years-with-new-film-series/2026-02-20/
LOCATION:MN
END:VEVENT
BEGIN:VEVENT
DTSTART;TZID=America/Chicago:20260219T180000
DTEND;TZID=America/Chicago:20260219T210000
DTSTAMP:20260422T171948
CREATED:20250822T141537Z
LAST-MODIFIED:20250822T141537Z
UID:10001752-1771524000-1771534800@riverartsalliance.org
SUMMARY:Call to Artists: Between the Bluffs Plein Air
DESCRIPTION:Demonstrations: Sat. Oct 11\ 9 – Noon\nShow: Oct 17\, 18\, 19 \nBetweenthebluffs.com \nColleen Shore is a member of the River Arts Alliance. To learn more about the benefits of membership\, please visit: riverartsalliance.org/membership/.
URL:https://riverartsalliance.org/event/call-to-artists-between-the-bluffs-plein-air/2026-02-19/
LOCATION:MN
ATTACH;FMTTYPE=image/png:https://riverartsalliance.org/wp-content/uploads/2025/08/Between-the-Bluffs-call-to-artists-1-1-1.png
END:VEVENT
BEGIN:VEVENT
DTSTART;VALUE=DATE:20260219
DTEND;VALUE=DATE:20260227
DTSTAMP:20260422T171948
CREATED:20250202T152244Z
LAST-MODIFIED:20250202T152244Z
UID:10000867-1771459200-1772150399@riverartsalliance.org
SUMMARY:Frozen River Film Festival Celebrates 20 Years with New Film Series
DESCRIPTION:frff.eventive.org \nThis year the Frozen River Film Festival (FRFF) will be celebrating 20 years of bringing documentary films and filmmakers to Winona. The festival begins Sunday\, February 9\, (You can still get home in time to watch the Super Bowl!) and runs through Sunday\, February 16. This year’s event will feature the World Premiere of FRFF’s self-produced documentary\, Beneath the Ice: The Frozen River Film Festival Story. Learn more.
URL:https://riverartsalliance.org/event/frozen-river-film-festival-celebrates-20-years-with-new-film-series/2026-02-19/
LOCATION:MN
END:VEVENT
BEGIN:VEVENT
DTSTART;TZID=America/Chicago:20260218T180000
DTEND;TZID=America/Chicago:20260218T210000
DTSTAMP:20260422T171948
CREATED:20250822T141537Z
LAST-MODIFIED:20250822T141537Z
UID:10001751-1771437600-1771448400@riverartsalliance.org
SUMMARY:Call to Artists: Between the Bluffs Plein Air
DESCRIPTION:Demonstrations: Sat. Oct 11\ 9 – Noon\nShow: Oct 17\, 18\, 19 \nBetweenthebluffs.com \nColleen Shore is a member of the River Arts Alliance. To learn more about the benefits of membership\, please visit: riverartsalliance.org/membership/.
URL:https://riverartsalliance.org/event/call-to-artists-between-the-bluffs-plein-air/2026-02-18/
LOCATION:MN
ATTACH;FMTTYPE=image/png:https://riverartsalliance.org/wp-content/uploads/2025/08/Between-the-Bluffs-call-to-artists-1-1-1.png
END:VEVENT
BEGIN:VEVENT
DTSTART;VALUE=DATE:20260218
DTEND;VALUE=DATE:20260226
DTSTAMP:20260422T171948
CREATED:20250202T152244Z
LAST-MODIFIED:20250202T152244Z
UID:10000866-1771372800-1772063999@riverartsalliance.org
SUMMARY:Frozen River Film Festival Celebrates 20 Years with New Film Series
DESCRIPTION:frff.eventive.org \nThis year the Frozen River Film Festival (FRFF) will be celebrating 20 years of bringing documentary films and filmmakers to Winona. The festival begins Sunday\, February 9\, (You can still get home in time to watch the Super Bowl!) and runs through Sunday\, February 16. This year’s event will feature the World Premiere of FRFF’s self-produced documentary\, Beneath the Ice: The Frozen River Film Festival Story. Learn more.
URL:https://riverartsalliance.org/event/frozen-river-film-festival-celebrates-20-years-with-new-film-series/2026-02-18/
LOCATION:MN
END:VEVENT
BEGIN:VEVENT
DTSTART;TZID=America/Chicago:20260217T193000
DTEND;TZID=America/Chicago:20260217T210000
DTSTAMP:20260422T171948
CREATED:20260208T165304Z
LAST-MODIFIED:20260208T165304Z
UID:10001900-1771356600-1771362000@riverartsalliance.org
SUMMARY:WSU Faculty Recital | Eric Brisson
DESCRIPTION:Eric Brisson will present a piano recital featuring Ravel’s Sonatine and Jeux d’eau\, Mozart’s Sonata in A minor\, K.310/300d and Mendelssohn’s Variations Sérieuses\, op.54.
URL:https://riverartsalliance.org/event/wsu-faculty-recital-eric-brisson-3/
LOCATION:WSU DuFresne Performing Arts Center Recital Hall\, 450 Johnson St.\, Winona\, MN\, 55987\, United States
END:VEVENT
BEGIN:VEVENT
DTSTART;TZID=America/Chicago:20260217T180000
DTEND;TZID=America/Chicago:20260217T210000
DTSTAMP:20260422T171948
CREATED:20250822T141537Z
LAST-MODIFIED:20250822T141537Z
UID:10001750-1771351200-1771362000@riverartsalliance.org
SUMMARY:Call to Artists: Between the Bluffs Plein Air
DESCRIPTION:Demonstrations: Sat. Oct 11\ 9 – Noon\nShow: Oct 17\, 18\, 19 \nBetweenthebluffs.com \nColleen Shore is a member of the River Arts Alliance. To learn more about the benefits of membership\, please visit: riverartsalliance.org/membership/.
URL:https://riverartsalliance.org/event/call-to-artists-between-the-bluffs-plein-air/2026-02-17/
LOCATION:MN
ATTACH;FMTTYPE=image/png:https://riverartsalliance.org/wp-content/uploads/2025/08/Between-the-Bluffs-call-to-artists-1-1-1.png
END:VEVENT
BEGIN:VEVENT
DTSTART;TZID=America/Chicago:20260217T173000
DTEND;TZID=America/Chicago:20260217T193000
DTSTAMP:20260422T171948
CREATED:20260201T205707Z
LAST-MODIFIED:20260201T205707Z
UID:10001894-1771349400-1771356600@riverartsalliance.org
SUMMARY:Beginner Watercolor Workshop | Winona Arts Center
DESCRIPTION:The Winona Arts Center (228 E 5th Street) is excited to host Miranda Lomeli-O’Reilly Beginner’s Workshop: Learn the Magic of Watercolor THREE-PART SERIES on February 10\,17\,24 2026. Join our three-part weekly workshop\, perfect for absolute beginners or anyone looking to refresh their foundational skills! Gain the confidence and techniques necessary to start your own watercolor practice.\nJoin us Feb 10\,17\,24 from 5:30-7:30pm. Class fees are $135 for members or $150 for non-members. One time $20 material fee. Scholarships are available. \nRegister with Jen at jsbenson50+WAC@gmail.com.
URL:https://riverartsalliance.org/event/beginner-watercolor-workshop-winona-arts-center/2026-02-17/
LOCATION:Winona Arts Center\, 228 E 5th St.\, Winona\, MN\, 55987\, United States
END:VEVENT
BEGIN:VEVENT
DTSTART;VALUE=DATE:20260217
DTEND;VALUE=DATE:20260225
DTSTAMP:20260422T171948
CREATED:20250202T152244Z
LAST-MODIFIED:20250202T152244Z
UID:10000865-1771286400-1771977599@riverartsalliance.org
SUMMARY:Frozen River Film Festival Celebrates 20 Years with New Film Series
DESCRIPTION:frff.eventive.org \nThis year the Frozen River Film Festival (FRFF) will be celebrating 20 years of bringing documentary films and filmmakers to Winona. The festival begins Sunday\, February 9\, (You can still get home in time to watch the Super Bowl!) and runs through Sunday\, February 16. This year’s event will feature the World Premiere of FRFF’s self-produced documentary\, Beneath the Ice: The Frozen River Film Festival Story. Learn more.
URL:https://riverartsalliance.org/event/frozen-river-film-festival-celebrates-20-years-with-new-film-series/2026-02-17/
LOCATION:MN
END:VEVENT
BEGIN:VEVENT
DTSTART;TZID=America/Chicago:20260216T180000
DTEND;TZID=America/Chicago:20260216T210000
DTSTAMP:20260422T171948
CREATED:20250822T141537Z
LAST-MODIFIED:20250822T141537Z
UID:10001749-1771264800-1771275600@riverartsalliance.org
SUMMARY:Call to Artists: Between the Bluffs Plein Air
DESCRIPTION:Demonstrations: Sat. Oct 11\ 9 – Noon\nShow: Oct 17\, 18\, 19 \nBetweenthebluffs.com \nColleen Shore is a member of the River Arts Alliance. To learn more about the benefits of membership\, please visit: riverartsalliance.org/membership/.
URL:https://riverartsalliance.org/event/call-to-artists-between-the-bluffs-plein-air/2026-02-16/
LOCATION:MN
ATTACH;FMTTYPE=image/png:https://riverartsalliance.org/wp-content/uploads/2025/08/Between-the-Bluffs-call-to-artists-1-1-1.png
END:VEVENT
BEGIN:VEVENT
DTSTART;VALUE=DATE:20260216
DTEND;VALUE=DATE:20260224
DTSTAMP:20260422T171948
CREATED:20250202T152244Z
LAST-MODIFIED:20250202T152244Z
UID:10000864-1771200000-1771891199@riverartsalliance.org
SUMMARY:Frozen River Film Festival Celebrates 20 Years with New Film Series
DESCRIPTION:frff.eventive.org \nThis year the Frozen River Film Festival (FRFF) will be celebrating 20 years of bringing documentary films and filmmakers to Winona. The festival begins Sunday\, February 9\, (You can still get home in time to watch the Super Bowl!) and runs through Sunday\, February 16. This year’s event will feature the World Premiere of FRFF’s self-produced documentary\, Beneath the Ice: The Frozen River Film Festival Story. Learn more.
URL:https://riverartsalliance.org/event/frozen-river-film-festival-celebrates-20-years-with-new-film-series/2026-02-16/
LOCATION:MN
END:VEVENT
BEGIN:VEVENT
DTSTART;TZID=America/Chicago:20260215T180000
DTEND;TZID=America/Chicago:20260215T210000
DTSTAMP:20260422T171948
CREATED:20250822T141537Z
LAST-MODIFIED:20250822T141537Z
UID:10001748-1771178400-1771189200@riverartsalliance.org
SUMMARY:Call to Artists: Between the Bluffs Plein Air
DESCRIPTION:Demonstrations: Sat. Oct 11\ 9 – Noon\nShow: Oct 17\, 18\, 19 \nBetweenthebluffs.com \nColleen Shore is a member of the River Arts Alliance. To learn more about the benefits of membership\, please visit: riverartsalliance.org/membership/.
URL:https://riverartsalliance.org/event/call-to-artists-between-the-bluffs-plein-air/2026-02-15/
LOCATION:MN
ATTACH;FMTTYPE=image/png:https://riverartsalliance.org/wp-content/uploads/2025/08/Between-the-Bluffs-call-to-artists-1-1-1.png
END:VEVENT
BEGIN:VEVENT
DTSTART;TZID=America/Chicago:20260215T143000
DTEND;TZID=America/Chicago:20260215T173000
DTSTAMP:20260422T171948
CREATED:20260205T173037Z
LAST-MODIFIED:20260205T173037Z
UID:10001896-1771165800-1771176600@riverartsalliance.org
SUMMARY:Classical Fun at February Jazz Jam | H3O Jazz Trio
DESCRIPTION:Come along for the ride as H3O Jazz Trio and Winona Symphony team up to support the Symphony’s annual Children’s Concert. This month’s Jazz Jam is happening in Two Fathom Brewing Company’s spacious taproom on Sunday\, February 15\, from 2:30 to 5:30 p.m.
URL:https://riverartsalliance.org/event/classical-fun-at-february-jazz-jam-h3o-jazz-trio/
LOCATION:Two Fathoms Brewing\, 65 E Front St.\, Winona\, MN\, 55987\, United States
END:VEVENT
END:VCALENDAR