BEGIN:VCALENDAR
VERSION:2.0
PRODID:-//River Arts Alliance - ECPv6.15.20//NONSGML v1.0//EN
CALSCALE:GREGORIAN
METHOD:PUBLISH
X-WR-CALNAME:River Arts Alliance
X-ORIGINAL-URL:https://riverartsalliance.org
X-WR-CALDESC:Events for River Arts Alliance
REFRESH-INTERVAL;VALUE=DURATION:PT1H
X-Robots-Tag:noindex
X-PUBLISHED-TTL:PT1H
BEGIN:VTIMEZONE
TZID:America/Chicago
BEGIN:DAYLIGHT
TZOFFSETFROM:-0600
TZOFFSETTO:-0500
TZNAME:CDT
DTSTART:20210314T080000
END:DAYLIGHT
BEGIN:STANDARD
TZOFFSETFROM:-0500
TZOFFSETTO:-0600
TZNAME:CST
DTSTART:20211107T070000
END:STANDARD
BEGIN:DAYLIGHT
TZOFFSETFROM:-0600
TZOFFSETTO:-0500
TZNAME:CDT
DTSTART:20220313T080000
END:DAYLIGHT
BEGIN:STANDARD
TZOFFSETFROM:-0500
TZOFFSETTO:-0600
TZNAME:CST
DTSTART:20221106T070000
END:STANDARD
BEGIN:DAYLIGHT
TZOFFSETFROM:-0600
TZOFFSETTO:-0500
TZNAME:CDT
DTSTART:20230312T080000
END:DAYLIGHT
BEGIN:STANDARD
TZOFFSETFROM:-0500
TZOFFSETTO:-0600
TZNAME:CST
DTSTART:20231105T070000
END:STANDARD
END:VTIMEZONE
BEGIN:VEVENT
DTSTART;TZID=America/Chicago:20220714T190000
DTEND;TZID=America/Chicago:20220714T200000
DTSTAMP:20260421T141254
CREATED:20220710T232511Z
LAST-MODIFIED:20220714T192823Z
UID:10000053-1657825200-1657828800@riverartsalliance.org
SUMMARY:Business and Immigrant Stories of Winona - Willet Hauser Architectural Glass
DESCRIPTION:Winona County History Center | 160 Johnson St.sandbarstorytellingfestival.orgThe Sandbar Storytelling Festival\, in partnership with the Winona County History Center\, is sharing stories that have shaped Winona in a three-part series of “Business and Immigrant Stories of Winona.” Each storytelling event — free and open to the public — will begin at 7 p.m. at the Winona County History Center\, 160 Johnson St. As admission is limited\, please call the History Center at 507-454-2723 to reserve a spot.July 14 — The founding of Willet Hauser Architectural Glass by Garrick Holey. In 1898\, William and Ann Willet incorporated the Willet Stained Glass in Pittsburgh\, Penn. In 1977\, Willet Hauser Architectural Glass was formed through a merger with Willet Stained Glass and Hauser Art Glass Company in Winona. When the two businesses united\, they formed one of the largest stained glass studios in the world.Learn more.
URL:https://riverartsalliance.org/event/business-and-immigrant-stories-of-winona-willet-hauser-architectural-glass/
LOCATION:Winona County History Center\, 160 Johnson St\, Winona\, MN\, 55987\, United States
END:VEVENT
BEGIN:VEVENT
DTSTART;TZID=America/Chicago:20220712T120000
DTEND;TZID=America/Chicago:20220712T150000
DTSTAMP:20260421T141254
CREATED:20220710T232511Z
LAST-MODIFIED:20220710T233609Z
UID:10000064-1657627200-1657638000@riverartsalliance.org
SUMMARY:Free Puppet Making Workshop with Dr. Bob at WAC
DESCRIPTION:Winona Arts Center | 228 E 5th St.winonaarts.orgDr. Bob (Robert Armstrong) is offering free puppet making classes for individuals ages 9 through 18 at the Winona Arts Center. Parents are encouraged to join the class and participate in their child’s creation. We will be using a simple template to build a rod style puppet. All materials are provided. There will be four separate sessions; students only need to sign up for one session. Classes are on June 14 or 28\, July 12 or 26 and each session runs from noon to 3 pm. Space is limited to 12 students per class\, so please reserve your spot by email to goblinpony@yahoo.com or through Facebook Messenger to Doctor Bobs Puppets. Learn more.
URL:https://riverartsalliance.org/event/free-puppet-making-workshop-with-dr-bob-at-wac-2/
LOCATION:Winona Arts Center\, 228 E 5th St.\, Winona\, MN\, 55987\, United States
END:VEVENT
END:VCALENDAR