BEGIN:VCALENDAR
VERSION:2.0
PRODID:-//River Arts Alliance - ECPv6.15.20//NONSGML v1.0//EN
CALSCALE:GREGORIAN
METHOD:PUBLISH
X-WR-CALNAME:River Arts Alliance
X-ORIGINAL-URL:https://riverartsalliance.org
X-WR-CALDESC:Events for River Arts Alliance
REFRESH-INTERVAL;VALUE=DURATION:PT1H
X-Robots-Tag:noindex
X-PUBLISHED-TTL:PT1H
BEGIN:VTIMEZONE
TZID:America/Chicago
BEGIN:DAYLIGHT
TZOFFSETFROM:-0600
TZOFFSETTO:-0500
TZNAME:CDT
DTSTART:20250309T080000
END:DAYLIGHT
BEGIN:STANDARD
TZOFFSETFROM:-0500
TZOFFSETTO:-0600
TZNAME:CST
DTSTART:20251102T070000
END:STANDARD
BEGIN:DAYLIGHT
TZOFFSETFROM:-0600
TZOFFSETTO:-0500
TZNAME:CDT
DTSTART:20260308T080000
END:DAYLIGHT
BEGIN:STANDARD
TZOFFSETFROM:-0500
TZOFFSETTO:-0600
TZNAME:CST
DTSTART:20261101T070000
END:STANDARD
BEGIN:DAYLIGHT
TZOFFSETFROM:-0600
TZOFFSETTO:-0500
TZNAME:CDT
DTSTART:20270314T080000
END:DAYLIGHT
BEGIN:STANDARD
TZOFFSETFROM:-0500
TZOFFSETTO:-0600
TZNAME:CST
DTSTART:20271107T070000
END:STANDARD
END:VTIMEZONE
BEGIN:VEVENT
DTSTART;TZID=America/Chicago:20260208T080000
DTEND;TZID=America/Chicago:20260218T190000
DTSTAMP:20260422T171810
CREATED:20260211T044826Z
LAST-MODIFIED:20260211T044826Z
UID:10001901-1770537600-1771441200@riverartsalliance.org
SUMMARY:Watch Online! FRFF Films!
DESCRIPTION:Online viewing for FRFF films is still underway! Check out these amazing films before they are no longer available! \nhttps://watch.eventive.org/frff
URL:https://riverartsalliance.org/event/watch-online-frff-films/
LOCATION:MN
END:VEVENT
BEGIN:VEVENT
DTSTART;VALUE=DATE:20260208
DTEND;VALUE=DATE:20260216
DTSTAMP:20260422T171810
CREATED:20250202T152244Z
LAST-MODIFIED:20250202T152244Z
UID:10000856-1770508800-1771199999@riverartsalliance.org
SUMMARY:Frozen River Film Festival Celebrates 20 Years with New Film Series
DESCRIPTION:frff.eventive.org \nThis year the Frozen River Film Festival (FRFF) will be celebrating 20 years of bringing documentary films and filmmakers to Winona. The festival begins Sunday\, February 9\, (You can still get home in time to watch the Super Bowl!) and runs through Sunday\, February 16. This year’s event will feature the World Premiere of FRFF’s self-produced documentary\, Beneath the Ice: The Frozen River Film Festival Story. Learn more.
URL:https://riverartsalliance.org/event/frozen-river-film-festival-celebrates-20-years-with-new-film-series/2026-02-08/
LOCATION:MN
END:VEVENT
BEGIN:VEVENT
DTSTART;TZID=America/Chicago:20260207T190000
DTEND;TZID=America/Chicago:20260207T210000
DTSTAMP:20260422T171810
CREATED:20260114T150018Z
LAST-MODIFIED:20260114T004011Z
UID:10001147-1770490800-1770498000@riverartsalliance.org
SUMMARY:Movies at Old Main
DESCRIPTION:20869 College Ave Galesville | Adults $10/Students $5 | Concessions available \nSaturday\, Feb 7 | 7 PM | “Hard Day’s Night” \nSaturday\, Feb 14 | 2 PM | “Silly Symphonies” \nSaturday\, Feb 20 | 7 PM | “Way Down East” A silent movie
URL:https://riverartsalliance.org/event/movies-at-old-main-2/
LOCATION:Old Main Cultural Center\, 20869 S College Ave.\, Galesville\, WI\, 54630\, United States
END:VEVENT
BEGIN:VEVENT
DTSTART;TZID=America/Chicago:20260207T180000
DTEND;TZID=America/Chicago:20260207T210000
DTSTAMP:20260422T171810
CREATED:20250822T141537Z
LAST-MODIFIED:20250822T141537Z
UID:10001740-1770487200-1770498000@riverartsalliance.org
SUMMARY:Call to Artists: Between the Bluffs Plein Air
DESCRIPTION:Demonstrations: Sat. Oct 11\ 9 – Noon\nShow: Oct 17\, 18\, 19 \nBetweenthebluffs.com \nColleen Shore is a member of the River Arts Alliance. To learn more about the benefits of membership\, please visit: riverartsalliance.org/membership/.
URL:https://riverartsalliance.org/event/call-to-artists-between-the-bluffs-plein-air/2026-02-07/
LOCATION:MN
ATTACH;FMTTYPE=image/png:https://riverartsalliance.org/wp-content/uploads/2025/08/Between-the-Bluffs-call-to-artists-1-1-1.png
END:VEVENT
BEGIN:VEVENT
DTSTART;VALUE=DATE:20260207
DTEND;VALUE=DATE:20260215
DTSTAMP:20260422T171810
CREATED:20250202T152244Z
LAST-MODIFIED:20250202T152244Z
UID:10000855-1770422400-1771113599@riverartsalliance.org
SUMMARY:Frozen River Film Festival Celebrates 20 Years with New Film Series
DESCRIPTION:frff.eventive.org \nThis year the Frozen River Film Festival (FRFF) will be celebrating 20 years of bringing documentary films and filmmakers to Winona. The festival begins Sunday\, February 9\, (You can still get home in time to watch the Super Bowl!) and runs through Sunday\, February 16. This year’s event will feature the World Premiere of FRFF’s self-produced documentary\, Beneath the Ice: The Frozen River Film Festival Story. Learn more.
URL:https://riverartsalliance.org/event/frozen-river-film-festival-celebrates-20-years-with-new-film-series/2026-02-07/
LOCATION:MN
END:VEVENT
BEGIN:VEVENT
DTSTART;TZID=America/Chicago:20260206T180000
DTEND;TZID=America/Chicago:20260206T210000
DTSTAMP:20260422T171810
CREATED:20250822T141537Z
LAST-MODIFIED:20250822T141537Z
UID:10001739-1770400800-1770411600@riverartsalliance.org
SUMMARY:Call to Artists: Between the Bluffs Plein Air
DESCRIPTION:Demonstrations: Sat. Oct 11\ 9 – Noon\nShow: Oct 17\, 18\, 19 \nBetweenthebluffs.com \nColleen Shore is a member of the River Arts Alliance. To learn more about the benefits of membership\, please visit: riverartsalliance.org/membership/.
URL:https://riverartsalliance.org/event/call-to-artists-between-the-bluffs-plein-air/2026-02-06/
LOCATION:MN
ATTACH;FMTTYPE=image/png:https://riverartsalliance.org/wp-content/uploads/2025/08/Between-the-Bluffs-call-to-artists-1-1-1.png
END:VEVENT
BEGIN:VEVENT
DTSTART;VALUE=DATE:20260206
DTEND;VALUE=DATE:20260214
DTSTAMP:20260422T171810
CREATED:20250202T152244Z
LAST-MODIFIED:20250202T152244Z
UID:10000854-1770336000-1771027199@riverartsalliance.org
SUMMARY:Frozen River Film Festival Celebrates 20 Years with New Film Series
DESCRIPTION:frff.eventive.org \nThis year the Frozen River Film Festival (FRFF) will be celebrating 20 years of bringing documentary films and filmmakers to Winona. The festival begins Sunday\, February 9\, (You can still get home in time to watch the Super Bowl!) and runs through Sunday\, February 16. This year’s event will feature the World Premiere of FRFF’s self-produced documentary\, Beneath the Ice: The Frozen River Film Festival Story. Learn more.
URL:https://riverartsalliance.org/event/frozen-river-film-festival-celebrates-20-years-with-new-film-series/2026-02-06/
LOCATION:MN
END:VEVENT
BEGIN:VEVENT
DTSTART;TZID=America/Chicago:20260205T180000
DTEND;TZID=America/Chicago:20260205T210000
DTSTAMP:20260422T171810
CREATED:20250822T141537Z
LAST-MODIFIED:20250822T141537Z
UID:10001738-1770314400-1770325200@riverartsalliance.org
SUMMARY:Call to Artists: Between the Bluffs Plein Air
DESCRIPTION:Demonstrations: Sat. Oct 11\ 9 – Noon\nShow: Oct 17\, 18\, 19 \nBetweenthebluffs.com \nColleen Shore is a member of the River Arts Alliance. To learn more about the benefits of membership\, please visit: riverartsalliance.org/membership/.
URL:https://riverartsalliance.org/event/call-to-artists-between-the-bluffs-plein-air/2026-02-05/
LOCATION:MN
ATTACH;FMTTYPE=image/png:https://riverartsalliance.org/wp-content/uploads/2025/08/Between-the-Bluffs-call-to-artists-1-1-1.png
END:VEVENT
BEGIN:VEVENT
DTSTART;VALUE=DATE:20260205
DTEND;VALUE=DATE:20260213
DTSTAMP:20260422T171810
CREATED:20250202T152244Z
LAST-MODIFIED:20250202T152244Z
UID:10000853-1770249600-1770940799@riverartsalliance.org
SUMMARY:Frozen River Film Festival Celebrates 20 Years with New Film Series
DESCRIPTION:frff.eventive.org \nThis year the Frozen River Film Festival (FRFF) will be celebrating 20 years of bringing documentary films and filmmakers to Winona. The festival begins Sunday\, February 9\, (You can still get home in time to watch the Super Bowl!) and runs through Sunday\, February 16. This year’s event will feature the World Premiere of FRFF’s self-produced documentary\, Beneath the Ice: The Frozen River Film Festival Story. Learn more.
URL:https://riverartsalliance.org/event/frozen-river-film-festival-celebrates-20-years-with-new-film-series/2026-02-05/
LOCATION:MN
END:VEVENT
BEGIN:VEVENT
DTSTART;TZID=America/Chicago:20260204T190000
DTEND;TZID=America/Chicago:20260204T210000
DTSTAMP:20260422T171810
CREATED:20260125T230621Z
LAST-MODIFIED:20260125T230621Z
UID:10001892-1770231600-1770238800@riverartsalliance.org
SUMMARY:First Wednesday | The Laureate Reading Series
DESCRIPTION:FIRST WEDNESDAY (not the usual First Tuesday\, because of a scheduling conflict)\, the Laureate Reading Series will present DELVING FOR ELVES: AN ENCANTATORY READING BY MICHAEL WM. DOYLE\, poet\, historian\, raconteur. 7pm\, February 4th\, Blue Heron Coffeehouse.\nThe reading will be followed by a Q&A\, then an Open Mic. This event is open to the public and free\nof charge. Come hear Michael Doyle cast spells in verse to enchant the disenchanted!\nDoyle’s books include Buffalo Mirage! 23 Short Poems from the Life and Michael Wm. Doyle\, a\nColorful Life. In addition\, he served as editor and contributor to the books Wisconsin Images:\nWisconsin Artists Working in the Arts; Alma on the Mississippi: 1848-1932; and Imagine Nation:\nThe American Counterculture of the 1960s and ‘70s.
URL:https://riverartsalliance.org/event/first-wednesday-the-laureate-reading-series/
LOCATION:Blue Heron Coffeehouse\, 162 W 2nd St\, Winona\, MN\, 55987\, United States
END:VEVENT
BEGIN:VEVENT
DTSTART;TZID=America/Chicago:20260204T180000
DTEND;TZID=America/Chicago:20260204T210000
DTSTAMP:20260422T171810
CREATED:20250822T141537Z
LAST-MODIFIED:20250822T141537Z
UID:10001737-1770228000-1770238800@riverartsalliance.org
SUMMARY:Call to Artists: Between the Bluffs Plein Air
DESCRIPTION:Demonstrations: Sat. Oct 11\ 9 – Noon\nShow: Oct 17\, 18\, 19 \nBetweenthebluffs.com \nColleen Shore is a member of the River Arts Alliance. To learn more about the benefits of membership\, please visit: riverartsalliance.org/membership/.
URL:https://riverartsalliance.org/event/call-to-artists-between-the-bluffs-plein-air/2026-02-04/
LOCATION:MN
ATTACH;FMTTYPE=image/png:https://riverartsalliance.org/wp-content/uploads/2025/08/Between-the-Bluffs-call-to-artists-1-1-1.png
END:VEVENT
BEGIN:VEVENT
DTSTART;VALUE=DATE:20260204
DTEND;VALUE=DATE:20260212
DTSTAMP:20260422T171810
CREATED:20250202T152244Z
LAST-MODIFIED:20250202T152244Z
UID:10000852-1770163200-1770854399@riverartsalliance.org
SUMMARY:Frozen River Film Festival Celebrates 20 Years with New Film Series
DESCRIPTION:frff.eventive.org \nThis year the Frozen River Film Festival (FRFF) will be celebrating 20 years of bringing documentary films and filmmakers to Winona. The festival begins Sunday\, February 9\, (You can still get home in time to watch the Super Bowl!) and runs through Sunday\, February 16. This year’s event will feature the World Premiere of FRFF’s self-produced documentary\, Beneath the Ice: The Frozen River Film Festival Story. Learn more.
URL:https://riverartsalliance.org/event/frozen-river-film-festival-celebrates-20-years-with-new-film-series/2026-02-04/
LOCATION:MN
END:VEVENT
BEGIN:VEVENT
DTSTART;TZID=America/Chicago:20260203T180000
DTEND;TZID=America/Chicago:20260203T210000
DTSTAMP:20260422T171810
CREATED:20250822T141537Z
LAST-MODIFIED:20250822T141537Z
UID:10001736-1770141600-1770152400@riverartsalliance.org
SUMMARY:Call to Artists: Between the Bluffs Plein Air
DESCRIPTION:Demonstrations: Sat. Oct 11\ 9 – Noon\nShow: Oct 17\, 18\, 19 \nBetweenthebluffs.com \nColleen Shore is a member of the River Arts Alliance. To learn more about the benefits of membership\, please visit: riverartsalliance.org/membership/.
URL:https://riverartsalliance.org/event/call-to-artists-between-the-bluffs-plein-air/2026-02-03/
LOCATION:MN
ATTACH;FMTTYPE=image/png:https://riverartsalliance.org/wp-content/uploads/2025/08/Between-the-Bluffs-call-to-artists-1-1-1.png
END:VEVENT
BEGIN:VEVENT
DTSTART;VALUE=DATE:20260203
DTEND;VALUE=DATE:20260211
DTSTAMP:20260422T171810
CREATED:20250202T152244Z
LAST-MODIFIED:20250202T152244Z
UID:10000851-1770076800-1770767999@riverartsalliance.org
SUMMARY:Frozen River Film Festival Celebrates 20 Years with New Film Series
DESCRIPTION:frff.eventive.org \nThis year the Frozen River Film Festival (FRFF) will be celebrating 20 years of bringing documentary films and filmmakers to Winona. The festival begins Sunday\, February 9\, (You can still get home in time to watch the Super Bowl!) and runs through Sunday\, February 16. This year’s event will feature the World Premiere of FRFF’s self-produced documentary\, Beneath the Ice: The Frozen River Film Festival Story. Learn more.
URL:https://riverartsalliance.org/event/frozen-river-film-festival-celebrates-20-years-with-new-film-series/2026-02-03/
LOCATION:MN
END:VEVENT
BEGIN:VEVENT
DTSTART;TZID=America/Chicago:20260202T180000
DTEND;TZID=America/Chicago:20260202T210000
DTSTAMP:20260422T171810
CREATED:20250822T141537Z
LAST-MODIFIED:20250822T141537Z
UID:10001735-1770055200-1770066000@riverartsalliance.org
SUMMARY:Call to Artists: Between the Bluffs Plein Air
DESCRIPTION:Demonstrations: Sat. Oct 11\ 9 – Noon\nShow: Oct 17\, 18\, 19 \nBetweenthebluffs.com \nColleen Shore is a member of the River Arts Alliance. To learn more about the benefits of membership\, please visit: riverartsalliance.org/membership/.
URL:https://riverartsalliance.org/event/call-to-artists-between-the-bluffs-plein-air/2026-02-02/
LOCATION:MN
ATTACH;FMTTYPE=image/png:https://riverartsalliance.org/wp-content/uploads/2025/08/Between-the-Bluffs-call-to-artists-1-1-1.png
END:VEVENT
BEGIN:VEVENT
DTSTART;VALUE=DATE:20260202
DTEND;VALUE=DATE:20260210
DTSTAMP:20260422T171810
CREATED:20250202T152244Z
LAST-MODIFIED:20250202T152244Z
UID:10000850-1769990400-1770681599@riverartsalliance.org
SUMMARY:Frozen River Film Festival Celebrates 20 Years with New Film Series
DESCRIPTION:frff.eventive.org \nThis year the Frozen River Film Festival (FRFF) will be celebrating 20 years of bringing documentary films and filmmakers to Winona. The festival begins Sunday\, February 9\, (You can still get home in time to watch the Super Bowl!) and runs through Sunday\, February 16. This year’s event will feature the World Premiere of FRFF’s self-produced documentary\, Beneath the Ice: The Frozen River Film Festival Story. Learn more.
URL:https://riverartsalliance.org/event/frozen-river-film-festival-celebrates-20-years-with-new-film-series/2026-02-02/
LOCATION:MN
END:VEVENT
BEGIN:VEVENT
DTSTART;TZID=America/Chicago:20260201T180000
DTEND;TZID=America/Chicago:20260201T210000
DTSTAMP:20260422T171810
CREATED:20250822T141537Z
LAST-MODIFIED:20250822T141537Z
UID:10001734-1769968800-1769979600@riverartsalliance.org
SUMMARY:Call to Artists: Between the Bluffs Plein Air
DESCRIPTION:Demonstrations: Sat. Oct 11\ 9 – Noon\nShow: Oct 17\, 18\, 19 \nBetweenthebluffs.com \nColleen Shore is a member of the River Arts Alliance. To learn more about the benefits of membership\, please visit: riverartsalliance.org/membership/.
URL:https://riverartsalliance.org/event/call-to-artists-between-the-bluffs-plein-air/2026-02-01/
LOCATION:MN
ATTACH;FMTTYPE=image/png:https://riverartsalliance.org/wp-content/uploads/2025/08/Between-the-Bluffs-call-to-artists-1-1-1.png
END:VEVENT
BEGIN:VEVENT
DTSTART;VALUE=DATE:20260201
DTEND;VALUE=DATE:20260316
DTSTAMP:20260422T171810
CREATED:20260125T222928Z
LAST-MODIFIED:20260125T223956Z
UID:10001891-1769904000-1773619199@riverartsalliance.org
SUMMARY:Exhibit at WAC | The Gaucho
DESCRIPTION:The Winona Arts Center (228 E 5th St) is excited to present “The Gaucho\,” a captivating exhibition showcasing the works of Ivete Vaz de Castro Martinez\, a visual artist and the Executive Director and founder of the Med City Art Festival in Rochester.  The exhibit will run from February 1 to March 15\, 2026\, with an opening reception on Sunday\, February 1\, from 1-4pm.
URL:https://riverartsalliance.org/event/exhibit-opening-the-gaucho/
LOCATION:Winona Arts Center\, 228 E 5th St.\, Winona\, MN\, 55987\, United States
END:VEVENT
BEGIN:VEVENT
DTSTART;VALUE=DATE:20260201
DTEND;VALUE=DATE:20260209
DTSTAMP:20260422T171810
CREATED:20260119T150004Z
LAST-MODIFIED:20260113T060243Z
UID:10001889-1769904000-1770595199@riverartsalliance.org
SUMMARY:Frozen River Film Festival
DESCRIPTION:To reserve your Festival Pass (in person only)\, or All Access pass (In Person and Online) for the 2026 Frozen River Film Festival\, visit frff.org/attend. To learn more about the films featured in this year’s festival\, visit frff.org/films. \nThe printed program will be made available the week before the festival. FRFF’s box office will open on Tuesdays-Thursdays\, 11 am – 3 pm starting Tuesday January 20th at our new office in The ARC – Home of the Historic Masonic Theatre 255 Main Street\, Winona\, MN 55987. Please enter through the doors on 5th street where the drive up and awning are.
URL:https://riverartsalliance.org/event/frozen-river-film-festival/
LOCATION:The ARC\, 255 Main St.\, Winona\, MN\, 55987\, United States
END:VEVENT
BEGIN:VEVENT
DTSTART;VALUE=DATE:20260201
DTEND;VALUE=DATE:20260209
DTSTAMP:20260422T171810
CREATED:20250202T152244Z
LAST-MODIFIED:20250202T152244Z
UID:10000849-1769904000-1770595199@riverartsalliance.org
SUMMARY:Frozen River Film Festival Celebrates 20 Years with New Film Series
DESCRIPTION:frff.eventive.org \nThis year the Frozen River Film Festival (FRFF) will be celebrating 20 years of bringing documentary films and filmmakers to Winona. The festival begins Sunday\, February 9\, (You can still get home in time to watch the Super Bowl!) and runs through Sunday\, February 16. This year’s event will feature the World Premiere of FRFF’s self-produced documentary\, Beneath the Ice: The Frozen River Film Festival Story. Learn more.
URL:https://riverartsalliance.org/event/frozen-river-film-festival-celebrates-20-years-with-new-film-series/2026-02-01/
LOCATION:MN
END:VEVENT
BEGIN:VEVENT
DTSTART;TZID=America/Chicago:20260131T180000
DTEND;TZID=America/Chicago:20260131T210000
DTSTAMP:20260422T171810
CREATED:20260109T195306Z
LAST-MODIFIED:20260109T195340Z
UID:10001885-1769882400-1769893200@riverartsalliance.org
SUMMARY:Annual BON APPETIT Event at Winona Arts Center
DESCRIPTION:The Winona Arts Center is excited to host our annual BON APPETIT featuring the film\, Big Night. \nEnjoy Italian appetizers\, desserts\, wine\, n/a beverages\, tea & coffee beginning at 6:00pm. Film starts at 7:00. Tickets $25 in Advance ($28.52 Eventbrite) / $25 at the Door. Tickets are available at Music Mart and on Eventbrite until January 31st at 4pm. \nEventbrite: Tickets are limited to 50 so get your ticket early. Join us for a fun evening of food\, film\, wine and warm conversations! Big Night is a film set in the 1950s and is a lovingly crafted film about two Italian immigrant brothers and their restaurant in New Jersey. “It is a tribute to food\, to all things American\, to immigrants trying to make it and to the love between brothers”. Directed by Stanley Tucci & Campbell Scott. Released in 1996 in English; run time 100 minutes.
URL:https://riverartsalliance.org/event/annual-bon-appetit-event-at-winona-arts-center/
LOCATION:Winona Arts Center\, 228 E 5th St.\, Winona\, MN\, 55987\, United States
END:VEVENT
BEGIN:VEVENT
DTSTART;TZID=America/Chicago:20260131T180000
DTEND;TZID=America/Chicago:20260131T210000
DTSTAMP:20260422T171810
CREATED:20250822T141537Z
LAST-MODIFIED:20250822T141537Z
UID:10001733-1769882400-1769893200@riverartsalliance.org
SUMMARY:Call to Artists: Between the Bluffs Plein Air
DESCRIPTION:Demonstrations: Sat. Oct 11\ 9 – Noon\nShow: Oct 17\, 18\, 19 \nBetweenthebluffs.com \nColleen Shore is a member of the River Arts Alliance. To learn more about the benefits of membership\, please visit: riverartsalliance.org/membership/.
URL:https://riverartsalliance.org/event/call-to-artists-between-the-bluffs-plein-air/2026-01-31/
LOCATION:MN
ATTACH;FMTTYPE=image/png:https://riverartsalliance.org/wp-content/uploads/2025/08/Between-the-Bluffs-call-to-artists-1-1-1.png
END:VEVENT
BEGIN:VEVENT
DTSTART;VALUE=DATE:20260131
DTEND;VALUE=DATE:20260208
DTSTAMP:20260422T171810
CREATED:20250202T152244Z
LAST-MODIFIED:20250202T152244Z
UID:10000848-1769817600-1770508799@riverartsalliance.org
SUMMARY:Frozen River Film Festival Celebrates 20 Years with New Film Series
DESCRIPTION:frff.eventive.org \nThis year the Frozen River Film Festival (FRFF) will be celebrating 20 years of bringing documentary films and filmmakers to Winona. The festival begins Sunday\, February 9\, (You can still get home in time to watch the Super Bowl!) and runs through Sunday\, February 16. This year’s event will feature the World Premiere of FRFF’s self-produced documentary\, Beneath the Ice: The Frozen River Film Festival Story. Learn more.
URL:https://riverartsalliance.org/event/frozen-river-film-festival-celebrates-20-years-with-new-film-series/2026-01-31/
LOCATION:MN
END:VEVENT
BEGIN:VEVENT
DTSTART;TZID=America/Chicago:20260130T190000
DTEND;TZID=America/Chicago:20260130T210000
DTSTAMP:20260422T171810
CREATED:20260114T150016Z
LAST-MODIFIED:20260114T003410Z
UID:10001145-1769799600-1769806800@riverartsalliance.org
SUMMARY:Movies at Old Main
DESCRIPTION:20869 College Ave Galesville | Adults $10/Students $5 | Concessions available \nFriday\, Jan 30 | 7 PM | “You Can’t Take it With You” \nSaturday\, Feb 7 | 7 PM | “Hard Day’s Night” \nSaturday\, Feb 14 | 2 PM | “Silly Symphonies” \nSaturday\, Feb 20 | 7 PM | “Way Down East” A silent movie
URL:https://riverartsalliance.org/event/movies-at-old-main/
LOCATION:Old Main Cultural Center\, 20869 S College Ave.\, Galesville\, WI\, 54630\, United States
END:VEVENT
BEGIN:VEVENT
DTSTART;TZID=America/Chicago:20260130T180000
DTEND;TZID=America/Chicago:20260130T210000
DTSTAMP:20260422T171810
CREATED:20250822T141537Z
LAST-MODIFIED:20250822T141537Z
UID:10001732-1769796000-1769806800@riverartsalliance.org
SUMMARY:Call to Artists: Between the Bluffs Plein Air
DESCRIPTION:Demonstrations: Sat. Oct 11\ 9 – Noon\nShow: Oct 17\, 18\, 19 \nBetweenthebluffs.com \nColleen Shore is a member of the River Arts Alliance. To learn more about the benefits of membership\, please visit: riverartsalliance.org/membership/.
URL:https://riverartsalliance.org/event/call-to-artists-between-the-bluffs-plein-air/2026-01-30/
LOCATION:MN
ATTACH;FMTTYPE=image/png:https://riverartsalliance.org/wp-content/uploads/2025/08/Between-the-Bluffs-call-to-artists-1-1-1.png
END:VEVENT
BEGIN:VEVENT
DTSTART;VALUE=DATE:20260130
DTEND;VALUE=DATE:20260207
DTSTAMP:20260422T171810
CREATED:20250202T152244Z
LAST-MODIFIED:20250202T152244Z
UID:10000847-1769731200-1770422399@riverartsalliance.org
SUMMARY:Frozen River Film Festival Celebrates 20 Years with New Film Series
DESCRIPTION:frff.eventive.org \nThis year the Frozen River Film Festival (FRFF) will be celebrating 20 years of bringing documentary films and filmmakers to Winona. The festival begins Sunday\, February 9\, (You can still get home in time to watch the Super Bowl!) and runs through Sunday\, February 16. This year’s event will feature the World Premiere of FRFF’s self-produced documentary\, Beneath the Ice: The Frozen River Film Festival Story. Learn more.
URL:https://riverartsalliance.org/event/frozen-river-film-festival-celebrates-20-years-with-new-film-series/2026-01-30/
LOCATION:MN
END:VEVENT
BEGIN:VEVENT
DTSTART;VALUE=DATE:20260130
DTEND;VALUE=DATE:20260202
DTSTAMP:20260422T171810
CREATED:20260122T185714Z
LAST-MODIFIED:20260122T185714Z
UID:10001890-1769731200-1769990399@riverartsalliance.org
SUMMARY:New Look Weekend 2026 | Minnesota Marine Art Museum
DESCRIPTION:The Minnesota Marine Art Museum (MMAM) invites the public to celebrate the launch of its 2026 theme\, Making Waves\, with the New Look Weekend\, a dynamic three-day celebration featuring a Friday night party\, artist-led programs\, and the opening of three new exhibitions. Taking place Friday\, January 30 through Sunday\, February 1\, 2026\, New Look Weekend marks a bold new chapter for the museum with immersive experiences that bring together art\, music\, craft\, and storytelling inspired by water.
URL:https://riverartsalliance.org/event/new-look-weekend-2026-minnesota-marine-art-museum/
LOCATION:Minnesota Marine Art Museum\, 800 Riverview Dr.\, Winona\, MN\, 55987\, United States
END:VEVENT
BEGIN:VEVENT
DTSTART;TZID=America/Chicago:20260129T180000
DTEND;TZID=America/Chicago:20260129T210000
DTSTAMP:20260422T171810
CREATED:20250822T141537Z
LAST-MODIFIED:20250822T141537Z
UID:10001731-1769709600-1769720400@riverartsalliance.org
SUMMARY:Call to Artists: Between the Bluffs Plein Air
DESCRIPTION:Demonstrations: Sat. Oct 11\ 9 – Noon\nShow: Oct 17\, 18\, 19 \nBetweenthebluffs.com \nColleen Shore is a member of the River Arts Alliance. To learn more about the benefits of membership\, please visit: riverartsalliance.org/membership/.
URL:https://riverartsalliance.org/event/call-to-artists-between-the-bluffs-plein-air/2026-01-29/
LOCATION:MN
ATTACH;FMTTYPE=image/png:https://riverartsalliance.org/wp-content/uploads/2025/08/Between-the-Bluffs-call-to-artists-1-1-1.png
END:VEVENT
BEGIN:VEVENT
DTSTART;VALUE=DATE:20260129
DTEND;VALUE=DATE:20260206
DTSTAMP:20260422T171810
CREATED:20250202T152244Z
LAST-MODIFIED:20250202T152244Z
UID:10000846-1769644800-1770335999@riverartsalliance.org
SUMMARY:Frozen River Film Festival Celebrates 20 Years with New Film Series
DESCRIPTION:frff.eventive.org \nThis year the Frozen River Film Festival (FRFF) will be celebrating 20 years of bringing documentary films and filmmakers to Winona. The festival begins Sunday\, February 9\, (You can still get home in time to watch the Super Bowl!) and runs through Sunday\, February 16. This year’s event will feature the World Premiere of FRFF’s self-produced documentary\, Beneath the Ice: The Frozen River Film Festival Story. Learn more.
URL:https://riverartsalliance.org/event/frozen-river-film-festival-celebrates-20-years-with-new-film-series/2026-01-29/
LOCATION:MN
END:VEVENT
BEGIN:VEVENT
DTSTART;TZID=America/Chicago:20260128T180000
DTEND;TZID=America/Chicago:20260128T210000
DTSTAMP:20260422T171810
CREATED:20250822T141537Z
LAST-MODIFIED:20250822T141537Z
UID:10001730-1769623200-1769634000@riverartsalliance.org
SUMMARY:Call to Artists: Between the Bluffs Plein Air
DESCRIPTION:Demonstrations: Sat. Oct 11\ 9 – Noon\nShow: Oct 17\, 18\, 19 \nBetweenthebluffs.com \nColleen Shore is a member of the River Arts Alliance. To learn more about the benefits of membership\, please visit: riverartsalliance.org/membership/.
URL:https://riverartsalliance.org/event/call-to-artists-between-the-bluffs-plein-air/2026-01-28/
LOCATION:MN
ATTACH;FMTTYPE=image/png:https://riverartsalliance.org/wp-content/uploads/2025/08/Between-the-Bluffs-call-to-artists-1-1-1.png
END:VEVENT
END:VCALENDAR