BEGIN:VCALENDAR
VERSION:2.0
PRODID:-//River Arts Alliance - ECPv6.15.20//NONSGML v1.0//EN
CALSCALE:GREGORIAN
METHOD:PUBLISH
X-WR-CALNAME:River Arts Alliance
X-ORIGINAL-URL:https://riverartsalliance.org
X-WR-CALDESC:Events for River Arts Alliance
REFRESH-INTERVAL;VALUE=DURATION:PT1H
X-Robots-Tag:noindex
X-PUBLISHED-TTL:PT1H
BEGIN:VTIMEZONE
TZID:America/Chicago
BEGIN:DAYLIGHT
TZOFFSETFROM:-0600
TZOFFSETTO:-0500
TZNAME:CDT
DTSTART:20250309T080000
END:DAYLIGHT
BEGIN:STANDARD
TZOFFSETFROM:-0500
TZOFFSETTO:-0600
TZNAME:CST
DTSTART:20251102T070000
END:STANDARD
BEGIN:DAYLIGHT
TZOFFSETFROM:-0600
TZOFFSETTO:-0500
TZNAME:CDT
DTSTART:20260308T080000
END:DAYLIGHT
BEGIN:STANDARD
TZOFFSETFROM:-0500
TZOFFSETTO:-0600
TZNAME:CST
DTSTART:20261101T070000
END:STANDARD
BEGIN:DAYLIGHT
TZOFFSETFROM:-0600
TZOFFSETTO:-0500
TZNAME:CDT
DTSTART:20270314T080000
END:DAYLIGHT
BEGIN:STANDARD
TZOFFSETFROM:-0500
TZOFFSETTO:-0600
TZNAME:CST
DTSTART:20271107T070000
END:STANDARD
END:VTIMEZONE
BEGIN:VEVENT
DTSTART;TZID=America/Chicago:20260411T123000
DTEND;TZID=America/Chicago:20260411T153000
DTSTAMP:20260421T083910
CREATED:20260329T175420Z
LAST-MODIFIED:20260329T175420Z
UID:10002316-1775910600-1775921400@riverartsalliance.org
SUMMARY:Creating Your Own Spirit Journey Doll
DESCRIPTION:Join Cheri Bunker and Create your own Spirit Journey Doll at the Winona Arts Center April 11\, from 12:30pm to 3:30pm.
URL:https://riverartsalliance.org/event/creating-your-own-spirit-journey-doll/
LOCATION:Winona Arts Center\, 228 E 5th St.\, Winona\, MN\, 55987\, United States
ATTACH;FMTTYPE=image/jpeg:https://riverartsalliance.org/wp-content/uploads/2026/03/Spirit-Doll-Green-Dress.jpg
END:VEVENT
BEGIN:VEVENT
DTSTART;TZID=America/Chicago:20260410T193000
DTEND;TZID=America/Chicago:20260410T213000
DTSTAMP:20260421T083910
CREATED:20260322T140040Z
LAST-MODIFIED:20260322T033941Z
UID:10001940-1775849400-1775856600@riverartsalliance.org
SUMMARY:No Wake - Preview | Commonweal Theatre
DESCRIPTION:With determination (and a bullhorn)\, retired professor Peter Michaels is on a mission to save the loons of Lake Winnipesaukee\, who are dying in record numbers. Meanwhile\, 19-year-old Sarah struggles to make ends meet by cleaning cabins. Over the course of a summer\, the unlikely pair slowly builds trust across a generational divide\, encouraging each other to shed the shadows of their pasts and honor those they cherish most. Our 38th season opens with a poignant charmer that ripples with humor and heart.
URL:https://riverartsalliance.org/event/no-wake-preview-commonweal-theatre/2026-04-10/
LOCATION:MN
ATTACH;FMTTYPE=image/jpeg:https://riverartsalliance.org/wp-content/uploads/2026/03/No-Wake-600px.jpg
END:VEVENT
BEGIN:VEVENT
DTSTART;TZID=America/Chicago:20260410T180000
DTEND;TZID=America/Chicago:20260411T210000
DTSTAMP:20260421T083910
CREATED:20260329T203633Z
LAST-MODIFIED:20260329T203633Z
UID:10002320-1775844000-1775941200@riverartsalliance.org
SUMMARY:Sugarloaf Community Theatre - 24-Hour theatre\, Craft on the Clock
DESCRIPTION:Every year Sugarloaf Community Theatre presents 24-Hour Theatre and every year the end results are a surprise and a blast! If you’d like to get in on this compressed rush of adrenaline\, there are two ways: 1) sign up to be an actor. That’s it. No auditions. If you’re 12+\, sign up and you’re IN. Or 2)mark your calendars to come see the results of a nothing-to-three one-act-plays in\, you guessed it\, TWENTY FOUR HOURS! Tickets are only ten bucks and can be purchased at linktr.ee/sugarloaftheatre or at the door.
URL:https://riverartsalliance.org/event/sugarloaf-community-theatre-24-hour-theatre-craft-on-the-clock/
LOCATION:Nate and Ally’s\, 109 E. 3rd St.\, Winona\, MN\, 55987\, United States
ATTACH;FMTTYPE=image/jpeg:https://riverartsalliance.org/wp-content/uploads/2026/03/Sugarloaf-24-Hour-600px.jpg
END:VEVENT
BEGIN:VEVENT
DTSTART;TZID=America/Chicago:20260409T193000
DTEND;TZID=America/Chicago:20260409T213000
DTSTAMP:20260421T083910
CREATED:20260322T140040Z
LAST-MODIFIED:20260322T033941Z
UID:10001939-1775763000-1775770200@riverartsalliance.org
SUMMARY:No Wake - Preview | Commonweal Theatre
DESCRIPTION:With determination (and a bullhorn)\, retired professor Peter Michaels is on a mission to save the loons of Lake Winnipesaukee\, who are dying in record numbers. Meanwhile\, 19-year-old Sarah struggles to make ends meet by cleaning cabins. Over the course of a summer\, the unlikely pair slowly builds trust across a generational divide\, encouraging each other to shed the shadows of their pasts and honor those they cherish most. Our 38th season opens with a poignant charmer that ripples with humor and heart.
URL:https://riverartsalliance.org/event/no-wake-preview-commonweal-theatre/2026-04-09/
LOCATION:MN
ATTACH;FMTTYPE=image/jpeg:https://riverartsalliance.org/wp-content/uploads/2026/03/No-Wake-600px.jpg
END:VEVENT
BEGIN:VEVENT
DTSTART;TZID=America/Chicago:20260409T170000
DTEND;TZID=America/Chicago:20260409T193000
DTSTAMP:20260421T083910
CREATED:20260322T120015Z
LAST-MODIFIED:20260322T031128Z
UID:10001938-1775754000-1775763000@riverartsalliance.org
SUMMARY:Gel Plate Image Transfers | WAC Class
DESCRIPTION:Explore the basic “ins and outs” of gel plate image transfers with Winona graphic designer\, Terri Lieder.
URL:https://riverartsalliance.org/event/gel-plate-image-transfers-wac-class/
LOCATION:Winona Arts Center\, 228 E 5th St.\, Winona\, MN\, 55987\, United States
ATTACH;FMTTYPE=image/jpeg:https://riverartsalliance.org/wp-content/uploads/2026/03/600px-Gel-Plate-Transfer.jpg
END:VEVENT
BEGIN:VEVENT
DTSTART;TZID=America/Chicago:20260408T173000
DTEND;TZID=America/Chicago:20260408T193000
DTSTAMP:20260421T083910
CREATED:20260328T225053Z
LAST-MODIFIED:20260328T225053Z
UID:10002313-1775669400-1775676600@riverartsalliance.org
SUMMARY:Preston Lawing Color Reduction Printing Class
DESCRIPTION:Preston Lawing is back for a 3 Day Workshop for Color Reduction Printing at the Winona Arts Center April 8\, 15\, 22 from 5:30pm to 7:30pm.
URL:https://riverartsalliance.org/event/preston-lawing-color-reduction-printing-class/2026-04-08/
LOCATION:Winona Arts Center\, 228 E 5th St.\, Winona\, MN\, 55987\, United States
ATTACH;FMTTYPE=image/jpeg:https://riverartsalliance.org/wp-content/uploads/2026/03/Preston-Lawing-600px.jpg
END:VEVENT
BEGIN:VEVENT
DTSTART;TZID=America/Chicago:20260407T190000
DTEND;TZID=America/Chicago:20260407T210000
DTSTAMP:20260421T083910
CREATED:20260329T181442Z
LAST-MODIFIED:20260329T181442Z
UID:10002319-1775588400-1775595600@riverartsalliance.org
SUMMARY:POET HEID ERDRICH TO READ AT BLUE HERON
DESCRIPTION:As part of First Tuesday\, the continuing Laureate Writing Series\, Heid Erdrich will read from her recent poetry at the Blue Heron Coffeehouse on April 7th at 7 pm. A Q&A and book signing will follow the reading. The evening will close with an Open Mic that is open to one and all. This event is free and open to the public.
URL:https://riverartsalliance.org/event/poet-heid-erdrich-to-read-at-blue-heron/
LOCATION:Winona Arts Center\, 228 E 5th St.\, Winona\, MN\, 55987\, United States
ATTACH;FMTTYPE=image/jpeg:https://riverartsalliance.org/wp-content/uploads/2026/03/Heid-Erdrich-600px.jpg
END:VEVENT
BEGIN:VEVENT
DTSTART;TZID=America/Chicago:20260407T173000
DTEND;TZID=America/Chicago:20260407T193000
DTSTAMP:20260421T083910
CREATED:20260315T150052Z
LAST-MODIFIED:20260322T025029Z
UID:10001929-1775583000-1775590200@riverartsalliance.org
SUMMARY:Michelle Cochran Drawing Class
DESCRIPTION:Drawing Class led by Michelle Cochran.
URL:https://riverartsalliance.org/event/michelle-cochran-drawing-class/2026-04-07/
LOCATION:Winona Arts Center\, 228 E 5th St.\, Winona\, MN\, 55987\, United States
END:VEVENT
BEGIN:VEVENT
DTSTART;TZID=America/Chicago:20260404T140000
DTEND;TZID=America/Chicago:20260404T170000
DTSTAMP:20260421T083910
CREATED:20260328T224628Z
LAST-MODIFIED:20260328T224628Z
UID:10002312-1775311200-1775322000@riverartsalliance.org
SUMMARY:Bell House Band at Cafe Congo April 4
DESCRIPTION:Bell House Band returns to Cafe Congo for a concert benefiting the Winona Food Shelf on April 4. The Bell House Band plays Americana\, folk\, and original music on guitar\, bass and mandolin. Band members are Connie Dretske\, Bob Stuber and Jim Armstrong.
URL:https://riverartsalliance.org/event/bell-house-band-at-cafe-congo-april-4/
LOCATION:cafe congo\, 161 West Broadway\, Winona\, MN\, 55987\, United States
ATTACH;FMTTYPE=image/jpeg:https://riverartsalliance.org/wp-content/uploads/2026/03/Bell-House-Band-600px.jpg
END:VEVENT
BEGIN:VEVENT
DTSTART;TZID=America/Chicago:20260404T130000
DTEND;TZID=America/Chicago:20260404T160000
DTSTAMP:20260421T083910
CREATED:20260328T224119Z
LAST-MODIFIED:20260328T224119Z
UID:10002311-1775307600-1775318400@riverartsalliance.org
SUMMARY:Patina at Elmaro Winery on Saturday\, April 4 at 1:00pm
DESCRIPTION:Come out to Elmaro on Saturday\, April 4th to hear and enjoy the band\, Patina from 1:00 to 4:00pm. Patina plays a mix of traditional and contemporary Celtic\, folk\, and original instrumentals and vocals.
URL:https://riverartsalliance.org/event/patina-at-elmaro-winery-on-saturday-april-4-at-100pm/
LOCATION:Elmaro Vineyard\, N14756 Delaney Rd.\, Trempealeau\, WI\, 54661\, United States
ATTACH;FMTTYPE=image/png:https://riverartsalliance.org/wp-content/uploads/2026/02/Patina-3-600px.png
END:VEVENT
BEGIN:VEVENT
DTSTART;TZID=America/Chicago:20260331T193000
DTEND;TZID=America/Chicago:20260331T210000
DTSTAMP:20260421T083910
CREATED:20260321T001812Z
LAST-MODIFIED:20260321T001812Z
UID:10001937-1774985400-1774990800@riverartsalliance.org
SUMMARY:WSU Faculty Recital: Deanne Mohr\, Piano
DESCRIPTION:Pianist Deanne Mohr will present a solo recital featuring works by Toru Takemitsu\, Johann Sebastian Bach\, Clara Schumann\, and Robert Schumann. The performance will take place on Tuesday\, March 31 in the Dufresne Performing Arts Center Recital Hall at Winona State University at 7:30 pm. Admission is free.
URL:https://riverartsalliance.org/event/wsu-faculty-recital-deanne-mohr-piano/
LOCATION:WSU DuFresne Performing Arts Center Recital Hall\, 450 Johnson St.\, Winona\, MN\, 55987\, United States
ATTACH;FMTTYPE=image/jpeg:https://riverartsalliance.org/wp-content/uploads/2026/03/Dr-Mohr-600px.jpg
END:VEVENT
BEGIN:VEVENT
DTSTART;VALUE=DATE:20260331
DTEND;VALUE=DATE:20260401
DTSTAMP:20260421T083910
CREATED:20260215T194942Z
LAST-MODIFIED:20260215T194942Z
UID:10001916-1774915200-1775001599@riverartsalliance.org
SUMMARY:LAST DAY: Calling All Playwrights! | Theatre du Mississippi
DESCRIPTION:Due Tuesday\, March 31 @ 11:59 PM \nCalling All Playwrights!\nGot a story itching to hit the stage? Theatre du Mississippi wants your original one-act play for our 2026-2027 Playwriting Competition! \nFull guidelines and submission details: tdmwinona.org/apply
URL:https://riverartsalliance.org/event/last-day-calling-all-playwrights-theatre-du-mississippi/
LOCATION:MN
END:VEVENT
BEGIN:VEVENT
DTSTART;TZID=America/Chicago:20260329T130000
DTEND;TZID=America/Chicago:20260329T160000
DTSTAMP:20260421T083910
CREATED:20260315T160001Z
LAST-MODIFIED:20260315T133841Z
UID:10001931-1774789200-1774800000@riverartsalliance.org
SUMMARY:Drawn Together | Closing Reception
DESCRIPTION:A group showing by 17 artists who come together for inspiration\, camaraderie and to create art.
URL:https://riverartsalliance.org/event/drawn-together-closing-reception/
LOCATION:Elmaro Vineyard\, N14756 Delaney Rd.\, Trempealeau\, WI\, 54661\, United States
END:VEVENT
BEGIN:VEVENT
DTSTART;TZID=America/Chicago:20260328T190000
DTEND;TZID=America/Chicago:20260328T223000
DTSTAMP:20260421T083910
CREATED:20260321T000208Z
LAST-MODIFIED:20260321T000208Z
UID:10001936-1774724400-1774737000@riverartsalliance.org
SUMMARY:Sock Hop | River City Dancers
DESCRIPTION:March 28\, 2026 @ 7:00 pm – 10:30 pm \nThe ARC (upstairs ballroom)\, 251 Main St.\, Winona\, MN \nGet ready to step back in time and twist the night away at a vintage-style Sock Hop! We’re bringing all the fun\, flair\, and classic moves of the ’50s – and we couldn’t be more excited!
URL:https://riverartsalliance.org/event/sock-hop-river-city-dancers/
LOCATION:The ARC\, 255 Main St.\, Winona\, MN\, 55987\, United States
ATTACH;FMTTYPE=image/jpeg:https://riverartsalliance.org/wp-content/uploads/2026/03/Sock-Hop-600px.jpg
END:VEVENT
BEGIN:VEVENT
DTSTART;TZID=America/Chicago:20260328T180000
DTEND;TZID=America/Chicago:20260328T210000
DTSTAMP:20260421T083910
CREATED:20250822T141537Z
LAST-MODIFIED:20250822T141537Z
UID:10001789-1774720800-1774731600@riverartsalliance.org
SUMMARY:Call to Artists: Between the Bluffs Plein Air
DESCRIPTION:Demonstrations: Sat. Oct 11\ 9 – Noon\nShow: Oct 17\, 18\, 19 \nBetweenthebluffs.com \nColleen Shore is a member of the River Arts Alliance. To learn more about the benefits of membership\, please visit: riverartsalliance.org/membership/.
URL:https://riverartsalliance.org/event/call-to-artists-between-the-bluffs-plein-air/2026-03-28/
LOCATION:MN
ATTACH;FMTTYPE=image/png:https://riverartsalliance.org/wp-content/uploads/2025/08/Between-the-Bluffs-call-to-artists-1-1-1.png
END:VEVENT
BEGIN:VEVENT
DTSTART;TZID=America/Chicago:20260328T100000
DTEND;TZID=America/Chicago:20260328T140000
DTSTAMP:20260421T083910
CREATED:20260305T171235Z
LAST-MODIFIED:20260305T171235Z
UID:10001924-1774692000-1774706400@riverartsalliance.org
SUMMARY:Oil Painting Class | WAC
DESCRIPTION:Winona Arts Center welcomes back Barb Halvorson on March 28\, 2026 from 10am to 2pm for an Oil Painting Class. We will learn to paint a beautiful Cardinal on a 11 x 14 Canvas. Barb will demonstrate and teach oil painting techniques. Class fee is $35 for Members and $40 non-members. All materials included. Beginners to Adult painters are welcome. No Drawing experience needed. For more information and to register contact Jen at jsbenson50+WAC@gmail.com.
URL:https://riverartsalliance.org/event/oil-painting-class-wac/
LOCATION:Winona Arts Center\, 228 E 5th St.\, Winona\, MN\, 55987\, United States
END:VEVENT
BEGIN:VEVENT
DTSTART;VALUE=DATE:20260328
DTEND;VALUE=DATE:20260405
DTSTAMP:20260421T083910
CREATED:20250202T152244Z
LAST-MODIFIED:20250202T152244Z
UID:10000904-1774656000-1775347199@riverartsalliance.org
SUMMARY:Frozen River Film Festival Celebrates 20 Years with New Film Series
DESCRIPTION:frff.eventive.org \nThis year the Frozen River Film Festival (FRFF) will be celebrating 20 years of bringing documentary films and filmmakers to Winona. The festival begins Sunday\, February 9\, (You can still get home in time to watch the Super Bowl!) and runs through Sunday\, February 16. This year’s event will feature the World Premiere of FRFF’s self-produced documentary\, Beneath the Ice: The Frozen River Film Festival Story. Learn more.
URL:https://riverartsalliance.org/event/frozen-river-film-festival-celebrates-20-years-with-new-film-series/2026-03-28/
LOCATION:MN
END:VEVENT
BEGIN:VEVENT
DTSTART;TZID=America/Chicago:20260327T180000
DTEND;TZID=America/Chicago:20260327T210000
DTSTAMP:20260421T083910
CREATED:20250822T141537Z
LAST-MODIFIED:20250822T141537Z
UID:10001788-1774634400-1774645200@riverartsalliance.org
SUMMARY:Call to Artists: Between the Bluffs Plein Air
DESCRIPTION:Demonstrations: Sat. Oct 11\ 9 – Noon\nShow: Oct 17\, 18\, 19 \nBetweenthebluffs.com \nColleen Shore is a member of the River Arts Alliance. To learn more about the benefits of membership\, please visit: riverartsalliance.org/membership/.
URL:https://riverartsalliance.org/event/call-to-artists-between-the-bluffs-plein-air/2026-03-27/
LOCATION:MN
ATTACH;FMTTYPE=image/png:https://riverartsalliance.org/wp-content/uploads/2025/08/Between-the-Bluffs-call-to-artists-1-1-1.png
END:VEVENT
BEGIN:VEVENT
DTSTART;VALUE=DATE:20260327
DTEND;VALUE=DATE:20260404
DTSTAMP:20260421T083910
CREATED:20250202T152244Z
LAST-MODIFIED:20250202T152244Z
UID:10000903-1774569600-1775260799@riverartsalliance.org
SUMMARY:Frozen River Film Festival Celebrates 20 Years with New Film Series
DESCRIPTION:frff.eventive.org \nThis year the Frozen River Film Festival (FRFF) will be celebrating 20 years of bringing documentary films and filmmakers to Winona. The festival begins Sunday\, February 9\, (You can still get home in time to watch the Super Bowl!) and runs through Sunday\, February 16. This year’s event will feature the World Premiere of FRFF’s self-produced documentary\, Beneath the Ice: The Frozen River Film Festival Story. Learn more.
URL:https://riverartsalliance.org/event/frozen-river-film-festival-celebrates-20-years-with-new-film-series/2026-03-27/
LOCATION:MN
END:VEVENT
BEGIN:VEVENT
DTSTART;TZID=America/Chicago:20260326T180000
DTEND;TZID=America/Chicago:20260326T210000
DTSTAMP:20260421T083910
CREATED:20250822T141537Z
LAST-MODIFIED:20250822T141537Z
UID:10001787-1774548000-1774558800@riverartsalliance.org
SUMMARY:Call to Artists: Between the Bluffs Plein Air
DESCRIPTION:Demonstrations: Sat. Oct 11\ 9 – Noon\nShow: Oct 17\, 18\, 19 \nBetweenthebluffs.com \nColleen Shore is a member of the River Arts Alliance. To learn more about the benefits of membership\, please visit: riverartsalliance.org/membership/.
URL:https://riverartsalliance.org/event/call-to-artists-between-the-bluffs-plein-air/2026-03-26/
LOCATION:MN
ATTACH;FMTTYPE=image/png:https://riverartsalliance.org/wp-content/uploads/2025/08/Between-the-Bluffs-call-to-artists-1-1-1.png
END:VEVENT
BEGIN:VEVENT
DTSTART;TZID=America/Chicago:20260326T120000
DTEND;TZID=America/Chicago:20260326T133000
DTSTAMP:20260421T083910
CREATED:20260215T173146Z
LAST-MODIFIED:20260215T173146Z
UID:10001910-1774526400-1774531800@riverartsalliance.org
SUMMARY:Forecast Webinar Series 2026
DESCRIPTION:Register Now—Creative Power\, Civic Purpose: How Artists Strengthen Democracy\n\n\n\n\n\n\n\n\n\n\nWe’re excited to launch Creative Power\, Civic Purpose: How Artists Strengthen Democracy\, a six-part virtual series supported by the Educational Foundation of America (EFA).\nThe series explores how artists and culture bearers strengthen civic health\, deepen democratic participation\, and help renew the civic fabric of communities across the country.
URL:https://riverartsalliance.org/event/forecast-webinar-series-2026/2026-03-26/
LOCATION:MN
END:VEVENT
BEGIN:VEVENT
DTSTART;VALUE=DATE:20260326
DTEND;VALUE=DATE:20260403
DTSTAMP:20260421T083910
CREATED:20250202T152244Z
LAST-MODIFIED:20250202T152244Z
UID:10000902-1774483200-1775174399@riverartsalliance.org
SUMMARY:Frozen River Film Festival Celebrates 20 Years with New Film Series
DESCRIPTION:frff.eventive.org \nThis year the Frozen River Film Festival (FRFF) will be celebrating 20 years of bringing documentary films and filmmakers to Winona. The festival begins Sunday\, February 9\, (You can still get home in time to watch the Super Bowl!) and runs through Sunday\, February 16. This year’s event will feature the World Premiere of FRFF’s self-produced documentary\, Beneath the Ice: The Frozen River Film Festival Story. Learn more.
URL:https://riverartsalliance.org/event/frozen-river-film-festival-celebrates-20-years-with-new-film-series/2026-03-26/
LOCATION:MN
END:VEVENT
BEGIN:VEVENT
DTSTART;TZID=America/Chicago:20260325T180000
DTEND;TZID=America/Chicago:20260325T210000
DTSTAMP:20260421T083910
CREATED:20250822T141537Z
LAST-MODIFIED:20250822T141537Z
UID:10001786-1774461600-1774472400@riverartsalliance.org
SUMMARY:Call to Artists: Between the Bluffs Plein Air
DESCRIPTION:Demonstrations: Sat. Oct 11\ 9 – Noon\nShow: Oct 17\, 18\, 19 \nBetweenthebluffs.com \nColleen Shore is a member of the River Arts Alliance. To learn more about the benefits of membership\, please visit: riverartsalliance.org/membership/.
URL:https://riverartsalliance.org/event/call-to-artists-between-the-bluffs-plein-air/2026-03-25/
LOCATION:MN
ATTACH;FMTTYPE=image/png:https://riverartsalliance.org/wp-content/uploads/2025/08/Between-the-Bluffs-call-to-artists-1-1-1.png
END:VEVENT
BEGIN:VEVENT
DTSTART;VALUE=DATE:20260325
DTEND;VALUE=DATE:20260402
DTSTAMP:20260421T083910
CREATED:20250202T152244Z
LAST-MODIFIED:20250202T152244Z
UID:10000901-1774396800-1775087999@riverartsalliance.org
SUMMARY:Frozen River Film Festival Celebrates 20 Years with New Film Series
DESCRIPTION:frff.eventive.org \nThis year the Frozen River Film Festival (FRFF) will be celebrating 20 years of bringing documentary films and filmmakers to Winona. The festival begins Sunday\, February 9\, (You can still get home in time to watch the Super Bowl!) and runs through Sunday\, February 16. This year’s event will feature the World Premiere of FRFF’s self-produced documentary\, Beneath the Ice: The Frozen River Film Festival Story. Learn more.
URL:https://riverartsalliance.org/event/frozen-river-film-festival-celebrates-20-years-with-new-film-series/2026-03-25/
LOCATION:MN
END:VEVENT
BEGIN:VEVENT
DTSTART;TZID=America/Chicago:20260324T180000
DTEND;TZID=America/Chicago:20260324T210000
DTSTAMP:20260421T083910
CREATED:20250822T141537Z
LAST-MODIFIED:20250822T141537Z
UID:10001785-1774375200-1774386000@riverartsalliance.org
SUMMARY:Call to Artists: Between the Bluffs Plein Air
DESCRIPTION:Demonstrations: Sat. Oct 11\ 9 – Noon\nShow: Oct 17\, 18\, 19 \nBetweenthebluffs.com \nColleen Shore is a member of the River Arts Alliance. To learn more about the benefits of membership\, please visit: riverartsalliance.org/membership/.
URL:https://riverartsalliance.org/event/call-to-artists-between-the-bluffs-plein-air/2026-03-24/
LOCATION:MN
ATTACH;FMTTYPE=image/png:https://riverartsalliance.org/wp-content/uploads/2025/08/Between-the-Bluffs-call-to-artists-1-1-1.png
END:VEVENT
BEGIN:VEVENT
DTSTART;VALUE=DATE:20260324
DTEND;VALUE=DATE:20260401
DTSTAMP:20260421T083910
CREATED:20250202T152244Z
LAST-MODIFIED:20250202T152244Z
UID:10000900-1774310400-1775001599@riverartsalliance.org
SUMMARY:Frozen River Film Festival Celebrates 20 Years with New Film Series
DESCRIPTION:frff.eventive.org \nThis year the Frozen River Film Festival (FRFF) will be celebrating 20 years of bringing documentary films and filmmakers to Winona. The festival begins Sunday\, February 9\, (You can still get home in time to watch the Super Bowl!) and runs through Sunday\, February 16. This year’s event will feature the World Premiere of FRFF’s self-produced documentary\, Beneath the Ice: The Frozen River Film Festival Story. Learn more.
URL:https://riverartsalliance.org/event/frozen-river-film-festival-celebrates-20-years-with-new-film-series/2026-03-24/
LOCATION:MN
END:VEVENT
BEGIN:VEVENT
DTSTART;TZID=America/Chicago:20260323T180000
DTEND;TZID=America/Chicago:20260323T210000
DTSTAMP:20260421T083910
CREATED:20250822T141537Z
LAST-MODIFIED:20250822T141537Z
UID:10001784-1774288800-1774299600@riverartsalliance.org
SUMMARY:Call to Artists: Between the Bluffs Plein Air
DESCRIPTION:Demonstrations: Sat. Oct 11\ 9 – Noon\nShow: Oct 17\, 18\, 19 \nBetweenthebluffs.com \nColleen Shore is a member of the River Arts Alliance. To learn more about the benefits of membership\, please visit: riverartsalliance.org/membership/.
URL:https://riverartsalliance.org/event/call-to-artists-between-the-bluffs-plein-air/2026-03-23/
LOCATION:MN
ATTACH;FMTTYPE=image/png:https://riverartsalliance.org/wp-content/uploads/2025/08/Between-the-Bluffs-call-to-artists-1-1-1.png
END:VEVENT
BEGIN:VEVENT
DTSTART;VALUE=DATE:20260323
DTEND;VALUE=DATE:20260331
DTSTAMP:20260421T083910
CREATED:20250202T152244Z
LAST-MODIFIED:20250202T152244Z
UID:10000899-1774224000-1774915199@riverartsalliance.org
SUMMARY:Frozen River Film Festival Celebrates 20 Years with New Film Series
DESCRIPTION:frff.eventive.org \nThis year the Frozen River Film Festival (FRFF) will be celebrating 20 years of bringing documentary films and filmmakers to Winona. The festival begins Sunday\, February 9\, (You can still get home in time to watch the Super Bowl!) and runs through Sunday\, February 16. This year’s event will feature the World Premiere of FRFF’s self-produced documentary\, Beneath the Ice: The Frozen River Film Festival Story. Learn more.
URL:https://riverartsalliance.org/event/frozen-river-film-festival-celebrates-20-years-with-new-film-series/2026-03-23/
LOCATION:MN
END:VEVENT
BEGIN:VEVENT
DTSTART;TZID=America/Chicago:20260322T180000
DTEND;TZID=America/Chicago:20260322T210000
DTSTAMP:20260421T083910
CREATED:20250822T141537Z
LAST-MODIFIED:20250822T141537Z
UID:10001783-1774202400-1774213200@riverartsalliance.org
SUMMARY:Call to Artists: Between the Bluffs Plein Air
DESCRIPTION:Demonstrations: Sat. Oct 11\ 9 – Noon\nShow: Oct 17\, 18\, 19 \nBetweenthebluffs.com \nColleen Shore is a member of the River Arts Alliance. To learn more about the benefits of membership\, please visit: riverartsalliance.org/membership/.
URL:https://riverartsalliance.org/event/call-to-artists-between-the-bluffs-plein-air/2026-03-22/
LOCATION:MN
ATTACH;FMTTYPE=image/png:https://riverartsalliance.org/wp-content/uploads/2025/08/Between-the-Bluffs-call-to-artists-1-1-1.png
END:VEVENT
BEGIN:VEVENT
DTSTART;TZID=America/Chicago:20260322T140000
DTEND;TZID=America/Chicago:20260322T160000
DTSTAMP:20260421T083910
CREATED:20260224T190515Z
LAST-MODIFIED:20260224T190515Z
UID:10001194-1774188000-1774195200@riverartsalliance.org
SUMMARY:Original One Acts 2026
DESCRIPTION:This compilation of plays offers audiences a dynamic theatrical experience that is both entertaining and thought-provoking. Through humor\, satire\, and emotional depth\, the plays create space for laughter alongside difficult conversations about disability\, grief\, bodily autonomy\, gun culture\, faith\, aging\, and second chances. Each story invites viewers to see the world through perspectives they may not share\, fostering empathy and reflection without sacrificing wit or theatrical imagination. Because the pieces range in tone (from intimate and personal to satirical) they keep audiences engaged while encouraging them to examine their own assumptions about identity\, connection\, and responsibility. This showcase offers compelling storytelling and the opportunity to join in meaningful dialogue after the show!
URL:https://riverartsalliance.org/event/original-one-acts-2026/2026-03-22/
LOCATION:The ARC\, 255 Main St.\, Winona\, MN\, 55987\, United States
END:VEVENT
END:VCALENDAR