BEGIN:VCALENDAR
VERSION:2.0
PRODID:-//River Arts Alliance - ECPv6.15.20//NONSGML v1.0//EN
CALSCALE:GREGORIAN
METHOD:PUBLISH
X-ORIGINAL-URL:https://riverartsalliance.org
X-WR-CALDESC:Events for River Arts Alliance
REFRESH-INTERVAL;VALUE=DURATION:PT1H
X-Robots-Tag:noindex
X-PUBLISHED-TTL:PT1H
BEGIN:VTIMEZONE
TZID:America/Chicago
BEGIN:DAYLIGHT
TZOFFSETFROM:-0600
TZOFFSETTO:-0500
TZNAME:CDT
DTSTART:20250309T080000
END:DAYLIGHT
BEGIN:STANDARD
TZOFFSETFROM:-0500
TZOFFSETTO:-0600
TZNAME:CST
DTSTART:20251102T070000
END:STANDARD
BEGIN:DAYLIGHT
TZOFFSETFROM:-0600
TZOFFSETTO:-0500
TZNAME:CDT
DTSTART:20260308T080000
END:DAYLIGHT
BEGIN:STANDARD
TZOFFSETFROM:-0500
TZOFFSETTO:-0600
TZNAME:CST
DTSTART:20261101T070000
END:STANDARD
BEGIN:DAYLIGHT
TZOFFSETFROM:-0600
TZOFFSETTO:-0500
TZNAME:CDT
DTSTART:20270314T080000
END:DAYLIGHT
BEGIN:STANDARD
TZOFFSETFROM:-0500
TZOFFSETTO:-0600
TZNAME:CST
DTSTART:20271107T070000
END:STANDARD
END:VTIMEZONE
BEGIN:VEVENT
DTSTART;VALUE=DATE:20260516
DTEND;VALUE=DATE:20260809
DTSTAMP:20260421T192746
CREATED:20260404T220047Z
LAST-MODIFIED:20260404T213137Z
UID:10002377-1778889600-1786233599@riverartsalliance.org
SUMMARY:No Wake | Commonweal Theatre Company
DESCRIPTION:With determination (and a bullhorn)\, retired professor Peter Michaels is on a mission to save the loons of Lake Winnipesaukee\, who are dying in record numbers. Meanwhile\, 19-year-old Sarah struggles to make ends meet by cleaning cabins. Over the course of a summer\, the unlikely pair slowly builds trust across a generational divide\, encouraging each other to shed the shadows of their pasts and honor those they cherish most. Our 38th season opens with a poignant charmer that ripples with humor and heart.
URL:https://riverartsalliance.org/event/no-wake-commonweal-theatre-company/2026-05-16/
LOCATION:Commonweal Theatre\, 208 Parkway Ave. N\, Lanesboro\, MN\, United States
ATTACH;FMTTYPE=image/jpeg:https://riverartsalliance.org/wp-content/uploads/2026/03/No-Wake-600px.jpg
END:VEVENT
BEGIN:VEVENT
DTSTART;VALUE=DATE:20260517
DTEND;VALUE=DATE:20260810
DTSTAMP:20260421T192746
CREATED:20260404T220047Z
LAST-MODIFIED:20260404T213137Z
UID:10002378-1778976000-1786319999@riverartsalliance.org
SUMMARY:No Wake | Commonweal Theatre Company
DESCRIPTION:With determination (and a bullhorn)\, retired professor Peter Michaels is on a mission to save the loons of Lake Winnipesaukee\, who are dying in record numbers. Meanwhile\, 19-year-old Sarah struggles to make ends meet by cleaning cabins. Over the course of a summer\, the unlikely pair slowly builds trust across a generational divide\, encouraging each other to shed the shadows of their pasts and honor those they cherish most. Our 38th season opens with a poignant charmer that ripples with humor and heart.
URL:https://riverartsalliance.org/event/no-wake-commonweal-theatre-company/2026-05-17/
LOCATION:Commonweal Theatre\, 208 Parkway Ave. N\, Lanesboro\, MN\, United States
ATTACH;FMTTYPE=image/jpeg:https://riverartsalliance.org/wp-content/uploads/2026/03/No-Wake-600px.jpg
END:VEVENT
BEGIN:VEVENT
DTSTART;VALUE=DATE:20260522
DTEND;VALUE=DATE:20260815
DTSTAMP:20260421T192746
CREATED:20260404T220047Z
LAST-MODIFIED:20260404T213137Z
UID:10002379-1779408000-1786751999@riverartsalliance.org
SUMMARY:No Wake | Commonweal Theatre Company
DESCRIPTION:With determination (and a bullhorn)\, retired professor Peter Michaels is on a mission to save the loons of Lake Winnipesaukee\, who are dying in record numbers. Meanwhile\, 19-year-old Sarah struggles to make ends meet by cleaning cabins. Over the course of a summer\, the unlikely pair slowly builds trust across a generational divide\, encouraging each other to shed the shadows of their pasts and honor those they cherish most. Our 38th season opens with a poignant charmer that ripples with humor and heart.
URL:https://riverartsalliance.org/event/no-wake-commonweal-theatre-company/2026-05-22/
LOCATION:Commonweal Theatre\, 208 Parkway Ave. N\, Lanesboro\, MN\, United States
ATTACH;FMTTYPE=image/jpeg:https://riverartsalliance.org/wp-content/uploads/2026/03/No-Wake-600px.jpg
END:VEVENT
BEGIN:VEVENT
DTSTART;VALUE=DATE:20260523
DTEND;VALUE=DATE:20260816
DTSTAMP:20260421T192746
CREATED:20260404T220047Z
LAST-MODIFIED:20260404T213137Z
UID:10002380-1779494400-1786838399@riverartsalliance.org
SUMMARY:No Wake | Commonweal Theatre Company
DESCRIPTION:With determination (and a bullhorn)\, retired professor Peter Michaels is on a mission to save the loons of Lake Winnipesaukee\, who are dying in record numbers. Meanwhile\, 19-year-old Sarah struggles to make ends meet by cleaning cabins. Over the course of a summer\, the unlikely pair slowly builds trust across a generational divide\, encouraging each other to shed the shadows of their pasts and honor those they cherish most. Our 38th season opens with a poignant charmer that ripples with humor and heart.
URL:https://riverartsalliance.org/event/no-wake-commonweal-theatre-company/2026-05-23/
LOCATION:Commonweal Theatre\, 208 Parkway Ave. N\, Lanesboro\, MN\, United States
ATTACH;FMTTYPE=image/jpeg:https://riverartsalliance.org/wp-content/uploads/2026/03/No-Wake-600px.jpg
END:VEVENT
BEGIN:VEVENT
DTSTART;VALUE=DATE:20260524
DTEND;VALUE=DATE:20260817
DTSTAMP:20260421T192746
CREATED:20260404T220047Z
LAST-MODIFIED:20260404T213137Z
UID:10002381-1779580800-1786924799@riverartsalliance.org
SUMMARY:No Wake | Commonweal Theatre Company
DESCRIPTION:With determination (and a bullhorn)\, retired professor Peter Michaels is on a mission to save the loons of Lake Winnipesaukee\, who are dying in record numbers. Meanwhile\, 19-year-old Sarah struggles to make ends meet by cleaning cabins. Over the course of a summer\, the unlikely pair slowly builds trust across a generational divide\, encouraging each other to shed the shadows of their pasts and honor those they cherish most. Our 38th season opens with a poignant charmer that ripples with humor and heart.
URL:https://riverartsalliance.org/event/no-wake-commonweal-theatre-company/2026-05-24/
LOCATION:Commonweal Theatre\, 208 Parkway Ave. N\, Lanesboro\, MN\, United States
ATTACH;FMTTYPE=image/jpeg:https://riverartsalliance.org/wp-content/uploads/2026/03/No-Wake-600px.jpg
END:VEVENT
BEGIN:VEVENT
DTSTART;VALUE=DATE:20260529
DTEND;VALUE=DATE:20260822
DTSTAMP:20260421T192746
CREATED:20260404T220047Z
LAST-MODIFIED:20260404T213137Z
UID:10002382-1780012800-1787356799@riverartsalliance.org
SUMMARY:No Wake | Commonweal Theatre Company
DESCRIPTION:With determination (and a bullhorn)\, retired professor Peter Michaels is on a mission to save the loons of Lake Winnipesaukee\, who are dying in record numbers. Meanwhile\, 19-year-old Sarah struggles to make ends meet by cleaning cabins. Over the course of a summer\, the unlikely pair slowly builds trust across a generational divide\, encouraging each other to shed the shadows of their pasts and honor those they cherish most. Our 38th season opens with a poignant charmer that ripples with humor and heart.
URL:https://riverartsalliance.org/event/no-wake-commonweal-theatre-company/2026-05-29/
LOCATION:Commonweal Theatre\, 208 Parkway Ave. N\, Lanesboro\, MN\, United States
ATTACH;FMTTYPE=image/jpeg:https://riverartsalliance.org/wp-content/uploads/2026/03/No-Wake-600px.jpg
END:VEVENT
BEGIN:VEVENT
DTSTART;VALUE=DATE:20260530
DTEND;VALUE=DATE:20260823
DTSTAMP:20260421T192746
CREATED:20260404T220047Z
LAST-MODIFIED:20260404T213137Z
UID:10002383-1780099200-1787443199@riverartsalliance.org
SUMMARY:No Wake | Commonweal Theatre Company
DESCRIPTION:With determination (and a bullhorn)\, retired professor Peter Michaels is on a mission to save the loons of Lake Winnipesaukee\, who are dying in record numbers. Meanwhile\, 19-year-old Sarah struggles to make ends meet by cleaning cabins. Over the course of a summer\, the unlikely pair slowly builds trust across a generational divide\, encouraging each other to shed the shadows of their pasts and honor those they cherish most. Our 38th season opens with a poignant charmer that ripples with humor and heart.
URL:https://riverartsalliance.org/event/no-wake-commonweal-theatre-company/2026-05-30/
LOCATION:Commonweal Theatre\, 208 Parkway Ave. N\, Lanesboro\, MN\, United States
ATTACH;FMTTYPE=image/jpeg:https://riverartsalliance.org/wp-content/uploads/2026/03/No-Wake-600px.jpg
END:VEVENT
BEGIN:VEVENT
DTSTART;VALUE=DATE:20260531
DTEND;VALUE=DATE:20260824
DTSTAMP:20260421T192746
CREATED:20260404T220047Z
LAST-MODIFIED:20260404T213137Z
UID:10002384-1780185600-1787529599@riverartsalliance.org
SUMMARY:No Wake | Commonweal Theatre Company
DESCRIPTION:With determination (and a bullhorn)\, retired professor Peter Michaels is on a mission to save the loons of Lake Winnipesaukee\, who are dying in record numbers. Meanwhile\, 19-year-old Sarah struggles to make ends meet by cleaning cabins. Over the course of a summer\, the unlikely pair slowly builds trust across a generational divide\, encouraging each other to shed the shadows of their pasts and honor those they cherish most. Our 38th season opens with a poignant charmer that ripples with humor and heart.
URL:https://riverartsalliance.org/event/no-wake-commonweal-theatre-company/2026-05-31/
LOCATION:Commonweal Theatre\, 208 Parkway Ave. N\, Lanesboro\, MN\, United States
ATTACH;FMTTYPE=image/jpeg:https://riverartsalliance.org/wp-content/uploads/2026/03/No-Wake-600px.jpg
END:VEVENT
BEGIN:VEVENT
DTSTART;VALUE=DATE:20260605
DTEND;VALUE=DATE:20260829
DTSTAMP:20260421T192746
CREATED:20260404T220047Z
LAST-MODIFIED:20260404T213137Z
UID:10002385-1780617600-1787961599@riverartsalliance.org
SUMMARY:No Wake | Commonweal Theatre Company
DESCRIPTION:With determination (and a bullhorn)\, retired professor Peter Michaels is on a mission to save the loons of Lake Winnipesaukee\, who are dying in record numbers. Meanwhile\, 19-year-old Sarah struggles to make ends meet by cleaning cabins. Over the course of a summer\, the unlikely pair slowly builds trust across a generational divide\, encouraging each other to shed the shadows of their pasts and honor those they cherish most. Our 38th season opens with a poignant charmer that ripples with humor and heart.
URL:https://riverartsalliance.org/event/no-wake-commonweal-theatre-company/2026-06-05/
LOCATION:Commonweal Theatre\, 208 Parkway Ave. N\, Lanesboro\, MN\, United States
ATTACH;FMTTYPE=image/jpeg:https://riverartsalliance.org/wp-content/uploads/2026/03/No-Wake-600px.jpg
END:VEVENT
BEGIN:VEVENT
DTSTART;VALUE=DATE:20260606
DTEND;VALUE=DATE:20260830
DTSTAMP:20260421T192746
CREATED:20260404T220047Z
LAST-MODIFIED:20260404T213137Z
UID:10002386-1780704000-1788047999@riverartsalliance.org
SUMMARY:No Wake | Commonweal Theatre Company
DESCRIPTION:With determination (and a bullhorn)\, retired professor Peter Michaels is on a mission to save the loons of Lake Winnipesaukee\, who are dying in record numbers. Meanwhile\, 19-year-old Sarah struggles to make ends meet by cleaning cabins. Over the course of a summer\, the unlikely pair slowly builds trust across a generational divide\, encouraging each other to shed the shadows of their pasts and honor those they cherish most. Our 38th season opens with a poignant charmer that ripples with humor and heart.
URL:https://riverartsalliance.org/event/no-wake-commonweal-theatre-company/2026-06-06/
LOCATION:Commonweal Theatre\, 208 Parkway Ave. N\, Lanesboro\, MN\, United States
ATTACH;FMTTYPE=image/jpeg:https://riverartsalliance.org/wp-content/uploads/2026/03/No-Wake-600px.jpg
END:VEVENT
BEGIN:VEVENT
DTSTART;VALUE=DATE:20260607
DTEND;VALUE=DATE:20260831
DTSTAMP:20260421T192746
CREATED:20260404T220047Z
LAST-MODIFIED:20260404T213137Z
UID:10002387-1780790400-1788134399@riverartsalliance.org
SUMMARY:No Wake | Commonweal Theatre Company
DESCRIPTION:With determination (and a bullhorn)\, retired professor Peter Michaels is on a mission to save the loons of Lake Winnipesaukee\, who are dying in record numbers. Meanwhile\, 19-year-old Sarah struggles to make ends meet by cleaning cabins. Over the course of a summer\, the unlikely pair slowly builds trust across a generational divide\, encouraging each other to shed the shadows of their pasts and honor those they cherish most. Our 38th season opens with a poignant charmer that ripples with humor and heart.
URL:https://riverartsalliance.org/event/no-wake-commonweal-theatre-company/2026-06-07/
LOCATION:Commonweal Theatre\, 208 Parkway Ave. N\, Lanesboro\, MN\, United States
ATTACH;FMTTYPE=image/jpeg:https://riverartsalliance.org/wp-content/uploads/2026/03/No-Wake-600px.jpg
END:VEVENT
BEGIN:VEVENT
DTSTART;VALUE=DATE:20260612
DTEND;VALUE=DATE:20260905
DTSTAMP:20260421T192746
CREATED:20260404T220047Z
LAST-MODIFIED:20260404T213137Z
UID:10002388-1781222400-1788566399@riverartsalliance.org
SUMMARY:No Wake | Commonweal Theatre Company
DESCRIPTION:With determination (and a bullhorn)\, retired professor Peter Michaels is on a mission to save the loons of Lake Winnipesaukee\, who are dying in record numbers. Meanwhile\, 19-year-old Sarah struggles to make ends meet by cleaning cabins. Over the course of a summer\, the unlikely pair slowly builds trust across a generational divide\, encouraging each other to shed the shadows of their pasts and honor those they cherish most. Our 38th season opens with a poignant charmer that ripples with humor and heart.
URL:https://riverartsalliance.org/event/no-wake-commonweal-theatre-company/2026-06-12/
LOCATION:Commonweal Theatre\, 208 Parkway Ave. N\, Lanesboro\, MN\, United States
ATTACH;FMTTYPE=image/jpeg:https://riverartsalliance.org/wp-content/uploads/2026/03/No-Wake-600px.jpg
END:VEVENT
BEGIN:VEVENT
DTSTART;VALUE=DATE:20260613
DTEND;VALUE=DATE:20260906
DTSTAMP:20260421T192746
CREATED:20260404T220047Z
LAST-MODIFIED:20260404T213137Z
UID:10002389-1781308800-1788652799@riverartsalliance.org
SUMMARY:No Wake | Commonweal Theatre Company
DESCRIPTION:With determination (and a bullhorn)\, retired professor Peter Michaels is on a mission to save the loons of Lake Winnipesaukee\, who are dying in record numbers. Meanwhile\, 19-year-old Sarah struggles to make ends meet by cleaning cabins. Over the course of a summer\, the unlikely pair slowly builds trust across a generational divide\, encouraging each other to shed the shadows of their pasts and honor those they cherish most. Our 38th season opens with a poignant charmer that ripples with humor and heart.
URL:https://riverartsalliance.org/event/no-wake-commonweal-theatre-company/2026-06-13/
LOCATION:Commonweal Theatre\, 208 Parkway Ave. N\, Lanesboro\, MN\, United States
ATTACH;FMTTYPE=image/jpeg:https://riverartsalliance.org/wp-content/uploads/2026/03/No-Wake-600px.jpg
END:VEVENT
BEGIN:VEVENT
DTSTART;VALUE=DATE:20260614
DTEND;VALUE=DATE:20260907
DTSTAMP:20260421T192746
CREATED:20260404T220047Z
LAST-MODIFIED:20260404T213137Z
UID:10002390-1781395200-1788739199@riverartsalliance.org
SUMMARY:No Wake | Commonweal Theatre Company
DESCRIPTION:With determination (and a bullhorn)\, retired professor Peter Michaels is on a mission to save the loons of Lake Winnipesaukee\, who are dying in record numbers. Meanwhile\, 19-year-old Sarah struggles to make ends meet by cleaning cabins. Over the course of a summer\, the unlikely pair slowly builds trust across a generational divide\, encouraging each other to shed the shadows of their pasts and honor those they cherish most. Our 38th season opens with a poignant charmer that ripples with humor and heart.
URL:https://riverartsalliance.org/event/no-wake-commonweal-theatre-company/2026-06-14/
LOCATION:Commonweal Theatre\, 208 Parkway Ave. N\, Lanesboro\, MN\, United States
ATTACH;FMTTYPE=image/jpeg:https://riverartsalliance.org/wp-content/uploads/2026/03/No-Wake-600px.jpg
END:VEVENT
BEGIN:VEVENT
DTSTART;VALUE=DATE:20260619
DTEND;VALUE=DATE:20260912
DTSTAMP:20260421T192746
CREATED:20260404T220047Z
LAST-MODIFIED:20260404T213137Z
UID:10002391-1781827200-1789171199@riverartsalliance.org
SUMMARY:No Wake | Commonweal Theatre Company
DESCRIPTION:With determination (and a bullhorn)\, retired professor Peter Michaels is on a mission to save the loons of Lake Winnipesaukee\, who are dying in record numbers. Meanwhile\, 19-year-old Sarah struggles to make ends meet by cleaning cabins. Over the course of a summer\, the unlikely pair slowly builds trust across a generational divide\, encouraging each other to shed the shadows of their pasts and honor those they cherish most. Our 38th season opens with a poignant charmer that ripples with humor and heart.
URL:https://riverartsalliance.org/event/no-wake-commonweal-theatre-company/2026-06-19/
LOCATION:Commonweal Theatre\, 208 Parkway Ave. N\, Lanesboro\, MN\, United States
ATTACH;FMTTYPE=image/jpeg:https://riverartsalliance.org/wp-content/uploads/2026/03/No-Wake-600px.jpg
END:VEVENT
BEGIN:VEVENT
DTSTART;VALUE=DATE:20260620
DTEND;VALUE=DATE:20260913
DTSTAMP:20260421T192746
CREATED:20260404T220047Z
LAST-MODIFIED:20260404T213137Z
UID:10002392-1781913600-1789257599@riverartsalliance.org
SUMMARY:No Wake | Commonweal Theatre Company
DESCRIPTION:With determination (and a bullhorn)\, retired professor Peter Michaels is on a mission to save the loons of Lake Winnipesaukee\, who are dying in record numbers. Meanwhile\, 19-year-old Sarah struggles to make ends meet by cleaning cabins. Over the course of a summer\, the unlikely pair slowly builds trust across a generational divide\, encouraging each other to shed the shadows of their pasts and honor those they cherish most. Our 38th season opens with a poignant charmer that ripples with humor and heart.
URL:https://riverartsalliance.org/event/no-wake-commonweal-theatre-company/2026-06-20/
LOCATION:Commonweal Theatre\, 208 Parkway Ave. N\, Lanesboro\, MN\, United States
ATTACH;FMTTYPE=image/jpeg:https://riverartsalliance.org/wp-content/uploads/2026/03/No-Wake-600px.jpg
END:VEVENT
BEGIN:VEVENT
DTSTART;VALUE=DATE:20260621
DTEND;VALUE=DATE:20260914
DTSTAMP:20260421T192746
CREATED:20260404T220047Z
LAST-MODIFIED:20260404T213137Z
UID:10002393-1782000000-1789343999@riverartsalliance.org
SUMMARY:No Wake | Commonweal Theatre Company
DESCRIPTION:With determination (and a bullhorn)\, retired professor Peter Michaels is on a mission to save the loons of Lake Winnipesaukee\, who are dying in record numbers. Meanwhile\, 19-year-old Sarah struggles to make ends meet by cleaning cabins. Over the course of a summer\, the unlikely pair slowly builds trust across a generational divide\, encouraging each other to shed the shadows of their pasts and honor those they cherish most. Our 38th season opens with a poignant charmer that ripples with humor and heart.
URL:https://riverartsalliance.org/event/no-wake-commonweal-theatre-company/2026-06-21/
LOCATION:Commonweal Theatre\, 208 Parkway Ave. N\, Lanesboro\, MN\, United States
ATTACH;FMTTYPE=image/jpeg:https://riverartsalliance.org/wp-content/uploads/2026/03/No-Wake-600px.jpg
END:VEVENT
BEGIN:VEVENT
DTSTART;VALUE=DATE:20260626
DTEND;VALUE=DATE:20260919
DTSTAMP:20260421T192746
CREATED:20260404T220047Z
LAST-MODIFIED:20260404T213137Z
UID:10002394-1782432000-1789775999@riverartsalliance.org
SUMMARY:No Wake | Commonweal Theatre Company
DESCRIPTION:With determination (and a bullhorn)\, retired professor Peter Michaels is on a mission to save the loons of Lake Winnipesaukee\, who are dying in record numbers. Meanwhile\, 19-year-old Sarah struggles to make ends meet by cleaning cabins. Over the course of a summer\, the unlikely pair slowly builds trust across a generational divide\, encouraging each other to shed the shadows of their pasts and honor those they cherish most. Our 38th season opens with a poignant charmer that ripples with humor and heart.
URL:https://riverartsalliance.org/event/no-wake-commonweal-theatre-company/2026-06-26/
LOCATION:Commonweal Theatre\, 208 Parkway Ave. N\, Lanesboro\, MN\, United States
ATTACH;FMTTYPE=image/jpeg:https://riverartsalliance.org/wp-content/uploads/2026/03/No-Wake-600px.jpg
END:VEVENT
BEGIN:VEVENT
DTSTART;VALUE=DATE:20260627
DTEND;VALUE=DATE:20260920
DTSTAMP:20260421T192746
CREATED:20260404T220047Z
LAST-MODIFIED:20260404T213137Z
UID:10002395-1782518400-1789862399@riverartsalliance.org
SUMMARY:No Wake | Commonweal Theatre Company
DESCRIPTION:With determination (and a bullhorn)\, retired professor Peter Michaels is on a mission to save the loons of Lake Winnipesaukee\, who are dying in record numbers. Meanwhile\, 19-year-old Sarah struggles to make ends meet by cleaning cabins. Over the course of a summer\, the unlikely pair slowly builds trust across a generational divide\, encouraging each other to shed the shadows of their pasts and honor those they cherish most. Our 38th season opens with a poignant charmer that ripples with humor and heart.
URL:https://riverartsalliance.org/event/no-wake-commonweal-theatre-company/2026-06-27/
LOCATION:Commonweal Theatre\, 208 Parkway Ave. N\, Lanesboro\, MN\, United States
ATTACH;FMTTYPE=image/jpeg:https://riverartsalliance.org/wp-content/uploads/2026/03/No-Wake-600px.jpg
END:VEVENT
BEGIN:VEVENT
DTSTART;VALUE=DATE:20260628
DTEND;VALUE=DATE:20260921
DTSTAMP:20260421T192746
CREATED:20260404T220047Z
LAST-MODIFIED:20260404T213137Z
UID:10002396-1782604800-1789948799@riverartsalliance.org
SUMMARY:No Wake | Commonweal Theatre Company
DESCRIPTION:With determination (and a bullhorn)\, retired professor Peter Michaels is on a mission to save the loons of Lake Winnipesaukee\, who are dying in record numbers. Meanwhile\, 19-year-old Sarah struggles to make ends meet by cleaning cabins. Over the course of a summer\, the unlikely pair slowly builds trust across a generational divide\, encouraging each other to shed the shadows of their pasts and honor those they cherish most. Our 38th season opens with a poignant charmer that ripples with humor and heart.
URL:https://riverartsalliance.org/event/no-wake-commonweal-theatre-company/2026-06-28/
LOCATION:Commonweal Theatre\, 208 Parkway Ave. N\, Lanesboro\, MN\, United States
ATTACH;FMTTYPE=image/jpeg:https://riverartsalliance.org/wp-content/uploads/2026/03/No-Wake-600px.jpg
END:VEVENT
BEGIN:VEVENT
DTSTART;VALUE=DATE:20260703
DTEND;VALUE=DATE:20260926
DTSTAMP:20260421T192746
CREATED:20260404T220047Z
LAST-MODIFIED:20260404T213137Z
UID:10002397-1783036800-1790380799@riverartsalliance.org
SUMMARY:No Wake | Commonweal Theatre Company
DESCRIPTION:With determination (and a bullhorn)\, retired professor Peter Michaels is on a mission to save the loons of Lake Winnipesaukee\, who are dying in record numbers. Meanwhile\, 19-year-old Sarah struggles to make ends meet by cleaning cabins. Over the course of a summer\, the unlikely pair slowly builds trust across a generational divide\, encouraging each other to shed the shadows of their pasts and honor those they cherish most. Our 38th season opens with a poignant charmer that ripples with humor and heart.
URL:https://riverartsalliance.org/event/no-wake-commonweal-theatre-company/2026-07-03/
LOCATION:Commonweal Theatre\, 208 Parkway Ave. N\, Lanesboro\, MN\, United States
ATTACH;FMTTYPE=image/jpeg:https://riverartsalliance.org/wp-content/uploads/2026/03/No-Wake-600px.jpg
END:VEVENT
BEGIN:VEVENT
DTSTART;VALUE=DATE:20260704
DTEND;VALUE=DATE:20260927
DTSTAMP:20260421T192746
CREATED:20260404T220047Z
LAST-MODIFIED:20260404T213137Z
UID:10002398-1783123200-1790467199@riverartsalliance.org
SUMMARY:No Wake | Commonweal Theatre Company
DESCRIPTION:With determination (and a bullhorn)\, retired professor Peter Michaels is on a mission to save the loons of Lake Winnipesaukee\, who are dying in record numbers. Meanwhile\, 19-year-old Sarah struggles to make ends meet by cleaning cabins. Over the course of a summer\, the unlikely pair slowly builds trust across a generational divide\, encouraging each other to shed the shadows of their pasts and honor those they cherish most. Our 38th season opens with a poignant charmer that ripples with humor and heart.
URL:https://riverartsalliance.org/event/no-wake-commonweal-theatre-company/2026-07-04/
LOCATION:Commonweal Theatre\, 208 Parkway Ave. N\, Lanesboro\, MN\, United States
ATTACH;FMTTYPE=image/jpeg:https://riverartsalliance.org/wp-content/uploads/2026/03/No-Wake-600px.jpg
END:VEVENT
BEGIN:VEVENT
DTSTART;TZID=America/Chicago:20260924T120000
DTEND;TZID=America/Chicago:20260924T133000
DTSTAMP:20260421T192746
CREATED:20260215T173146Z
LAST-MODIFIED:20260215T173146Z
UID:10001913-1790251200-1790256600@riverartsalliance.org
SUMMARY:Forecast Webinar Series 2026
DESCRIPTION:Register Now—Creative Power\, Civic Purpose: How Artists Strengthen Democracy\n\n\n\n\n\n\n\n\n\n\nWe’re excited to launch Creative Power\, Civic Purpose: How Artists Strengthen Democracy\, a six-part virtual series supported by the Educational Foundation of America (EFA).\nThe series explores how artists and culture bearers strengthen civic health\, deepen democratic participation\, and help renew the civic fabric of communities across the country.
URL:https://riverartsalliance.org/event/forecast-webinar-series-2026/2026-09-24/
LOCATION:MN
END:VEVENT
BEGIN:VEVENT
DTSTART;TZID=America/Chicago:20261029T120000
DTEND;TZID=America/Chicago:20261029T133000
DTSTAMP:20260421T192746
CREATED:20260215T173146Z
LAST-MODIFIED:20260215T173146Z
UID:10001914-1793275200-1793280600@riverartsalliance.org
SUMMARY:Forecast Webinar Series 2026
DESCRIPTION:Register Now—Creative Power\, Civic Purpose: How Artists Strengthen Democracy\n\n\n\n\n\n\n\n\n\n\nWe’re excited to launch Creative Power\, Civic Purpose: How Artists Strengthen Democracy\, a six-part virtual series supported by the Educational Foundation of America (EFA).\nThe series explores how artists and culture bearers strengthen civic health\, deepen democratic participation\, and help renew the civic fabric of communities across the country.
URL:https://riverartsalliance.org/event/forecast-webinar-series-2026/2026-10-29/
LOCATION:MN
END:VEVENT
END:VCALENDAR