BEGIN:VCALENDAR
VERSION:2.0
PRODID:-//River Arts Alliance - ECPv6.15.20//NONSGML v1.0//EN
CALSCALE:GREGORIAN
METHOD:PUBLISH
X-ORIGINAL-URL:https://riverartsalliance.org
X-WR-CALDESC:Events for River Arts Alliance
REFRESH-INTERVAL;VALUE=DURATION:PT1H
X-Robots-Tag:noindex
X-PUBLISHED-TTL:PT1H
BEGIN:VTIMEZONE
TZID:America/Chicago
BEGIN:DAYLIGHT
TZOFFSETFROM:-0600
TZOFFSETTO:-0500
TZNAME:CDT
DTSTART:20240310T080000
END:DAYLIGHT
BEGIN:STANDARD
TZOFFSETFROM:-0500
TZOFFSETTO:-0600
TZNAME:CST
DTSTART:20241103T070000
END:STANDARD
BEGIN:DAYLIGHT
TZOFFSETFROM:-0600
TZOFFSETTO:-0500
TZNAME:CDT
DTSTART:20250309T080000
END:DAYLIGHT
BEGIN:STANDARD
TZOFFSETFROM:-0500
TZOFFSETTO:-0600
TZNAME:CST
DTSTART:20251102T070000
END:STANDARD
BEGIN:DAYLIGHT
TZOFFSETFROM:-0600
TZOFFSETTO:-0500
TZNAME:CDT
DTSTART:20260308T080000
END:DAYLIGHT
BEGIN:STANDARD
TZOFFSETFROM:-0500
TZOFFSETTO:-0600
TZNAME:CST
DTSTART:20261101T070000
END:STANDARD
END:VTIMEZONE
BEGIN:VEVENT
DTSTART;TZID=America/Chicago:20250612T193000
DTEND;TZID=America/Chicago:20250612T220000
DTSTAMP:20260422T172048
CREATED:20250319T172710Z
LAST-MODIFIED:20250319T173102Z
UID:10001442-1749756600-1749765600@riverartsalliance.org
SUMMARY:Commonweal Theatre Presents The Angel Next Door
DESCRIPTION:Preview Dates\nSaturday\, May 17 | 7:30-9:30 pm\nSunday\, May 18 | 1:30-3:30 pm\nThursday & Friday | May 22\, 23 | 7:30-9:30 pm \nFull Run Dates Listed on RAA Event Page \nCommonweal Theatre Company\n208 Parkway Ave N\, Lanesboro\, MN\ncommonwealtheatre.org \n  \nJoin the Commonweal Theatre Company for Paul Slade Smith’s romantic screwball comedy\, The Angel Next Door. Journey to an opulent Newport mansion in 1948\, where playwrights\, actors\, and a star-struck novelist gather to work on their next Broadway hit! (Never mind the housekeeper who wants them gone.) Learn more.
URL:https://riverartsalliance.org/event/commonweal-theatre-presents-the-angel-next-door/2025-06-12/
LOCATION:Commonweal Theatre\, 208 Parkway Ave. N\, Lanesboro\, MN\, United States
END:VEVENT
BEGIN:VEVENT
DTSTART;VALUE=DATE:20250613
DTEND;VALUE=DATE:20250621
DTSTAMP:20260422T172048
CREATED:20250202T152244Z
LAST-MODIFIED:20250202T152244Z
UID:10000616-1749772800-1750463999@riverartsalliance.org
SUMMARY:Frozen River Film Festival Celebrates 20 Years with New Film Series
DESCRIPTION:frff.eventive.org \nThis year the Frozen River Film Festival (FRFF) will be celebrating 20 years of bringing documentary films and filmmakers to Winona. The festival begins Sunday\, February 9\, (You can still get home in time to watch the Super Bowl!) and runs through Sunday\, February 16. This year’s event will feature the World Premiere of FRFF’s self-produced documentary\, Beneath the Ice: The Frozen River Film Festival Story. Learn more.
URL:https://riverartsalliance.org/event/frozen-river-film-festival-celebrates-20-years-with-new-film-series/2025-06-13/
END:VEVENT
BEGIN:VEVENT
DTSTART;TZID=America/Chicago:20250613T193000
DTEND;TZID=America/Chicago:20250613T213000
DTSTAMP:20260422T172048
CREATED:20250316T142354Z
LAST-MODIFIED:20250318T114059Z
UID:10001372-1749843000-1749850200@riverartsalliance.org
SUMMARY:Commonweal Theatre Presents The Half-Life of Marie Curie
DESCRIPTION:Commonweal Theatre Company | 208 Parkway Ave N\, Lanesboro\, MN\ncommonwealtheatre.org \n  \nDon’t miss this wonderful production of The Half-Life of Marie Curie\, directed by Jaclyn June Johnson and featuring Commonweal ensemble members Stela Burdt and Laurie Roberts. The play is based on a true story that illuminates the indomitable power of friendship between two extraordinary scientists. Learn more.
URL:https://riverartsalliance.org/event/commonweal-theatre-presents-the-half-life-of-marie-curie/2025-06-13/
LOCATION:Commonweal Theatre\, 208 Parkway Ave. N\, Lanesboro\, MN\, United States
END:VEVENT
BEGIN:VEVENT
DTSTART;TZID=America/Chicago:20250613T193000
DTEND;TZID=America/Chicago:20250613T220000
DTSTAMP:20260422T172048
CREATED:20250530T112616Z
LAST-MODIFIED:20250530T112928Z
UID:10001579-1749843000-1749852000@riverartsalliance.org
SUMMARY:Theatre du Mississippi Presents: Lustrous Lights – A Revue
DESCRIPTION:Doors open 7:30 pm | Performances begin 8:30 pm\n$12 Early Bird Online (limited availability)\n$17 Presale | $22 At Door (cash only)\nStrictly 21 + to attend\nNo Name Bar | 252 E 3rd St\ntheatredumiss.org \n  \nTheatre du Mississippi is excited to announce its Lustrous Lights: A Revue\, an evening of performances that highlight the artistry and creativity of local talent. This special event will take place on Friday\, June 13\, at the No Name Bar. Learn more.
URL:https://riverartsalliance.org/event/theatre-du-mississippi-presents-lustrous-lights-a-revue/
LOCATION:No Name Bar\, 252 E 3rd St.\, Winona\, MN\, 55987
END:VEVENT
BEGIN:VEVENT
DTSTART;VALUE=DATE:20250614
DTEND;VALUE=DATE:20250622
DTSTAMP:20260422T172048
CREATED:20250202T152244Z
LAST-MODIFIED:20250202T152244Z
UID:10000617-1749859200-1750550399@riverartsalliance.org
SUMMARY:Frozen River Film Festival Celebrates 20 Years with New Film Series
DESCRIPTION:frff.eventive.org \nThis year the Frozen River Film Festival (FRFF) will be celebrating 20 years of bringing documentary films and filmmakers to Winona. The festival begins Sunday\, February 9\, (You can still get home in time to watch the Super Bowl!) and runs through Sunday\, February 16. This year’s event will feature the World Premiere of FRFF’s self-produced documentary\, Beneath the Ice: The Frozen River Film Festival Story. Learn more.
URL:https://riverartsalliance.org/event/frozen-river-film-festival-celebrates-20-years-with-new-film-series/2025-06-14/
END:VEVENT
BEGIN:VEVENT
DTSTART;TZID=America/Chicago:20250614T133000
DTEND;TZID=America/Chicago:20250614T153000
DTSTAMP:20260422T172048
CREATED:20250316T142354Z
LAST-MODIFIED:20250318T114059Z
UID:10001373-1749907800-1749915000@riverartsalliance.org
SUMMARY:Commonweal Theatre Presents The Half-Life of Marie Curie
DESCRIPTION:Commonweal Theatre Company | 208 Parkway Ave N\, Lanesboro\, MN\ncommonwealtheatre.org \n  \nDon’t miss this wonderful production of The Half-Life of Marie Curie\, directed by Jaclyn June Johnson and featuring Commonweal ensemble members Stela Burdt and Laurie Roberts. The play is based on a true story that illuminates the indomitable power of friendship between two extraordinary scientists. Learn more.
URL:https://riverartsalliance.org/event/commonweal-theatre-presents-the-half-life-of-marie-curie/2025-06-14/
LOCATION:Commonweal Theatre\, 208 Parkway Ave. N\, Lanesboro\, MN\, United States
END:VEVENT
BEGIN:VEVENT
DTSTART;TZID=America/Chicago:20250614T193000
DTEND;TZID=America/Chicago:20250614T220000
DTSTAMP:20260422T172048
CREATED:20250319T172710Z
LAST-MODIFIED:20250319T173102Z
UID:10001443-1749929400-1749938400@riverartsalliance.org
SUMMARY:Commonweal Theatre Presents The Angel Next Door
DESCRIPTION:Preview Dates\nSaturday\, May 17 | 7:30-9:30 pm\nSunday\, May 18 | 1:30-3:30 pm\nThursday & Friday | May 22\, 23 | 7:30-9:30 pm \nFull Run Dates Listed on RAA Event Page \nCommonweal Theatre Company\n208 Parkway Ave N\, Lanesboro\, MN\ncommonwealtheatre.org \n  \nJoin the Commonweal Theatre Company for Paul Slade Smith’s romantic screwball comedy\, The Angel Next Door. Journey to an opulent Newport mansion in 1948\, where playwrights\, actors\, and a star-struck novelist gather to work on their next Broadway hit! (Never mind the housekeeper who wants them gone.) Learn more.
URL:https://riverartsalliance.org/event/commonweal-theatre-presents-the-angel-next-door/2025-06-14/
LOCATION:Commonweal Theatre\, 208 Parkway Ave. N\, Lanesboro\, MN\, United States
END:VEVENT
BEGIN:VEVENT
DTSTART;VALUE=DATE:20250615
DTEND;VALUE=DATE:20250623
DTSTAMP:20260422T172048
CREATED:20250202T152244Z
LAST-MODIFIED:20250202T152244Z
UID:10000618-1749945600-1750636799@riverartsalliance.org
SUMMARY:Frozen River Film Festival Celebrates 20 Years with New Film Series
DESCRIPTION:frff.eventive.org \nThis year the Frozen River Film Festival (FRFF) will be celebrating 20 years of bringing documentary films and filmmakers to Winona. The festival begins Sunday\, February 9\, (You can still get home in time to watch the Super Bowl!) and runs through Sunday\, February 16. This year’s event will feature the World Premiere of FRFF’s self-produced documentary\, Beneath the Ice: The Frozen River Film Festival Story. Learn more.
URL:https://riverartsalliance.org/event/frozen-river-film-festival-celebrates-20-years-with-new-film-series/2025-06-15/
END:VEVENT
BEGIN:VEVENT
DTSTART;TZID=America/Chicago:20250615T133000
DTEND;TZID=America/Chicago:20250615T160000
DTSTAMP:20260422T172048
CREATED:20250319T172710Z
LAST-MODIFIED:20250319T173102Z
UID:10001444-1749994200-1750003200@riverartsalliance.org
SUMMARY:Commonweal Theatre Presents The Angel Next Door
DESCRIPTION:Preview Dates\nSaturday\, May 17 | 7:30-9:30 pm\nSunday\, May 18 | 1:30-3:30 pm\nThursday & Friday | May 22\, 23 | 7:30-9:30 pm \nFull Run Dates Listed on RAA Event Page \nCommonweal Theatre Company\n208 Parkway Ave N\, Lanesboro\, MN\ncommonwealtheatre.org \n  \nJoin the Commonweal Theatre Company for Paul Slade Smith’s romantic screwball comedy\, The Angel Next Door. Journey to an opulent Newport mansion in 1948\, where playwrights\, actors\, and a star-struck novelist gather to work on their next Broadway hit! (Never mind the housekeeper who wants them gone.) Learn more.
URL:https://riverartsalliance.org/event/commonweal-theatre-presents-the-angel-next-door/2025-06-15/
LOCATION:Commonweal Theatre\, 208 Parkway Ave. N\, Lanesboro\, MN\, United States
END:VEVENT
BEGIN:VEVENT
DTSTART;TZID=America/Chicago:20250615T143000
DTEND;TZID=America/Chicago:20250615T173000
DTSTAMP:20260422T172048
CREATED:20250530T001319Z
LAST-MODIFIED:20250530T001319Z
UID:10001578-1749997800-1750008600@riverartsalliance.org
SUMMARY:June Jazz Jam Supports Engage Winona
DESCRIPTION:Two Fathoms Brewing | 65 E Front St.\nH3OJazz.com \nAfter the Steamboat Days parade on June 15\, 2025\, head down to Two Fathoms Brewing from 2:30 to 5:30 pm and join H3O Jazz Trio on the brewery’s spacious outdoor patio (weather permitting) for the popular monthly Jazz Jam. This month’s fundraiser recipient will be the Engage Winona. Learn more.
URL:https://riverartsalliance.org/event/june-jazz-jam-supports-engage-winona/
LOCATION:Two Fathoms Brewing\, 65 E Front St.\, Winona\, MN\, 55987\, United States
END:VEVENT
BEGIN:VEVENT
DTSTART;VALUE=DATE:20250616
DTEND;VALUE=DATE:20250624
DTSTAMP:20260422T172048
CREATED:20250202T152244Z
LAST-MODIFIED:20250202T152244Z
UID:10000619-1750032000-1750723199@riverartsalliance.org
SUMMARY:Frozen River Film Festival Celebrates 20 Years with New Film Series
DESCRIPTION:frff.eventive.org \nThis year the Frozen River Film Festival (FRFF) will be celebrating 20 years of bringing documentary films and filmmakers to Winona. The festival begins Sunday\, February 9\, (You can still get home in time to watch the Super Bowl!) and runs through Sunday\, February 16. This year’s event will feature the World Premiere of FRFF’s self-produced documentary\, Beneath the Ice: The Frozen River Film Festival Story. Learn more.
URL:https://riverartsalliance.org/event/frozen-river-film-festival-celebrates-20-years-with-new-film-series/2025-06-16/
END:VEVENT
BEGIN:VEVENT
DTSTART;TZID=America/Chicago:20250616T193000
DTEND;TZID=America/Chicago:20250616T213000
DTSTAMP:20260422T172048
CREATED:20250316T142354Z
LAST-MODIFIED:20250318T114059Z
UID:10001374-1750102200-1750109400@riverartsalliance.org
SUMMARY:Commonweal Theatre Presents The Half-Life of Marie Curie
DESCRIPTION:Commonweal Theatre Company | 208 Parkway Ave N\, Lanesboro\, MN\ncommonwealtheatre.org \n  \nDon’t miss this wonderful production of The Half-Life of Marie Curie\, directed by Jaclyn June Johnson and featuring Commonweal ensemble members Stela Burdt and Laurie Roberts. The play is based on a true story that illuminates the indomitable power of friendship between two extraordinary scientists. Learn more.
URL:https://riverartsalliance.org/event/commonweal-theatre-presents-the-half-life-of-marie-curie/2025-06-16/
LOCATION:Commonweal Theatre\, 208 Parkway Ave. N\, Lanesboro\, MN\, United States
END:VEVENT
BEGIN:VEVENT
DTSTART;VALUE=DATE:20250617
DTEND;VALUE=DATE:20250625
DTSTAMP:20260422T172048
CREATED:20250202T152244Z
LAST-MODIFIED:20250202T152244Z
UID:10000620-1750118400-1750809599@riverartsalliance.org
SUMMARY:Frozen River Film Festival Celebrates 20 Years with New Film Series
DESCRIPTION:frff.eventive.org \nThis year the Frozen River Film Festival (FRFF) will be celebrating 20 years of bringing documentary films and filmmakers to Winona. The festival begins Sunday\, February 9\, (You can still get home in time to watch the Super Bowl!) and runs through Sunday\, February 16. This year’s event will feature the World Premiere of FRFF’s self-produced documentary\, Beneath the Ice: The Frozen River Film Festival Story. Learn more.
URL:https://riverartsalliance.org/event/frozen-river-film-festival-celebrates-20-years-with-new-film-series/2025-06-17/
END:VEVENT
BEGIN:VEVENT
DTSTART;VALUE=DATE:20250618
DTEND;VALUE=DATE:20250626
DTSTAMP:20260422T172048
CREATED:20250202T152244Z
LAST-MODIFIED:20250202T152244Z
UID:10000621-1750204800-1750895999@riverartsalliance.org
SUMMARY:Frozen River Film Festival Celebrates 20 Years with New Film Series
DESCRIPTION:frff.eventive.org \nThis year the Frozen River Film Festival (FRFF) will be celebrating 20 years of bringing documentary films and filmmakers to Winona. The festival begins Sunday\, February 9\, (You can still get home in time to watch the Super Bowl!) and runs through Sunday\, February 16. This year’s event will feature the World Premiere of FRFF’s self-produced documentary\, Beneath the Ice: The Frozen River Film Festival Story. Learn more.
URL:https://riverartsalliance.org/event/frozen-river-film-festival-celebrates-20-years-with-new-film-series/2025-06-18/
END:VEVENT
BEGIN:VEVENT
DTSTART;VALUE=DATE:20250619
DTEND;VALUE=DATE:20250627
DTSTAMP:20260422T172048
CREATED:20250202T152244Z
LAST-MODIFIED:20250202T152244Z
UID:10000622-1750291200-1750982399@riverartsalliance.org
SUMMARY:Frozen River Film Festival Celebrates 20 Years with New Film Series
DESCRIPTION:frff.eventive.org \nThis year the Frozen River Film Festival (FRFF) will be celebrating 20 years of bringing documentary films and filmmakers to Winona. The festival begins Sunday\, February 9\, (You can still get home in time to watch the Super Bowl!) and runs through Sunday\, February 16. This year’s event will feature the World Premiere of FRFF’s self-produced documentary\, Beneath the Ice: The Frozen River Film Festival Story. Learn more.
URL:https://riverartsalliance.org/event/frozen-river-film-festival-celebrates-20-years-with-new-film-series/2025-06-19/
END:VEVENT
BEGIN:VEVENT
DTSTART;TZID=America/Chicago:20250619T160000
DTEND;TZID=America/Chicago:20250619T190000
DTSTAMP:20260422T172048
CREATED:20250602T170640Z
LAST-MODIFIED:20250602T170640Z
UID:10001586-1750348800-1750359600@riverartsalliance.org
SUMMARY:Join Our Voices for the 5th Annual Juneteenth Celebration in Windom Park
DESCRIPTION:Thursday\, June 19 | 4-7 pm\nWindom Park | 260 Harriet Street\nTheatre Du Mississippi | R.O.A.R. \nJoin in and experience the heart and soul of our community as we honor 160 years of resilience and Black excellence during our Juneteenth celebration. Learn more.
URL:https://riverartsalliance.org/event/join-our-voices-for-the-5th-annual-juneteenth-celebration-in-windom-park/
LOCATION:Windom Park\, 260 Harriet St.\, Winona\, MN\, 55987
END:VEVENT
BEGIN:VEVENT
DTSTART;TZID=America/Chicago:20250619T190000
DTEND;TZID=America/Chicago:20250619T200000
DTSTAMP:20260422T172048
CREATED:20250529T202850Z
LAST-MODIFIED:20250529T202850Z
UID:10001575-1750359600-1750363200@riverartsalliance.org
SUMMARY:Sandbar Storytelling Festival: Business & Immigrant Stories
DESCRIPTION:Free Admission | Freewill Offering\nWinona History Center | 160 Johnson St \nFor the fourth consecutive year\, the Sandbar Storytelling Festival\, in partnership with the Winona County Historical Society\, is continuing their series of Business & Immigrant (B&I) Stories\, featuring local businesses and organizations of Winona. Learn more.
URL:https://riverartsalliance.org/event/sandbar-storytelling-festival-business-immigrant-stories-2/
LOCATION:Winona County History Center\, 160 Johnson St\, Winona\, MN\, 55987\, United States
END:VEVENT
BEGIN:VEVENT
DTSTART;TZID=America/Chicago:20250619T190000
DTEND;TZID=America/Chicago:20250619T200000
DTSTAMP:20260422T172048
CREATED:20250608T204026Z
LAST-MODIFIED:20250608T204026Z
UID:10001588-1750359600-1750363200@riverartsalliance.org
SUMMARY:Sandbar Storytelling Festival: Business & Immigrant Stories
DESCRIPTION:Free Admission | Freewill Offering\nWinona History Center | 160 Johnson St \nFor the fourth consecutive year\, the Sandbar Storytelling Festival\, in partnership with the Winona County Historical Society\, is continuing their series of Business & Immigrant (B&I) Stories\, featuring local businesses and organizations of Winona. The next business featured in this year’s Business & Immigrant series is the story of the Winona Farmers Market. Learn more.
URL:https://riverartsalliance.org/event/sandbar-storytelling-festival-business-immigrant-stories-5/
LOCATION:Winona County History Center\, 160 Johnson St\, Winona\, MN\, 55987\, United States
END:VEVENT
BEGIN:VEVENT
DTSTART;TZID=America/Chicago:20250619T193000
DTEND;TZID=America/Chicago:20250619T220000
DTSTAMP:20260422T172048
CREATED:20250319T172710Z
LAST-MODIFIED:20250319T173102Z
UID:10001445-1750361400-1750370400@riverartsalliance.org
SUMMARY:Commonweal Theatre Presents The Angel Next Door
DESCRIPTION:Preview Dates\nSaturday\, May 17 | 7:30-9:30 pm\nSunday\, May 18 | 1:30-3:30 pm\nThursday & Friday | May 22\, 23 | 7:30-9:30 pm \nFull Run Dates Listed on RAA Event Page \nCommonweal Theatre Company\n208 Parkway Ave N\, Lanesboro\, MN\ncommonwealtheatre.org \n  \nJoin the Commonweal Theatre Company for Paul Slade Smith’s romantic screwball comedy\, The Angel Next Door. Journey to an opulent Newport mansion in 1948\, where playwrights\, actors\, and a star-struck novelist gather to work on their next Broadway hit! (Never mind the housekeeper who wants them gone.) Learn more.
URL:https://riverartsalliance.org/event/commonweal-theatre-presents-the-angel-next-door/2025-06-19/
LOCATION:Commonweal Theatre\, 208 Parkway Ave. N\, Lanesboro\, MN\, United States
END:VEVENT
BEGIN:VEVENT
DTSTART;VALUE=DATE:20250620
DTEND;VALUE=DATE:20250628
DTSTAMP:20260422T172048
CREATED:20250202T152244Z
LAST-MODIFIED:20250202T152244Z
UID:10000623-1750377600-1751068799@riverartsalliance.org
SUMMARY:Frozen River Film Festival Celebrates 20 Years with New Film Series
DESCRIPTION:frff.eventive.org \nThis year the Frozen River Film Festival (FRFF) will be celebrating 20 years of bringing documentary films and filmmakers to Winona. The festival begins Sunday\, February 9\, (You can still get home in time to watch the Super Bowl!) and runs through Sunday\, February 16. This year’s event will feature the World Premiere of FRFF’s self-produced documentary\, Beneath the Ice: The Frozen River Film Festival Story. Learn more.
URL:https://riverartsalliance.org/event/frozen-river-film-festival-celebrates-20-years-with-new-film-series/2025-06-20/
END:VEVENT
BEGIN:VEVENT
DTSTART;TZID=America/Chicago:20250620T113000
DTEND;TZID=America/Chicago:20250620T130000
DTSTAMP:20260422T172048
CREATED:20250530T120720Z
LAST-MODIFIED:20250530T120720Z
UID:10001580-1750419000-1750424400@riverartsalliance.org
SUMMARY:Theatre du Mississippi Presents Virtual Playwriting Workshop: Autobiographical Writing
DESCRIPTION:Virtual Workshop\nJune 20\, July 18\, Aug 15\, Sept 12\, Oct 10\nCost: Sliding Scale One-Time Payment of $15-75\ntheatredumiss.org \nDiscover the power of personal storytelling through the art of autobiographical writing with playwright Kelsey Rain. In this hands-on workshop\, playwrights and actors will craft a rough draft of a monologue or script inspired by a significant event from their own lives or the lives of their family members. Learn more.
URL:https://riverartsalliance.org/event/theatre-du-mississippi-presents-virtual-playwriting-workshop-autobiographical-writing/2025-06-20/
END:VEVENT
BEGIN:VEVENT
DTSTART;TZID=America/Chicago:20250620T193000
DTEND;TZID=America/Chicago:20250620T213000
DTSTAMP:20260422T172048
CREATED:20250316T142354Z
LAST-MODIFIED:20250318T114059Z
UID:10001375-1750447800-1750455000@riverartsalliance.org
SUMMARY:Commonweal Theatre Presents The Half-Life of Marie Curie
DESCRIPTION:Commonweal Theatre Company | 208 Parkway Ave N\, Lanesboro\, MN\ncommonwealtheatre.org \n  \nDon’t miss this wonderful production of The Half-Life of Marie Curie\, directed by Jaclyn June Johnson and featuring Commonweal ensemble members Stela Burdt and Laurie Roberts. The play is based on a true story that illuminates the indomitable power of friendship between two extraordinary scientists. Learn more.
URL:https://riverartsalliance.org/event/commonweal-theatre-presents-the-half-life-of-marie-curie/2025-06-20/
LOCATION:Commonweal Theatre\, 208 Parkway Ave. N\, Lanesboro\, MN\, United States
END:VEVENT
BEGIN:VEVENT
DTSTART;VALUE=DATE:20250621
DTEND;VALUE=DATE:20250629
DTSTAMP:20260422T172048
CREATED:20250202T152244Z
LAST-MODIFIED:20250202T152244Z
UID:10000624-1750464000-1751155199@riverartsalliance.org
SUMMARY:Frozen River Film Festival Celebrates 20 Years with New Film Series
DESCRIPTION:frff.eventive.org \nThis year the Frozen River Film Festival (FRFF) will be celebrating 20 years of bringing documentary films and filmmakers to Winona. The festival begins Sunday\, February 9\, (You can still get home in time to watch the Super Bowl!) and runs through Sunday\, February 16. This year’s event will feature the World Premiere of FRFF’s self-produced documentary\, Beneath the Ice: The Frozen River Film Festival Story. Learn more.
URL:https://riverartsalliance.org/event/frozen-river-film-festival-celebrates-20-years-with-new-film-series/2025-06-21/
END:VEVENT
BEGIN:VEVENT
DTSTART;TZID=America/Chicago:20250621T133000
DTEND;TZID=America/Chicago:20250621T153000
DTSTAMP:20260422T172048
CREATED:20250316T142354Z
LAST-MODIFIED:20250318T114059Z
UID:10001376-1750512600-1750519800@riverartsalliance.org
SUMMARY:Commonweal Theatre Presents The Half-Life of Marie Curie
DESCRIPTION:Commonweal Theatre Company | 208 Parkway Ave N\, Lanesboro\, MN\ncommonwealtheatre.org \n  \nDon’t miss this wonderful production of The Half-Life of Marie Curie\, directed by Jaclyn June Johnson and featuring Commonweal ensemble members Stela Burdt and Laurie Roberts. The play is based on a true story that illuminates the indomitable power of friendship between two extraordinary scientists. Learn more.
URL:https://riverartsalliance.org/event/commonweal-theatre-presents-the-half-life-of-marie-curie/2025-06-21/
LOCATION:Commonweal Theatre\, 208 Parkway Ave. N\, Lanesboro\, MN\, United States
END:VEVENT
BEGIN:VEVENT
DTSTART;TZID=America/Chicago:20250621T193000
DTEND;TZID=America/Chicago:20250621T220000
DTSTAMP:20260422T172048
CREATED:20250319T172710Z
LAST-MODIFIED:20250319T173102Z
UID:10001446-1750534200-1750543200@riverartsalliance.org
SUMMARY:Commonweal Theatre Presents The Angel Next Door
DESCRIPTION:Preview Dates\nSaturday\, May 17 | 7:30-9:30 pm\nSunday\, May 18 | 1:30-3:30 pm\nThursday & Friday | May 22\, 23 | 7:30-9:30 pm \nFull Run Dates Listed on RAA Event Page \nCommonweal Theatre Company\n208 Parkway Ave N\, Lanesboro\, MN\ncommonwealtheatre.org \n  \nJoin the Commonweal Theatre Company for Paul Slade Smith’s romantic screwball comedy\, The Angel Next Door. Journey to an opulent Newport mansion in 1948\, where playwrights\, actors\, and a star-struck novelist gather to work on their next Broadway hit! (Never mind the housekeeper who wants them gone.) Learn more.
URL:https://riverartsalliance.org/event/commonweal-theatre-presents-the-angel-next-door/2025-06-21/
LOCATION:Commonweal Theatre\, 208 Parkway Ave. N\, Lanesboro\, MN\, United States
END:VEVENT
BEGIN:VEVENT
DTSTART;VALUE=DATE:20250622
DTEND;VALUE=DATE:20250630
DTSTAMP:20260422T172048
CREATED:20250202T152244Z
LAST-MODIFIED:20250202T152244Z
UID:10000625-1750550400-1751241599@riverartsalliance.org
SUMMARY:Frozen River Film Festival Celebrates 20 Years with New Film Series
DESCRIPTION:frff.eventive.org \nThis year the Frozen River Film Festival (FRFF) will be celebrating 20 years of bringing documentary films and filmmakers to Winona. The festival begins Sunday\, February 9\, (You can still get home in time to watch the Super Bowl!) and runs through Sunday\, February 16. This year’s event will feature the World Premiere of FRFF’s self-produced documentary\, Beneath the Ice: The Frozen River Film Festival Story. Learn more.
URL:https://riverartsalliance.org/event/frozen-river-film-festival-celebrates-20-years-with-new-film-series/2025-06-22/
END:VEVENT
BEGIN:VEVENT
DTSTART;TZID=America/Chicago:20250622T133000
DTEND;TZID=America/Chicago:20250622T160000
DTSTAMP:20260422T172048
CREATED:20250319T172710Z
LAST-MODIFIED:20250319T173102Z
UID:10001447-1750599000-1750608000@riverartsalliance.org
SUMMARY:Commonweal Theatre Presents The Angel Next Door
DESCRIPTION:Preview Dates\nSaturday\, May 17 | 7:30-9:30 pm\nSunday\, May 18 | 1:30-3:30 pm\nThursday & Friday | May 22\, 23 | 7:30-9:30 pm \nFull Run Dates Listed on RAA Event Page \nCommonweal Theatre Company\n208 Parkway Ave N\, Lanesboro\, MN\ncommonwealtheatre.org \n  \nJoin the Commonweal Theatre Company for Paul Slade Smith’s romantic screwball comedy\, The Angel Next Door. Journey to an opulent Newport mansion in 1948\, where playwrights\, actors\, and a star-struck novelist gather to work on their next Broadway hit! (Never mind the housekeeper who wants them gone.) Learn more.
URL:https://riverartsalliance.org/event/commonweal-theatre-presents-the-angel-next-door/2025-06-22/
LOCATION:Commonweal Theatre\, 208 Parkway Ave. N\, Lanesboro\, MN\, United States
END:VEVENT
BEGIN:VEVENT
DTSTART;VALUE=DATE:20250623
DTEND;VALUE=DATE:20250701
DTSTAMP:20260422T172048
CREATED:20250202T152244Z
LAST-MODIFIED:20250202T152244Z
UID:10000626-1750636800-1751327999@riverartsalliance.org
SUMMARY:Frozen River Film Festival Celebrates 20 Years with New Film Series
DESCRIPTION:frff.eventive.org \nThis year the Frozen River Film Festival (FRFF) will be celebrating 20 years of bringing documentary films and filmmakers to Winona. The festival begins Sunday\, February 9\, (You can still get home in time to watch the Super Bowl!) and runs through Sunday\, February 16. This year’s event will feature the World Premiere of FRFF’s self-produced documentary\, Beneath the Ice: The Frozen River Film Festival Story. Learn more.
URL:https://riverartsalliance.org/event/frozen-river-film-festival-celebrates-20-years-with-new-film-series/2025-06-23/
END:VEVENT
BEGIN:VEVENT
DTSTART;TZID=America/Chicago:20250623T180000
DTEND;TZID=America/Chicago:20250623T210000
DTSTAMP:20260422T172048
CREATED:20250603T172422Z
LAST-MODIFIED:20250603T172422Z
UID:10001587-1750701600-1750712400@riverartsalliance.org
SUMMARY:Sugarloaf Community Theatre Holds Auditions for Queen of the Library
DESCRIPTION:Adults and Children 12+\nAuditions: Monday\, June 23 | 6-9 pm\nPerformances: Aug 1/ 6 pm | Aug 2 & 3 / 2 pm\nCentral Lutheran Church | 259 W Wabasha St\nlinktr.ee/sugarloaftheatre \nSugarloaf Community Theatre is excited to announce auditions for the 4th annual summer musical\, Queen of the Library\, a quirky comedy for all ages. Learn more.
URL:https://riverartsalliance.org/event/sugarloaf-community-theatre-holds-auditions-for-queen-of-the-library/
LOCATION:Central Lutheran Church\, 259 W Wabasha St.\, Winona\, MN\, 55987\, United States
END:VEVENT
BEGIN:VEVENT
DTSTART;TZID=America/Chicago:20250623T193000
DTEND;TZID=America/Chicago:20250623T213000
DTSTAMP:20260422T172048
CREATED:20250316T142354Z
LAST-MODIFIED:20250318T114059Z
UID:10001377-1750707000-1750714200@riverartsalliance.org
SUMMARY:Commonweal Theatre Presents The Half-Life of Marie Curie
DESCRIPTION:Commonweal Theatre Company | 208 Parkway Ave N\, Lanesboro\, MN\ncommonwealtheatre.org \n  \nDon’t miss this wonderful production of The Half-Life of Marie Curie\, directed by Jaclyn June Johnson and featuring Commonweal ensemble members Stela Burdt and Laurie Roberts. The play is based on a true story that illuminates the indomitable power of friendship between two extraordinary scientists. Learn more.
URL:https://riverartsalliance.org/event/commonweal-theatre-presents-the-half-life-of-marie-curie/2025-06-23/
LOCATION:Commonweal Theatre\, 208 Parkway Ave. N\, Lanesboro\, MN\, United States
END:VEVENT
END:VCALENDAR