BEGIN:VCALENDAR
VERSION:2.0
PRODID:-//River Arts Alliance - ECPv6.15.20//NONSGML v1.0//EN
CALSCALE:GREGORIAN
METHOD:PUBLISH
X-WR-CALNAME:River Arts Alliance
X-ORIGINAL-URL:https://riverartsalliance.org
X-WR-CALDESC:Events for River Arts Alliance
REFRESH-INTERVAL;VALUE=DURATION:PT1H
X-Robots-Tag:noindex
X-PUBLISHED-TTL:PT1H
BEGIN:VTIMEZONE
TZID:America/Chicago
BEGIN:DAYLIGHT
TZOFFSETFROM:-0600
TZOFFSETTO:-0500
TZNAME:CDT
DTSTART:20240310T080000
END:DAYLIGHT
BEGIN:STANDARD
TZOFFSETFROM:-0500
TZOFFSETTO:-0600
TZNAME:CST
DTSTART:20241103T070000
END:STANDARD
BEGIN:DAYLIGHT
TZOFFSETFROM:-0600
TZOFFSETTO:-0500
TZNAME:CDT
DTSTART:20250309T080000
END:DAYLIGHT
BEGIN:STANDARD
TZOFFSETFROM:-0500
TZOFFSETTO:-0600
TZNAME:CST
DTSTART:20251102T070000
END:STANDARD
BEGIN:DAYLIGHT
TZOFFSETFROM:-0600
TZOFFSETTO:-0500
TZNAME:CDT
DTSTART:20260308T080000
END:DAYLIGHT
BEGIN:STANDARD
TZOFFSETFROM:-0500
TZOFFSETTO:-0600
TZNAME:CST
DTSTART:20261101T070000
END:STANDARD
END:VTIMEZONE
BEGIN:VEVENT
DTSTART;TZID=America/Chicago:20250605T193000
DTEND;TZID=America/Chicago:20250605T220000
DTSTAMP:20260422T171302
CREATED:20250319T172710Z
LAST-MODIFIED:20250319T173102Z
UID:10001439-1749151800-1749160800@riverartsalliance.org
SUMMARY:Commonweal Theatre Presents The Angel Next Door
DESCRIPTION:Preview Dates\nSaturday\, May 17 | 7:30-9:30 pm\nSunday\, May 18 | 1:30-3:30 pm\nThursday & Friday | May 22\, 23 | 7:30-9:30 pm \nFull Run Dates Listed on RAA Event Page \nCommonweal Theatre Company\n208 Parkway Ave N\, Lanesboro\, MN\ncommonwealtheatre.org \n  \nJoin the Commonweal Theatre Company for Paul Slade Smith’s romantic screwball comedy\, The Angel Next Door. Journey to an opulent Newport mansion in 1948\, where playwrights\, actors\, and a star-struck novelist gather to work on their next Broadway hit! (Never mind the housekeeper who wants them gone.) Learn more.
URL:https://riverartsalliance.org/event/commonweal-theatre-presents-the-angel-next-door/2025-06-05/
LOCATION:Commonweal Theatre\, 208 Parkway Ave. N\, Lanesboro\, MN\, United States
END:VEVENT
BEGIN:VEVENT
DTSTART;VALUE=DATE:20250606
DTEND;VALUE=DATE:20250614
DTSTAMP:20260422T171302
CREATED:20250202T152244Z
LAST-MODIFIED:20250202T152244Z
UID:10000609-1749168000-1749859199@riverartsalliance.org
SUMMARY:Frozen River Film Festival Celebrates 20 Years with New Film Series
DESCRIPTION:frff.eventive.org \nThis year the Frozen River Film Festival (FRFF) will be celebrating 20 years of bringing documentary films and filmmakers to Winona. The festival begins Sunday\, February 9\, (You can still get home in time to watch the Super Bowl!) and runs through Sunday\, February 16. This year’s event will feature the World Premiere of FRFF’s self-produced documentary\, Beneath the Ice: The Frozen River Film Festival Story. Learn more.
URL:https://riverartsalliance.org/event/frozen-river-film-festival-celebrates-20-years-with-new-film-series/2025-06-06/
END:VEVENT
BEGIN:VEVENT
DTSTART;TZID=America/Chicago:20250606T090000
DTEND;TZID=America/Chicago:20250606T160000
DTSTAMP:20260422T171302
CREATED:20250408T191446Z
LAST-MODIFIED:20250515T221140Z
UID:10001546-1749200400-1749225600@riverartsalliance.org
SUMMARY:MMAM Workshop: Creative Metamorphosis – Repurposed Textiles and the World Around Us with Maday Delgado
DESCRIPTION:Tuition: $250  | Member Rate: $240  +$40 Materials Fee\nRegistration Deadline Friday\, May 30\nMinnesota Marine Art Museum | 800 Riverview Dr.\nminnesotamarineart.org \n  \nExplore the intersection of nature\, textile art\, and sustainability through this hands-on workshop led by Maday Delgado\, focused on environmental awareness and creative expression. Participants will learn nature printing techniques\, hand-stitching skills\, and gain insight into the ecological impact of textile production while creating unique\, meaningful art pieces. Learn more. \n 
URL:https://riverartsalliance.org/event/mmam-workshop-creative-metamorphosis-repurposed-textiles-and-the-world-around-us-with-maday-delgado/2025-06-06/
LOCATION:Minnesota Marine Art Museum\, 800 Riverview Dr.\, Winona\, MN\, 55987\, United States
END:VEVENT
BEGIN:VEVENT
DTSTART;TZID=America/Chicago:20250606T180000
DTEND;TZID=America/Chicago:20250606T210000
DTSTAMP:20260422T171302
CREATED:20250529T192806Z
LAST-MODIFIED:20250529T192806Z
UID:10000992-1749232800-1749243600@riverartsalliance.org
SUMMARY:6th Annual “Swinging in the Street”
DESCRIPTION:Location: Corner of 3rd St  and Center St\nIn front of Blooming Grounds\nFree to the Public\nRiver City Ballroom Dancers \n  \nGet your dancing shoes ready. Winona’s downtown will be swinging and swaying to the sounds of LIVE music and dancing at the 6TH ANNUAL “Swinging In The Street” outdoor street dance! Learn more.
URL:https://riverartsalliance.org/event/6th-annual-swinging-in-the-street/
LOCATION:Blooming Grounds Coffee House\, 50 E 3rd St.\, Winona\, MN\, 55987\, United States
END:VEVENT
BEGIN:VEVENT
DTSTART;TZID=America/Chicago:20250606T193000
DTEND;TZID=America/Chicago:20250606T213000
DTSTAMP:20260422T171302
CREATED:20250316T142354Z
LAST-MODIFIED:20250318T114059Z
UID:10001369-1749238200-1749245400@riverartsalliance.org
SUMMARY:Commonweal Theatre Presents The Half-Life of Marie Curie
DESCRIPTION:Commonweal Theatre Company | 208 Parkway Ave N\, Lanesboro\, MN\ncommonwealtheatre.org \n  \nDon’t miss this wonderful production of The Half-Life of Marie Curie\, directed by Jaclyn June Johnson and featuring Commonweal ensemble members Stela Burdt and Laurie Roberts. The play is based on a true story that illuminates the indomitable power of friendship between two extraordinary scientists. Learn more.
URL:https://riverartsalliance.org/event/commonweal-theatre-presents-the-half-life-of-marie-curie/2025-06-06/
LOCATION:Commonweal Theatre\, 208 Parkway Ave. N\, Lanesboro\, MN\, United States
END:VEVENT
BEGIN:VEVENT
DTSTART;VALUE=DATE:20250607
DTEND;VALUE=DATE:20250615
DTSTAMP:20260422T171302
CREATED:20250202T152244Z
LAST-MODIFIED:20250202T152244Z
UID:10000610-1749254400-1749945599@riverartsalliance.org
SUMMARY:Frozen River Film Festival Celebrates 20 Years with New Film Series
DESCRIPTION:frff.eventive.org \nThis year the Frozen River Film Festival (FRFF) will be celebrating 20 years of bringing documentary films and filmmakers to Winona. The festival begins Sunday\, February 9\, (You can still get home in time to watch the Super Bowl!) and runs through Sunday\, February 16. This year’s event will feature the World Premiere of FRFF’s self-produced documentary\, Beneath the Ice: The Frozen River Film Festival Story. Learn more.
URL:https://riverartsalliance.org/event/frozen-river-film-festival-celebrates-20-years-with-new-film-series/2025-06-07/
END:VEVENT
BEGIN:VEVENT
DTSTART;TZID=America/Chicago:20250607T070000
DTEND;TZID=America/Chicago:20250607T110000
DTSTAMP:20260422T171302
CREATED:20250525T141600Z
LAST-MODIFIED:20250525T141600Z
UID:10000990-1749279600-1749294000@riverartsalliance.org
SUMMARY:Artists Along the Trail 
DESCRIPTION:Saturday\, June 7 | 7-11 am (Artists at Work)\nLunch: 11:30 AM – 1 PM( Artists’ work on display) \nTrempealeau National Wildlife Refuge\nW28488 Refuge Road | Trempealeau\, WI \nCelebrate National Trails Day at the Trempealeau National Wildlife Refuge with plein air artists capturing the beauty of nature. Learn more.
URL:https://riverartsalliance.org/event/artists-along-the-trail-2/
LOCATION:Trempealeau National Wildlife Refuge\, W28488 Refuge Road\, Trempealeau\, WI\, 54661
END:VEVENT
BEGIN:VEVENT
DTSTART;TZID=America/Chicago:20250607T090000
DTEND;TZID=America/Chicago:20250607T160000
DTSTAMP:20260422T171302
CREATED:20250408T191446Z
LAST-MODIFIED:20250515T221140Z
UID:10001547-1749286800-1749312000@riverartsalliance.org
SUMMARY:MMAM Workshop: Creative Metamorphosis – Repurposed Textiles and the World Around Us with Maday Delgado
DESCRIPTION:Tuition: $250  | Member Rate: $240  +$40 Materials Fee\nRegistration Deadline Friday\, May 30\nMinnesota Marine Art Museum | 800 Riverview Dr.\nminnesotamarineart.org \n  \nExplore the intersection of nature\, textile art\, and sustainability through this hands-on workshop led by Maday Delgado\, focused on environmental awareness and creative expression. Participants will learn nature printing techniques\, hand-stitching skills\, and gain insight into the ecological impact of textile production while creating unique\, meaningful art pieces. Learn more. \n 
URL:https://riverartsalliance.org/event/mmam-workshop-creative-metamorphosis-repurposed-textiles-and-the-world-around-us-with-maday-delgado/2025-06-07/
LOCATION:Minnesota Marine Art Museum\, 800 Riverview Dr.\, Winona\, MN\, 55987\, United States
END:VEVENT
BEGIN:VEVENT
DTSTART;TZID=America/Chicago:20250607T133000
DTEND;TZID=America/Chicago:20250607T153000
DTSTAMP:20260422T171302
CREATED:20250316T142354Z
LAST-MODIFIED:20250318T114059Z
UID:10001370-1749303000-1749310200@riverartsalliance.org
SUMMARY:Commonweal Theatre Presents The Half-Life of Marie Curie
DESCRIPTION:Commonweal Theatre Company | 208 Parkway Ave N\, Lanesboro\, MN\ncommonwealtheatre.org \n  \nDon’t miss this wonderful production of The Half-Life of Marie Curie\, directed by Jaclyn June Johnson and featuring Commonweal ensemble members Stela Burdt and Laurie Roberts. The play is based on a true story that illuminates the indomitable power of friendship between two extraordinary scientists. Learn more.
URL:https://riverartsalliance.org/event/commonweal-theatre-presents-the-half-life-of-marie-curie/2025-06-07/
LOCATION:Commonweal Theatre\, 208 Parkway Ave. N\, Lanesboro\, MN\, United States
END:VEVENT
BEGIN:VEVENT
DTSTART;TZID=America/Chicago:20250607T193000
DTEND;TZID=America/Chicago:20250607T220000
DTSTAMP:20260422T171302
CREATED:20250319T172710Z
LAST-MODIFIED:20250319T173102Z
UID:10001440-1749324600-1749333600@riverartsalliance.org
SUMMARY:Commonweal Theatre Presents The Angel Next Door
DESCRIPTION:Preview Dates\nSaturday\, May 17 | 7:30-9:30 pm\nSunday\, May 18 | 1:30-3:30 pm\nThursday & Friday | May 22\, 23 | 7:30-9:30 pm \nFull Run Dates Listed on RAA Event Page \nCommonweal Theatre Company\n208 Parkway Ave N\, Lanesboro\, MN\ncommonwealtheatre.org \n  \nJoin the Commonweal Theatre Company for Paul Slade Smith’s romantic screwball comedy\, The Angel Next Door. Journey to an opulent Newport mansion in 1948\, where playwrights\, actors\, and a star-struck novelist gather to work on their next Broadway hit! (Never mind the housekeeper who wants them gone.) Learn more.
URL:https://riverartsalliance.org/event/commonweal-theatre-presents-the-angel-next-door/2025-06-07/
LOCATION:Commonweal Theatre\, 208 Parkway Ave. N\, Lanesboro\, MN\, United States
END:VEVENT
BEGIN:VEVENT
DTSTART;VALUE=DATE:20250608
DTEND;VALUE=DATE:20250616
DTSTAMP:20260422T171302
CREATED:20250202T152244Z
LAST-MODIFIED:20250202T152244Z
UID:10000611-1749340800-1750031999@riverartsalliance.org
SUMMARY:Frozen River Film Festival Celebrates 20 Years with New Film Series
DESCRIPTION:frff.eventive.org \nThis year the Frozen River Film Festival (FRFF) will be celebrating 20 years of bringing documentary films and filmmakers to Winona. The festival begins Sunday\, February 9\, (You can still get home in time to watch the Super Bowl!) and runs through Sunday\, February 16. This year’s event will feature the World Premiere of FRFF’s self-produced documentary\, Beneath the Ice: The Frozen River Film Festival Story. Learn more.
URL:https://riverartsalliance.org/event/frozen-river-film-festival-celebrates-20-years-with-new-film-series/2025-06-08/
END:VEVENT
BEGIN:VEVENT
DTSTART;TZID=America/Chicago:20250608T133000
DTEND;TZID=America/Chicago:20250608T160000
DTSTAMP:20260422T171302
CREATED:20250319T172710Z
LAST-MODIFIED:20250319T173102Z
UID:10001441-1749389400-1749398400@riverartsalliance.org
SUMMARY:Commonweal Theatre Presents The Angel Next Door
DESCRIPTION:Preview Dates\nSaturday\, May 17 | 7:30-9:30 pm\nSunday\, May 18 | 1:30-3:30 pm\nThursday & Friday | May 22\, 23 | 7:30-9:30 pm \nFull Run Dates Listed on RAA Event Page \nCommonweal Theatre Company\n208 Parkway Ave N\, Lanesboro\, MN\ncommonwealtheatre.org \n  \nJoin the Commonweal Theatre Company for Paul Slade Smith’s romantic screwball comedy\, The Angel Next Door. Journey to an opulent Newport mansion in 1948\, where playwrights\, actors\, and a star-struck novelist gather to work on their next Broadway hit! (Never mind the housekeeper who wants them gone.) Learn more.
URL:https://riverartsalliance.org/event/commonweal-theatre-presents-the-angel-next-door/2025-06-08/
LOCATION:Commonweal Theatre\, 208 Parkway Ave. N\, Lanesboro\, MN\, United States
END:VEVENT
BEGIN:VEVENT
DTSTART;VALUE=DATE:20250609
DTEND;VALUE=DATE:20250617
DTSTAMP:20260422T171302
CREATED:20250202T152244Z
LAST-MODIFIED:20250202T152244Z
UID:10000612-1749427200-1750118399@riverartsalliance.org
SUMMARY:Frozen River Film Festival Celebrates 20 Years with New Film Series
DESCRIPTION:frff.eventive.org \nThis year the Frozen River Film Festival (FRFF) will be celebrating 20 years of bringing documentary films and filmmakers to Winona. The festival begins Sunday\, February 9\, (You can still get home in time to watch the Super Bowl!) and runs through Sunday\, February 16. This year’s event will feature the World Premiere of FRFF’s self-produced documentary\, Beneath the Ice: The Frozen River Film Festival Story. Learn more.
URL:https://riverartsalliance.org/event/frozen-river-film-festival-celebrates-20-years-with-new-film-series/2025-06-09/
END:VEVENT
BEGIN:VEVENT
DTSTART;TZID=America/Chicago:20250609T193000
DTEND;TZID=America/Chicago:20250609T213000
DTSTAMP:20260422T171302
CREATED:20250316T142354Z
LAST-MODIFIED:20250318T114059Z
UID:10001371-1749497400-1749504600@riverartsalliance.org
SUMMARY:Commonweal Theatre Presents The Half-Life of Marie Curie
DESCRIPTION:Commonweal Theatre Company | 208 Parkway Ave N\, Lanesboro\, MN\ncommonwealtheatre.org \n  \nDon’t miss this wonderful production of The Half-Life of Marie Curie\, directed by Jaclyn June Johnson and featuring Commonweal ensemble members Stela Burdt and Laurie Roberts. The play is based on a true story that illuminates the indomitable power of friendship between two extraordinary scientists. Learn more.
URL:https://riverartsalliance.org/event/commonweal-theatre-presents-the-half-life-of-marie-curie/2025-06-09/
LOCATION:Commonweal Theatre\, 208 Parkway Ave. N\, Lanesboro\, MN\, United States
END:VEVENT
BEGIN:VEVENT
DTSTART;VALUE=DATE:20250610
DTEND;VALUE=DATE:20250618
DTSTAMP:20260422T171302
CREATED:20250202T152244Z
LAST-MODIFIED:20250202T152244Z
UID:10000613-1749513600-1750204799@riverartsalliance.org
SUMMARY:Frozen River Film Festival Celebrates 20 Years with New Film Series
DESCRIPTION:frff.eventive.org \nThis year the Frozen River Film Festival (FRFF) will be celebrating 20 years of bringing documentary films and filmmakers to Winona. The festival begins Sunday\, February 9\, (You can still get home in time to watch the Super Bowl!) and runs through Sunday\, February 16. This year’s event will feature the World Premiere of FRFF’s self-produced documentary\, Beneath the Ice: The Frozen River Film Festival Story. Learn more.
URL:https://riverartsalliance.org/event/frozen-river-film-festival-celebrates-20-years-with-new-film-series/2025-06-10/
END:VEVENT
BEGIN:VEVENT
DTSTART;VALUE=DATE:20250611
DTEND;VALUE=DATE:20250619
DTSTAMP:20260422T171302
CREATED:20250202T152244Z
LAST-MODIFIED:20250202T152244Z
UID:10000614-1749600000-1750291199@riverartsalliance.org
SUMMARY:Frozen River Film Festival Celebrates 20 Years with New Film Series
DESCRIPTION:frff.eventive.org \nThis year the Frozen River Film Festival (FRFF) will be celebrating 20 years of bringing documentary films and filmmakers to Winona. The festival begins Sunday\, February 9\, (You can still get home in time to watch the Super Bowl!) and runs through Sunday\, February 16. This year’s event will feature the World Premiere of FRFF’s self-produced documentary\, Beneath the Ice: The Frozen River Film Festival Story. Learn more.
URL:https://riverartsalliance.org/event/frozen-river-film-festival-celebrates-20-years-with-new-film-series/2025-06-11/
END:VEVENT
BEGIN:VEVENT
DTSTART;TZID=America/Chicago:20250611T173000
DTEND;TZID=America/Chicago:20250611T193000
DTSTAMP:20260422T171302
CREATED:20250512T010031Z
LAST-MODIFIED:20250512T010031Z
UID:10001570-1749663000-1749670200@riverartsalliance.org
SUMMARY:WAC Offers Collagraph Printing Making with Preston Lawing
DESCRIPTION:Cost: $150\nWinona Arts Center | 228 E 5th St \n  \nJoin the momentum in the Winona Arts Center Print Studio to Explore Collagraph Printmaking with Preston Lawing. Learn more.
URL:https://riverartsalliance.org/event/wac-offers-collagraph-printing-making-with-preston-lawing/2025-06-11/
END:VEVENT
BEGIN:VEVENT
DTSTART;VALUE=DATE:20250612
DTEND;VALUE=DATE:20250620
DTSTAMP:20260422T171302
CREATED:20250202T152244Z
LAST-MODIFIED:20250202T152244Z
UID:10000615-1749686400-1750377599@riverartsalliance.org
SUMMARY:Frozen River Film Festival Celebrates 20 Years with New Film Series
DESCRIPTION:frff.eventive.org \nThis year the Frozen River Film Festival (FRFF) will be celebrating 20 years of bringing documentary films and filmmakers to Winona. The festival begins Sunday\, February 9\, (You can still get home in time to watch the Super Bowl!) and runs through Sunday\, February 16. This year’s event will feature the World Premiere of FRFF’s self-produced documentary\, Beneath the Ice: The Frozen River Film Festival Story. Learn more.
URL:https://riverartsalliance.org/event/frozen-river-film-festival-celebrates-20-years-with-new-film-series/2025-06-12/
END:VEVENT
BEGIN:VEVENT
DTSTART;TZID=America/Chicago:20250612T163000
DTEND;TZID=America/Chicago:20250612T200000
DTSTAMP:20260422T171302
CREATED:20250512T112955Z
LAST-MODIFIED:20250512T112955Z
UID:10001574-1749745800-1749758400@riverartsalliance.org
SUMMARY:Open Studio Spotlight at WAC
DESCRIPTION:Cost $10\nWinona Arts Center | 228 E 5th St \nJoin WAC for their 2nd Quarter Spotlight with Fran Goodin. She will provide a demonstration of the Do’s and Don’ts of Linocut Printmaking. After the demonstration participants will carve a design of their choice and create prints from your carving.  All supplies are provided. Read more.
URL:https://riverartsalliance.org/event/open-studio-spotlight-at-wac/
LOCATION:Winona Arts Center\, 228 E 5th St.\, Winona\, MN\, 55987\, United States
END:VEVENT
BEGIN:VEVENT
DTSTART;TZID=America/Chicago:20250612T173000
DTEND;TZID=America/Chicago:20250612T193000
DTSTAMP:20260422T171302
CREATED:20250408T195720Z
LAST-MODIFIED:20250408T195720Z
UID:10001545-1749749400-1749756600@riverartsalliance.org
SUMMARY:MMAM Workshop: Craft + Cocktail Carving Woodcut Reliefs with Kevin Ewing
DESCRIPTION:Tuition: $65  | Member Rate: $55  +$12 Materials Fee\nAges 21+ | Registration Deadline Tues\, June 10\nMinnesota Marine Art Museum | 800 Riverview Dr.\nminnesotamarineart.org \n  \nUnwind and unleash your creativity at the Minnesota Marine Art Museum Craft + Cocktail Workshop. Join Rochester-based wood specialist Kevin Ewing for an evening of hands-on artistry\, where you’ll carve your very own river-inspired scene from a block of basswood. While you work\, enjoy a refreshing cocktail expertly crafted by MMAM’s new Water Bar\, perfectly paired to complement the experience! Learn more.
URL:https://riverartsalliance.org/event/mmam-workshop-craft-cocktail-carving-woodcut-reliefs-with-kevin-ewing/
LOCATION:Minnesota Marine Art Museum\, 800 Riverview Dr.\, Winona\, MN\, 55987\, United States
END:VEVENT
BEGIN:VEVENT
DTSTART;TZID=America/Chicago:20250612T193000
DTEND;TZID=America/Chicago:20250612T220000
DTSTAMP:20260422T171302
CREATED:20250319T172710Z
LAST-MODIFIED:20250319T173102Z
UID:10001442-1749756600-1749765600@riverartsalliance.org
SUMMARY:Commonweal Theatre Presents The Angel Next Door
DESCRIPTION:Preview Dates\nSaturday\, May 17 | 7:30-9:30 pm\nSunday\, May 18 | 1:30-3:30 pm\nThursday & Friday | May 22\, 23 | 7:30-9:30 pm \nFull Run Dates Listed on RAA Event Page \nCommonweal Theatre Company\n208 Parkway Ave N\, Lanesboro\, MN\ncommonwealtheatre.org \n  \nJoin the Commonweal Theatre Company for Paul Slade Smith’s romantic screwball comedy\, The Angel Next Door. Journey to an opulent Newport mansion in 1948\, where playwrights\, actors\, and a star-struck novelist gather to work on their next Broadway hit! (Never mind the housekeeper who wants them gone.) Learn more.
URL:https://riverartsalliance.org/event/commonweal-theatre-presents-the-angel-next-door/2025-06-12/
LOCATION:Commonweal Theatre\, 208 Parkway Ave. N\, Lanesboro\, MN\, United States
END:VEVENT
BEGIN:VEVENT
DTSTART;VALUE=DATE:20250613
DTEND;VALUE=DATE:20250621
DTSTAMP:20260422T171302
CREATED:20250202T152244Z
LAST-MODIFIED:20250202T152244Z
UID:10000616-1749772800-1750463999@riverartsalliance.org
SUMMARY:Frozen River Film Festival Celebrates 20 Years with New Film Series
DESCRIPTION:frff.eventive.org \nThis year the Frozen River Film Festival (FRFF) will be celebrating 20 years of bringing documentary films and filmmakers to Winona. The festival begins Sunday\, February 9\, (You can still get home in time to watch the Super Bowl!) and runs through Sunday\, February 16. This year’s event will feature the World Premiere of FRFF’s self-produced documentary\, Beneath the Ice: The Frozen River Film Festival Story. Learn more.
URL:https://riverartsalliance.org/event/frozen-river-film-festival-celebrates-20-years-with-new-film-series/2025-06-13/
END:VEVENT
BEGIN:VEVENT
DTSTART;TZID=America/Chicago:20250613T193000
DTEND;TZID=America/Chicago:20250613T213000
DTSTAMP:20260422T171302
CREATED:20250316T142354Z
LAST-MODIFIED:20250318T114059Z
UID:10001372-1749843000-1749850200@riverartsalliance.org
SUMMARY:Commonweal Theatre Presents The Half-Life of Marie Curie
DESCRIPTION:Commonweal Theatre Company | 208 Parkway Ave N\, Lanesboro\, MN\ncommonwealtheatre.org \n  \nDon’t miss this wonderful production of The Half-Life of Marie Curie\, directed by Jaclyn June Johnson and featuring Commonweal ensemble members Stela Burdt and Laurie Roberts. The play is based on a true story that illuminates the indomitable power of friendship between two extraordinary scientists. Learn more.
URL:https://riverartsalliance.org/event/commonweal-theatre-presents-the-half-life-of-marie-curie/2025-06-13/
LOCATION:Commonweal Theatre\, 208 Parkway Ave. N\, Lanesboro\, MN\, United States
END:VEVENT
BEGIN:VEVENT
DTSTART;TZID=America/Chicago:20250613T193000
DTEND;TZID=America/Chicago:20250613T220000
DTSTAMP:20260422T171302
CREATED:20250530T112616Z
LAST-MODIFIED:20250530T112928Z
UID:10001579-1749843000-1749852000@riverartsalliance.org
SUMMARY:Theatre du Mississippi Presents: Lustrous Lights – A Revue
DESCRIPTION:Doors open 7:30 pm | Performances begin 8:30 pm\n$12 Early Bird Online (limited availability)\n$17 Presale | $22 At Door (cash only)\nStrictly 21 + to attend\nNo Name Bar | 252 E 3rd St\ntheatredumiss.org \n  \nTheatre du Mississippi is excited to announce its Lustrous Lights: A Revue\, an evening of performances that highlight the artistry and creativity of local talent. This special event will take place on Friday\, June 13\, at the No Name Bar. Learn more.
URL:https://riverartsalliance.org/event/theatre-du-mississippi-presents-lustrous-lights-a-revue/
LOCATION:No Name Bar\, 252 E 3rd St.\, Winona\, MN\, 55987
END:VEVENT
BEGIN:VEVENT
DTSTART;VALUE=DATE:20250614
DTEND;VALUE=DATE:20250622
DTSTAMP:20260422T171302
CREATED:20250202T152244Z
LAST-MODIFIED:20250202T152244Z
UID:10000617-1749859200-1750550399@riverartsalliance.org
SUMMARY:Frozen River Film Festival Celebrates 20 Years with New Film Series
DESCRIPTION:frff.eventive.org \nThis year the Frozen River Film Festival (FRFF) will be celebrating 20 years of bringing documentary films and filmmakers to Winona. The festival begins Sunday\, February 9\, (You can still get home in time to watch the Super Bowl!) and runs through Sunday\, February 16. This year’s event will feature the World Premiere of FRFF’s self-produced documentary\, Beneath the Ice: The Frozen River Film Festival Story. Learn more.
URL:https://riverartsalliance.org/event/frozen-river-film-festival-celebrates-20-years-with-new-film-series/2025-06-14/
END:VEVENT
BEGIN:VEVENT
DTSTART;TZID=America/Chicago:20250614T133000
DTEND;TZID=America/Chicago:20250614T153000
DTSTAMP:20260422T171302
CREATED:20250316T142354Z
LAST-MODIFIED:20250318T114059Z
UID:10001373-1749907800-1749915000@riverartsalliance.org
SUMMARY:Commonweal Theatre Presents The Half-Life of Marie Curie
DESCRIPTION:Commonweal Theatre Company | 208 Parkway Ave N\, Lanesboro\, MN\ncommonwealtheatre.org \n  \nDon’t miss this wonderful production of The Half-Life of Marie Curie\, directed by Jaclyn June Johnson and featuring Commonweal ensemble members Stela Burdt and Laurie Roberts. The play is based on a true story that illuminates the indomitable power of friendship between two extraordinary scientists. Learn more.
URL:https://riverartsalliance.org/event/commonweal-theatre-presents-the-half-life-of-marie-curie/2025-06-14/
LOCATION:Commonweal Theatre\, 208 Parkway Ave. N\, Lanesboro\, MN\, United States
END:VEVENT
BEGIN:VEVENT
DTSTART;TZID=America/Chicago:20250614T193000
DTEND;TZID=America/Chicago:20250614T220000
DTSTAMP:20260422T171302
CREATED:20250319T172710Z
LAST-MODIFIED:20250319T173102Z
UID:10001443-1749929400-1749938400@riverartsalliance.org
SUMMARY:Commonweal Theatre Presents The Angel Next Door
DESCRIPTION:Preview Dates\nSaturday\, May 17 | 7:30-9:30 pm\nSunday\, May 18 | 1:30-3:30 pm\nThursday & Friday | May 22\, 23 | 7:30-9:30 pm \nFull Run Dates Listed on RAA Event Page \nCommonweal Theatre Company\n208 Parkway Ave N\, Lanesboro\, MN\ncommonwealtheatre.org \n  \nJoin the Commonweal Theatre Company for Paul Slade Smith’s romantic screwball comedy\, The Angel Next Door. Journey to an opulent Newport mansion in 1948\, where playwrights\, actors\, and a star-struck novelist gather to work on their next Broadway hit! (Never mind the housekeeper who wants them gone.) Learn more.
URL:https://riverartsalliance.org/event/commonweal-theatre-presents-the-angel-next-door/2025-06-14/
LOCATION:Commonweal Theatre\, 208 Parkway Ave. N\, Lanesboro\, MN\, United States
END:VEVENT
BEGIN:VEVENT
DTSTART;VALUE=DATE:20250615
DTEND;VALUE=DATE:20250623
DTSTAMP:20260422T171302
CREATED:20250202T152244Z
LAST-MODIFIED:20250202T152244Z
UID:10000618-1749945600-1750636799@riverartsalliance.org
SUMMARY:Frozen River Film Festival Celebrates 20 Years with New Film Series
DESCRIPTION:frff.eventive.org \nThis year the Frozen River Film Festival (FRFF) will be celebrating 20 years of bringing documentary films and filmmakers to Winona. The festival begins Sunday\, February 9\, (You can still get home in time to watch the Super Bowl!) and runs through Sunday\, February 16. This year’s event will feature the World Premiere of FRFF’s self-produced documentary\, Beneath the Ice: The Frozen River Film Festival Story. Learn more.
URL:https://riverartsalliance.org/event/frozen-river-film-festival-celebrates-20-years-with-new-film-series/2025-06-15/
END:VEVENT
BEGIN:VEVENT
DTSTART;TZID=America/Chicago:20250615T133000
DTEND;TZID=America/Chicago:20250615T160000
DTSTAMP:20260422T171302
CREATED:20250319T172710Z
LAST-MODIFIED:20250319T173102Z
UID:10001444-1749994200-1750003200@riverartsalliance.org
SUMMARY:Commonweal Theatre Presents The Angel Next Door
DESCRIPTION:Preview Dates\nSaturday\, May 17 | 7:30-9:30 pm\nSunday\, May 18 | 1:30-3:30 pm\nThursday & Friday | May 22\, 23 | 7:30-9:30 pm \nFull Run Dates Listed on RAA Event Page \nCommonweal Theatre Company\n208 Parkway Ave N\, Lanesboro\, MN\ncommonwealtheatre.org \n  \nJoin the Commonweal Theatre Company for Paul Slade Smith’s romantic screwball comedy\, The Angel Next Door. Journey to an opulent Newport mansion in 1948\, where playwrights\, actors\, and a star-struck novelist gather to work on their next Broadway hit! (Never mind the housekeeper who wants them gone.) Learn more.
URL:https://riverartsalliance.org/event/commonweal-theatre-presents-the-angel-next-door/2025-06-15/
LOCATION:Commonweal Theatre\, 208 Parkway Ave. N\, Lanesboro\, MN\, United States
END:VEVENT
BEGIN:VEVENT
DTSTART;TZID=America/Chicago:20250615T143000
DTEND;TZID=America/Chicago:20250615T173000
DTSTAMP:20260422T171302
CREATED:20250530T001319Z
LAST-MODIFIED:20250530T001319Z
UID:10001578-1749997800-1750008600@riverartsalliance.org
SUMMARY:June Jazz Jam Supports Engage Winona
DESCRIPTION:Two Fathoms Brewing | 65 E Front St.\nH3OJazz.com \nAfter the Steamboat Days parade on June 15\, 2025\, head down to Two Fathoms Brewing from 2:30 to 5:30 pm and join H3O Jazz Trio on the brewery’s spacious outdoor patio (weather permitting) for the popular monthly Jazz Jam. This month’s fundraiser recipient will be the Engage Winona. Learn more.
URL:https://riverartsalliance.org/event/june-jazz-jam-supports-engage-winona/
LOCATION:Two Fathoms Brewing\, 65 E Front St.\, Winona\, MN\, 55987\, United States
END:VEVENT
END:VCALENDAR