BEGIN:VCALENDAR
VERSION:2.0
PRODID:-//River Arts Alliance - ECPv6.15.20//NONSGML v1.0//EN
CALSCALE:GREGORIAN
METHOD:PUBLISH
X-WR-CALNAME:River Arts Alliance
X-ORIGINAL-URL:https://riverartsalliance.org
X-WR-CALDESC:Events for River Arts Alliance
REFRESH-INTERVAL;VALUE=DURATION:PT1H
X-Robots-Tag:noindex
X-PUBLISHED-TTL:PT1H
BEGIN:VTIMEZONE
TZID:America/Chicago
BEGIN:DAYLIGHT
TZOFFSETFROM:-0600
TZOFFSETTO:-0500
TZNAME:CDT
DTSTART:20250309T080000
END:DAYLIGHT
BEGIN:STANDARD
TZOFFSETFROM:-0500
TZOFFSETTO:-0600
TZNAME:CST
DTSTART:20251102T070000
END:STANDARD
BEGIN:DAYLIGHT
TZOFFSETFROM:-0600
TZOFFSETTO:-0500
TZNAME:CDT
DTSTART:20260308T080000
END:DAYLIGHT
BEGIN:STANDARD
TZOFFSETFROM:-0500
TZOFFSETTO:-0600
TZNAME:CST
DTSTART:20261101T070000
END:STANDARD
BEGIN:DAYLIGHT
TZOFFSETFROM:-0600
TZOFFSETTO:-0500
TZNAME:CDT
DTSTART:20270314T080000
END:DAYLIGHT
BEGIN:STANDARD
TZOFFSETFROM:-0500
TZOFFSETTO:-0600
TZNAME:CST
DTSTART:20271107T070000
END:STANDARD
END:VTIMEZONE
BEGIN:VEVENT
DTSTART;TZID=America/Chicago:20260123T163000
DTEND;TZID=America/Chicago:20260123T183000
DTSTAMP:20260423T021608
CREATED:20260116T150048Z
LAST-MODIFIED:20260114T213317Z
UID:10001153-1769185800-1769193000@riverartsalliance.org
SUMMARY:Pre-Concert Talk with John Paulson
DESCRIPTION:The 18 piece John Paulson Big Band is slated to perform a concert at Central Lutheran Church January 24th at 7:00 pm in Winona The event will include various jazz selections from their previously released CDs and feature the amazing vocalist Janette Hanson of La Crosse\, WI. Included in the performance will be the premiere of John Paulson’s latest work “The Music of Monet.” Also- attend the Meet the Composer presentation Jan. 23 at 4:30 pm also at Central Lutheran. John will discuss the premiere of his new work “The Music of Monet.”
URL:https://riverartsalliance.org/event/pre-concert-talk-with-john-paulson/
LOCATION:Central Lutheran Church\, 259 W Wabasha St.\, Winona\, MN\, 55987\, United States
END:VEVENT
BEGIN:VEVENT
DTSTART;VALUE=DATE:20260123
DTEND;VALUE=DATE:20260131
DTSTAMP:20260423T021608
CREATED:20250202T152244Z
LAST-MODIFIED:20250202T152244Z
UID:10000840-1769126400-1769817599@riverartsalliance.org
SUMMARY:Frozen River Film Festival Celebrates 20 Years with New Film Series
DESCRIPTION:frff.eventive.org \nThis year the Frozen River Film Festival (FRFF) will be celebrating 20 years of bringing documentary films and filmmakers to Winona. The festival begins Sunday\, February 9\, (You can still get home in time to watch the Super Bowl!) and runs through Sunday\, February 16. This year’s event will feature the World Premiere of FRFF’s self-produced documentary\, Beneath the Ice: The Frozen River Film Festival Story. Learn more.
URL:https://riverartsalliance.org/event/frozen-river-film-festival-celebrates-20-years-with-new-film-series/2026-01-23/
LOCATION:MN
END:VEVENT
BEGIN:VEVENT
DTSTART;TZID=America/Chicago:20260122T180000
DTEND;TZID=America/Chicago:20260122T210000
DTSTAMP:20260423T021608
CREATED:20250822T141537Z
LAST-MODIFIED:20250822T141537Z
UID:10001724-1769104800-1769115600@riverartsalliance.org
SUMMARY:Call to Artists: Between the Bluffs Plein Air
DESCRIPTION:Demonstrations: Sat. Oct 11\ 9 – Noon\nShow: Oct 17\, 18\, 19 \nBetweenthebluffs.com \nColleen Shore is a member of the River Arts Alliance. To learn more about the benefits of membership\, please visit: riverartsalliance.org/membership/.
URL:https://riverartsalliance.org/event/call-to-artists-between-the-bluffs-plein-air/2026-01-22/
LOCATION:MN
ATTACH;FMTTYPE=image/png:https://riverartsalliance.org/wp-content/uploads/2025/08/Between-the-Bluffs-call-to-artists-1-1-1.png
END:VEVENT
BEGIN:VEVENT
DTSTART;VALUE=DATE:20260122
DTEND;VALUE=DATE:20260130
DTSTAMP:20260423T021608
CREATED:20250202T152244Z
LAST-MODIFIED:20250202T152244Z
UID:10000839-1769040000-1769731199@riverartsalliance.org
SUMMARY:Frozen River Film Festival Celebrates 20 Years with New Film Series
DESCRIPTION:frff.eventive.org \nThis year the Frozen River Film Festival (FRFF) will be celebrating 20 years of bringing documentary films and filmmakers to Winona. The festival begins Sunday\, February 9\, (You can still get home in time to watch the Super Bowl!) and runs through Sunday\, February 16. This year’s event will feature the World Premiere of FRFF’s self-produced documentary\, Beneath the Ice: The Frozen River Film Festival Story. Learn more.
URL:https://riverartsalliance.org/event/frozen-river-film-festival-celebrates-20-years-with-new-film-series/2026-01-22/
LOCATION:MN
END:VEVENT
BEGIN:VEVENT
DTSTART;TZID=America/Chicago:20260121T180000
DTEND;TZID=America/Chicago:20260121T210000
DTSTAMP:20260423T021608
CREATED:20250822T141537Z
LAST-MODIFIED:20250822T141537Z
UID:10001723-1769018400-1769029200@riverartsalliance.org
SUMMARY:Call to Artists: Between the Bluffs Plein Air
DESCRIPTION:Demonstrations: Sat. Oct 11\ 9 – Noon\nShow: Oct 17\, 18\, 19 \nBetweenthebluffs.com \nColleen Shore is a member of the River Arts Alliance. To learn more about the benefits of membership\, please visit: riverartsalliance.org/membership/.
URL:https://riverartsalliance.org/event/call-to-artists-between-the-bluffs-plein-air/2026-01-21/
LOCATION:MN
ATTACH;FMTTYPE=image/png:https://riverartsalliance.org/wp-content/uploads/2025/08/Between-the-Bluffs-call-to-artists-1-1-1.png
END:VEVENT
BEGIN:VEVENT
DTSTART;TZID=America/Chicago:20260121T173000
DTEND;TZID=America/Chicago:20260121T193000
DTSTAMP:20260423T021608
CREATED:20260109T193417Z
LAST-MODIFIED:20260109T193417Z
UID:10001883-1769016600-1769023800@riverartsalliance.org
SUMMARY:Printmaking Workshop with Preston Lawing at Winona Arts Center
DESCRIPTION:The Winona Art Center continues our Printmaking Series with Preston Lawing. This three-week workshop will introduce participants to the technique of drypoint etching\, covering both the practical aspects of creating prints and the historical context of the medium. Participants will learn how to prepare their acrylic plates\, execute etchings and work safely in a printmaking studio. Participants do not need to have strong drawing skills\, but a willingness to explore different marking choices that should provide lifelong joy of this simple\, but elegant process. Due to the technical information and processes covered\, this course is suited for those who are 18 and up. All materials are provided. Cost is $150 for the 3-day workshop. Register today with Jen at jsbenson50@gmail.com
URL:https://riverartsalliance.org/event/printmaking-workshop-with-preston-lawing-at-winona-arts-center/2026-01-21/
LOCATION:Winona Arts Center\, 228 E 5th St.\, Winona\, MN\, 55987\, United States
END:VEVENT
BEGIN:VEVENT
DTSTART;VALUE=DATE:20260121
DTEND;VALUE=DATE:20260129
DTSTAMP:20260423T021608
CREATED:20250202T152244Z
LAST-MODIFIED:20250202T152244Z
UID:10000838-1768953600-1769644799@riverartsalliance.org
SUMMARY:Frozen River Film Festival Celebrates 20 Years with New Film Series
DESCRIPTION:frff.eventive.org \nThis year the Frozen River Film Festival (FRFF) will be celebrating 20 years of bringing documentary films and filmmakers to Winona. The festival begins Sunday\, February 9\, (You can still get home in time to watch the Super Bowl!) and runs through Sunday\, February 16. This year’s event will feature the World Premiere of FRFF’s self-produced documentary\, Beneath the Ice: The Frozen River Film Festival Story. Learn more.
URL:https://riverartsalliance.org/event/frozen-river-film-festival-celebrates-20-years-with-new-film-series/2026-01-21/
LOCATION:MN
END:VEVENT
BEGIN:VEVENT
DTSTART;TZID=America/Chicago:20260120T180000
DTEND;TZID=America/Chicago:20260120T210000
DTSTAMP:20260423T021608
CREATED:20250822T141537Z
LAST-MODIFIED:20250822T141537Z
UID:10001722-1768932000-1768942800@riverartsalliance.org
SUMMARY:Call to Artists: Between the Bluffs Plein Air
DESCRIPTION:Demonstrations: Sat. Oct 11\ 9 – Noon\nShow: Oct 17\, 18\, 19 \nBetweenthebluffs.com \nColleen Shore is a member of the River Arts Alliance. To learn more about the benefits of membership\, please visit: riverartsalliance.org/membership/.
URL:https://riverartsalliance.org/event/call-to-artists-between-the-bluffs-plein-air/2026-01-20/
LOCATION:MN
ATTACH;FMTTYPE=image/png:https://riverartsalliance.org/wp-content/uploads/2025/08/Between-the-Bluffs-call-to-artists-1-1-1.png
END:VEVENT
BEGIN:VEVENT
DTSTART;TZID=America/Chicago:20260120T173000
DTEND;TZID=America/Chicago:20260120T193000
DTSTAMP:20260423T021608
CREATED:20260109T191729Z
LAST-MODIFIED:20260109T193203Z
UID:10001880-1768930200-1768937400@riverartsalliance.org
SUMMARY:Watercolor Classes at Winona Arts Center
DESCRIPTION:The Winona Arts Center is pleased to welcome Miranda Lomeli-O’Reilly who will teach beginner Watercolor Classes. Each class has a different lesson. The January 13 class “Foundations” is required for new students. The January 20 class will cover Color mixing & Reinforcement. Jan 27 is Application & Evergreens Workshop. The cost of the 3-session class is $45 for members & $50/non members. There is a one-time $20 materials fee. If you have questions or want to register contact Jen at jsbenson50@gmail.com
URL:https://riverartsalliance.org/event/watercolor-classes-at-winona-arts-center/2026-01-20/
LOCATION:Winona Arts Center\, 228 E 5th St.\, Winona\, MN\, 55987\, United States
END:VEVENT
BEGIN:VEVENT
DTSTART;VALUE=DATE:20260120
DTEND;VALUE=DATE:20260128
DTSTAMP:20260423T021608
CREATED:20250202T152244Z
LAST-MODIFIED:20250202T152244Z
UID:10000837-1768867200-1769558399@riverartsalliance.org
SUMMARY:Frozen River Film Festival Celebrates 20 Years with New Film Series
DESCRIPTION:frff.eventive.org \nThis year the Frozen River Film Festival (FRFF) will be celebrating 20 years of bringing documentary films and filmmakers to Winona. The festival begins Sunday\, February 9\, (You can still get home in time to watch the Super Bowl!) and runs through Sunday\, February 16. This year’s event will feature the World Premiere of FRFF’s self-produced documentary\, Beneath the Ice: The Frozen River Film Festival Story. Learn more.
URL:https://riverartsalliance.org/event/frozen-river-film-festival-celebrates-20-years-with-new-film-series/2026-01-20/
LOCATION:MN
END:VEVENT
BEGIN:VEVENT
DTSTART;TZID=America/Chicago:20260119T180000
DTEND;TZID=America/Chicago:20260119T210000
DTSTAMP:20260423T021608
CREATED:20250822T141537Z
LAST-MODIFIED:20250822T141537Z
UID:10001721-1768845600-1768856400@riverartsalliance.org
SUMMARY:Call to Artists: Between the Bluffs Plein Air
DESCRIPTION:Demonstrations: Sat. Oct 11\ 9 – Noon\nShow: Oct 17\, 18\, 19 \nBetweenthebluffs.com \nColleen Shore is a member of the River Arts Alliance. To learn more about the benefits of membership\, please visit: riverartsalliance.org/membership/.
URL:https://riverartsalliance.org/event/call-to-artists-between-the-bluffs-plein-air/2026-01-19/
LOCATION:MN
ATTACH;FMTTYPE=image/png:https://riverartsalliance.org/wp-content/uploads/2025/08/Between-the-Bluffs-call-to-artists-1-1-1.png
END:VEVENT
BEGIN:VEVENT
DTSTART;VALUE=DATE:20260119
DTEND;VALUE=DATE:20260127
DTSTAMP:20260423T021608
CREATED:20250202T152244Z
LAST-MODIFIED:20250202T152244Z
UID:10000836-1768780800-1769471999@riverartsalliance.org
SUMMARY:Frozen River Film Festival Celebrates 20 Years with New Film Series
DESCRIPTION:frff.eventive.org \nThis year the Frozen River Film Festival (FRFF) will be celebrating 20 years of bringing documentary films and filmmakers to Winona. The festival begins Sunday\, February 9\, (You can still get home in time to watch the Super Bowl!) and runs through Sunday\, February 16. This year’s event will feature the World Premiere of FRFF’s self-produced documentary\, Beneath the Ice: The Frozen River Film Festival Story. Learn more.
URL:https://riverartsalliance.org/event/frozen-river-film-festival-celebrates-20-years-with-new-film-series/2026-01-19/
LOCATION:MN
END:VEVENT
BEGIN:VEVENT
DTSTART;TZID=America/Chicago:20260118T180000
DTEND;TZID=America/Chicago:20260118T210000
DTSTAMP:20260423T021608
CREATED:20250822T141537Z
LAST-MODIFIED:20250822T141537Z
UID:10001720-1768759200-1768770000@riverartsalliance.org
SUMMARY:Call to Artists: Between the Bluffs Plein Air
DESCRIPTION:Demonstrations: Sat. Oct 11\ 9 – Noon\nShow: Oct 17\, 18\, 19 \nBetweenthebluffs.com \nColleen Shore is a member of the River Arts Alliance. To learn more about the benefits of membership\, please visit: riverartsalliance.org/membership/.
URL:https://riverartsalliance.org/event/call-to-artists-between-the-bluffs-plein-air/2026-01-18/
LOCATION:MN
ATTACH;FMTTYPE=image/png:https://riverartsalliance.org/wp-content/uploads/2025/08/Between-the-Bluffs-call-to-artists-1-1-1.png
END:VEVENT
BEGIN:VEVENT
DTSTART;TZID=America/Chicago:20260118T143000
DTEND;TZID=America/Chicago:20260118T163000
DTSTAMP:20260423T021608
CREATED:20260115T150053Z
LAST-MODIFIED:20260114T010451Z
UID:10001151-1768746600-1768753800@riverartsalliance.org
SUMMARY:Russian Music Recital at Old Main Cultural Center
DESCRIPTION:Tickets: $10 Adults | $5 School-Age
URL:https://riverartsalliance.org/event/russian-music-recital-at-old-main-cultural-center/
LOCATION:Old Main Cultural Center\, 20869 S College Ave.\, Galesville\, WI\, 54630\, United States
END:VEVENT
BEGIN:VEVENT
DTSTART;VALUE=DATE:20260118
DTEND;VALUE=DATE:20260126
DTSTAMP:20260423T021608
CREATED:20250202T152244Z
LAST-MODIFIED:20250202T152244Z
UID:10000835-1768694400-1769385599@riverartsalliance.org
SUMMARY:Frozen River Film Festival Celebrates 20 Years with New Film Series
DESCRIPTION:frff.eventive.org \nThis year the Frozen River Film Festival (FRFF) will be celebrating 20 years of bringing documentary films and filmmakers to Winona. The festival begins Sunday\, February 9\, (You can still get home in time to watch the Super Bowl!) and runs through Sunday\, February 16. This year’s event will feature the World Premiere of FRFF’s self-produced documentary\, Beneath the Ice: The Frozen River Film Festival Story. Learn more.
URL:https://riverartsalliance.org/event/frozen-river-film-festival-celebrates-20-years-with-new-film-series/2026-01-18/
LOCATION:MN
END:VEVENT
BEGIN:VEVENT
DTSTART;TZID=America/Chicago:20260117T180000
DTEND;TZID=America/Chicago:20260117T210000
DTSTAMP:20260423T021608
CREATED:20250822T141537Z
LAST-MODIFIED:20250822T141537Z
UID:10001719-1768672800-1768683600@riverartsalliance.org
SUMMARY:Call to Artists: Between the Bluffs Plein Air
DESCRIPTION:Demonstrations: Sat. Oct 11\ 9 – Noon\nShow: Oct 17\, 18\, 19 \nBetweenthebluffs.com \nColleen Shore is a member of the River Arts Alliance. To learn more about the benefits of membership\, please visit: riverartsalliance.org/membership/.
URL:https://riverartsalliance.org/event/call-to-artists-between-the-bluffs-plein-air/2026-01-17/
LOCATION:MN
ATTACH;FMTTYPE=image/png:https://riverartsalliance.org/wp-content/uploads/2025/08/Between-the-Bluffs-call-to-artists-1-1-1.png
END:VEVENT
BEGIN:VEVENT
DTSTART;VALUE=DATE:20260117
DTEND;VALUE=DATE:20260125
DTSTAMP:20260423T021608
CREATED:20250202T152244Z
LAST-MODIFIED:20250202T152244Z
UID:10000834-1768608000-1769299199@riverartsalliance.org
SUMMARY:Frozen River Film Festival Celebrates 20 Years with New Film Series
DESCRIPTION:frff.eventive.org \nThis year the Frozen River Film Festival (FRFF) will be celebrating 20 years of bringing documentary films and filmmakers to Winona. The festival begins Sunday\, February 9\, (You can still get home in time to watch the Super Bowl!) and runs through Sunday\, February 16. This year’s event will feature the World Premiere of FRFF’s self-produced documentary\, Beneath the Ice: The Frozen River Film Festival Story. Learn more.
URL:https://riverartsalliance.org/event/frozen-river-film-festival-celebrates-20-years-with-new-film-series/2026-01-17/
LOCATION:MN
END:VEVENT
BEGIN:VEVENT
DTSTART;TZID=America/Chicago:20260116T180000
DTEND;TZID=America/Chicago:20260116T210000
DTSTAMP:20260423T021608
CREATED:20250822T141537Z
LAST-MODIFIED:20250822T141537Z
UID:10001718-1768586400-1768597200@riverartsalliance.org
SUMMARY:Call to Artists: Between the Bluffs Plein Air
DESCRIPTION:Demonstrations: Sat. Oct 11\ 9 – Noon\nShow: Oct 17\, 18\, 19 \nBetweenthebluffs.com \nColleen Shore is a member of the River Arts Alliance. To learn more about the benefits of membership\, please visit: riverartsalliance.org/membership/.
URL:https://riverartsalliance.org/event/call-to-artists-between-the-bluffs-plein-air/2026-01-16/
LOCATION:MN
ATTACH;FMTTYPE=image/png:https://riverartsalliance.org/wp-content/uploads/2025/08/Between-the-Bluffs-call-to-artists-1-1-1.png
END:VEVENT
BEGIN:VEVENT
DTSTART;VALUE=DATE:20260116
DTEND;VALUE=DATE:20260124
DTSTAMP:20260423T021608
CREATED:20250202T152244Z
LAST-MODIFIED:20250202T152244Z
UID:10000833-1768521600-1769212799@riverartsalliance.org
SUMMARY:Frozen River Film Festival Celebrates 20 Years with New Film Series
DESCRIPTION:frff.eventive.org \nThis year the Frozen River Film Festival (FRFF) will be celebrating 20 years of bringing documentary films and filmmakers to Winona. The festival begins Sunday\, February 9\, (You can still get home in time to watch the Super Bowl!) and runs through Sunday\, February 16. This year’s event will feature the World Premiere of FRFF’s self-produced documentary\, Beneath the Ice: The Frozen River Film Festival Story. Learn more.
URL:https://riverartsalliance.org/event/frozen-river-film-festival-celebrates-20-years-with-new-film-series/2026-01-16/
LOCATION:MN
END:VEVENT
BEGIN:VEVENT
DTSTART;TZID=America/Chicago:20260115T180000
DTEND;TZID=America/Chicago:20260115T210000
DTSTAMP:20260423T021608
CREATED:20250822T141537Z
LAST-MODIFIED:20250822T141537Z
UID:10001717-1768500000-1768510800@riverartsalliance.org
SUMMARY:Call to Artists: Between the Bluffs Plein Air
DESCRIPTION:Demonstrations: Sat. Oct 11\ 9 – Noon\nShow: Oct 17\, 18\, 19 \nBetweenthebluffs.com \nColleen Shore is a member of the River Arts Alliance. To learn more about the benefits of membership\, please visit: riverartsalliance.org/membership/.
URL:https://riverartsalliance.org/event/call-to-artists-between-the-bluffs-plein-air/2026-01-15/
LOCATION:MN
ATTACH;FMTTYPE=image/png:https://riverartsalliance.org/wp-content/uploads/2025/08/Between-the-Bluffs-call-to-artists-1-1-1.png
END:VEVENT
BEGIN:VEVENT
DTSTART;VALUE=DATE:20260115
DTEND;VALUE=DATE:20260123
DTSTAMP:20260423T021608
CREATED:20250202T152244Z
LAST-MODIFIED:20250202T152244Z
UID:10000832-1768435200-1769126399@riverartsalliance.org
SUMMARY:Frozen River Film Festival Celebrates 20 Years with New Film Series
DESCRIPTION:frff.eventive.org \nThis year the Frozen River Film Festival (FRFF) will be celebrating 20 years of bringing documentary films and filmmakers to Winona. The festival begins Sunday\, February 9\, (You can still get home in time to watch the Super Bowl!) and runs through Sunday\, February 16. This year’s event will feature the World Premiere of FRFF’s self-produced documentary\, Beneath the Ice: The Frozen River Film Festival Story. Learn more.
URL:https://riverartsalliance.org/event/frozen-river-film-festival-celebrates-20-years-with-new-film-series/2026-01-15/
LOCATION:MN
END:VEVENT
BEGIN:VEVENT
DTSTART;TZID=America/Chicago:20260114T180000
DTEND;TZID=America/Chicago:20260114T210000
DTSTAMP:20260423T021608
CREATED:20250822T141537Z
LAST-MODIFIED:20250822T141537Z
UID:10001716-1768413600-1768424400@riverartsalliance.org
SUMMARY:Call to Artists: Between the Bluffs Plein Air
DESCRIPTION:Demonstrations: Sat. Oct 11\ 9 – Noon\nShow: Oct 17\, 18\, 19 \nBetweenthebluffs.com \nColleen Shore is a member of the River Arts Alliance. To learn more about the benefits of membership\, please visit: riverartsalliance.org/membership/.
URL:https://riverartsalliance.org/event/call-to-artists-between-the-bluffs-plein-air/2026-01-14/
LOCATION:MN
ATTACH;FMTTYPE=image/png:https://riverartsalliance.org/wp-content/uploads/2025/08/Between-the-Bluffs-call-to-artists-1-1-1.png
END:VEVENT
BEGIN:VEVENT
DTSTART;TZID=America/Chicago:20260114T173000
DTEND;TZID=America/Chicago:20260114T193000
DTSTAMP:20260423T021608
CREATED:20260109T193417Z
LAST-MODIFIED:20260109T193417Z
UID:10001882-1768411800-1768419000@riverartsalliance.org
SUMMARY:Printmaking Workshop with Preston Lawing at Winona Arts Center
DESCRIPTION:The Winona Art Center continues our Printmaking Series with Preston Lawing. This three-week workshop will introduce participants to the technique of drypoint etching\, covering both the practical aspects of creating prints and the historical context of the medium. Participants will learn how to prepare their acrylic plates\, execute etchings and work safely in a printmaking studio. Participants do not need to have strong drawing skills\, but a willingness to explore different marking choices that should provide lifelong joy of this simple\, but elegant process. Due to the technical information and processes covered\, this course is suited for those who are 18 and up. All materials are provided. Cost is $150 for the 3-day workshop. Register today with Jen at jsbenson50@gmail.com
URL:https://riverartsalliance.org/event/printmaking-workshop-with-preston-lawing-at-winona-arts-center/2026-01-14/
LOCATION:Winona Arts Center\, 228 E 5th St.\, Winona\, MN\, 55987\, United States
END:VEVENT
BEGIN:VEVENT
DTSTART;VALUE=DATE:20260114
DTEND;VALUE=DATE:20260122
DTSTAMP:20260423T021608
CREATED:20250202T152244Z
LAST-MODIFIED:20250202T152244Z
UID:10000831-1768348800-1769039999@riverartsalliance.org
SUMMARY:Frozen River Film Festival Celebrates 20 Years with New Film Series
DESCRIPTION:frff.eventive.org \nThis year the Frozen River Film Festival (FRFF) will be celebrating 20 years of bringing documentary films and filmmakers to Winona. The festival begins Sunday\, February 9\, (You can still get home in time to watch the Super Bowl!) and runs through Sunday\, February 16. This year’s event will feature the World Premiere of FRFF’s self-produced documentary\, Beneath the Ice: The Frozen River Film Festival Story. Learn more.
URL:https://riverartsalliance.org/event/frozen-river-film-festival-celebrates-20-years-with-new-film-series/2026-01-14/
LOCATION:MN
END:VEVENT
BEGIN:VEVENT
DTSTART;TZID=America/Chicago:20260113T180000
DTEND;TZID=America/Chicago:20260113T210000
DTSTAMP:20260423T021608
CREATED:20250822T141537Z
LAST-MODIFIED:20250822T141537Z
UID:10001715-1768327200-1768338000@riverartsalliance.org
SUMMARY:Call to Artists: Between the Bluffs Plein Air
DESCRIPTION:Demonstrations: Sat. Oct 11\ 9 – Noon\nShow: Oct 17\, 18\, 19 \nBetweenthebluffs.com \nColleen Shore is a member of the River Arts Alliance. To learn more about the benefits of membership\, please visit: riverartsalliance.org/membership/.
URL:https://riverartsalliance.org/event/call-to-artists-between-the-bluffs-plein-air/2026-01-13/
LOCATION:MN
ATTACH;FMTTYPE=image/png:https://riverartsalliance.org/wp-content/uploads/2025/08/Between-the-Bluffs-call-to-artists-1-1-1.png
END:VEVENT
BEGIN:VEVENT
DTSTART;TZID=America/Chicago:20260113T173000
DTEND;TZID=America/Chicago:20260113T193000
DTSTAMP:20260423T021608
CREATED:20260109T191729Z
LAST-MODIFIED:20260109T193203Z
UID:10001879-1768325400-1768332600@riverartsalliance.org
SUMMARY:Watercolor Classes at Winona Arts Center
DESCRIPTION:The Winona Arts Center is pleased to welcome Miranda Lomeli-O’Reilly who will teach beginner Watercolor Classes. Each class has a different lesson. The January 13 class “Foundations” is required for new students. The January 20 class will cover Color mixing & Reinforcement. Jan 27 is Application & Evergreens Workshop. The cost of the 3-session class is $45 for members & $50/non members. There is a one-time $20 materials fee. If you have questions or want to register contact Jen at jsbenson50@gmail.com
URL:https://riverartsalliance.org/event/watercolor-classes-at-winona-arts-center/2026-01-13/
LOCATION:Winona Arts Center\, 228 E 5th St.\, Winona\, MN\, 55987\, United States
END:VEVENT
BEGIN:VEVENT
DTSTART;VALUE=DATE:20260113
DTEND;VALUE=DATE:20260121
DTSTAMP:20260423T021608
CREATED:20250202T152244Z
LAST-MODIFIED:20250202T152244Z
UID:10000830-1768262400-1768953599@riverartsalliance.org
SUMMARY:Frozen River Film Festival Celebrates 20 Years with New Film Series
DESCRIPTION:frff.eventive.org \nThis year the Frozen River Film Festival (FRFF) will be celebrating 20 years of bringing documentary films and filmmakers to Winona. The festival begins Sunday\, February 9\, (You can still get home in time to watch the Super Bowl!) and runs through Sunday\, February 16. This year’s event will feature the World Premiere of FRFF’s self-produced documentary\, Beneath the Ice: The Frozen River Film Festival Story. Learn more.
URL:https://riverartsalliance.org/event/frozen-river-film-festival-celebrates-20-years-with-new-film-series/2026-01-13/
LOCATION:MN
END:VEVENT
BEGIN:VEVENT
DTSTART;TZID=America/Chicago:20260112T180000
DTEND;TZID=America/Chicago:20260112T210000
DTSTAMP:20260423T021608
CREATED:20250822T141537Z
LAST-MODIFIED:20250822T141537Z
UID:10001714-1768240800-1768251600@riverartsalliance.org
SUMMARY:Call to Artists: Between the Bluffs Plein Air
DESCRIPTION:Demonstrations: Sat. Oct 11\ 9 – Noon\nShow: Oct 17\, 18\, 19 \nBetweenthebluffs.com \nColleen Shore is a member of the River Arts Alliance. To learn more about the benefits of membership\, please visit: riverartsalliance.org/membership/.
URL:https://riverartsalliance.org/event/call-to-artists-between-the-bluffs-plein-air/2026-01-12/
LOCATION:MN
ATTACH;FMTTYPE=image/png:https://riverartsalliance.org/wp-content/uploads/2025/08/Between-the-Bluffs-call-to-artists-1-1-1.png
END:VEVENT
BEGIN:VEVENT
DTSTART;VALUE=DATE:20260112
DTEND;VALUE=DATE:20260120
DTSTAMP:20260423T021608
CREATED:20250202T152244Z
LAST-MODIFIED:20250202T152244Z
UID:10000829-1768176000-1768867199@riverartsalliance.org
SUMMARY:Frozen River Film Festival Celebrates 20 Years with New Film Series
DESCRIPTION:frff.eventive.org \nThis year the Frozen River Film Festival (FRFF) will be celebrating 20 years of bringing documentary films and filmmakers to Winona. The festival begins Sunday\, February 9\, (You can still get home in time to watch the Super Bowl!) and runs through Sunday\, February 16. This year’s event will feature the World Premiere of FRFF’s self-produced documentary\, Beneath the Ice: The Frozen River Film Festival Story. Learn more.
URL:https://riverartsalliance.org/event/frozen-river-film-festival-celebrates-20-years-with-new-film-series/2026-01-12/
LOCATION:MN
END:VEVENT
BEGIN:VEVENT
DTSTART;TZID=America/Chicago:20260111T180000
DTEND;TZID=America/Chicago:20260111T210000
DTSTAMP:20260423T021608
CREATED:20250822T141537Z
LAST-MODIFIED:20250822T141537Z
UID:10001713-1768154400-1768165200@riverartsalliance.org
SUMMARY:Call to Artists: Between the Bluffs Plein Air
DESCRIPTION:Demonstrations: Sat. Oct 11\ 9 – Noon\nShow: Oct 17\, 18\, 19 \nBetweenthebluffs.com \nColleen Shore is a member of the River Arts Alliance. To learn more about the benefits of membership\, please visit: riverartsalliance.org/membership/.
URL:https://riverartsalliance.org/event/call-to-artists-between-the-bluffs-plein-air/2026-01-11/
LOCATION:MN
ATTACH;FMTTYPE=image/png:https://riverartsalliance.org/wp-content/uploads/2025/08/Between-the-Bluffs-call-to-artists-1-1-1.png
END:VEVENT
END:VCALENDAR