BEGIN:VCALENDAR
VERSION:2.0
PRODID:-//River Arts Alliance - ECPv6.15.20//NONSGML v1.0//EN
CALSCALE:GREGORIAN
METHOD:PUBLISH
X-WR-CALNAME:River Arts Alliance
X-ORIGINAL-URL:https://riverartsalliance.org
X-WR-CALDESC:Events for River Arts Alliance
REFRESH-INTERVAL;VALUE=DURATION:PT1H
X-Robots-Tag:noindex
X-PUBLISHED-TTL:PT1H
BEGIN:VTIMEZONE
TZID:America/Chicago
BEGIN:DAYLIGHT
TZOFFSETFROM:-0600
TZOFFSETTO:-0500
TZNAME:CDT
DTSTART:20240310T080000
END:DAYLIGHT
BEGIN:STANDARD
TZOFFSETFROM:-0500
TZOFFSETTO:-0600
TZNAME:CST
DTSTART:20241103T070000
END:STANDARD
BEGIN:DAYLIGHT
TZOFFSETFROM:-0600
TZOFFSETTO:-0500
TZNAME:CDT
DTSTART:20250309T080000
END:DAYLIGHT
BEGIN:STANDARD
TZOFFSETFROM:-0500
TZOFFSETTO:-0600
TZNAME:CST
DTSTART:20251102T070000
END:STANDARD
BEGIN:DAYLIGHT
TZOFFSETFROM:-0600
TZOFFSETTO:-0500
TZNAME:CDT
DTSTART:20260308T080000
END:DAYLIGHT
BEGIN:STANDARD
TZOFFSETFROM:-0500
TZOFFSETTO:-0600
TZNAME:CST
DTSTART:20261101T070000
END:STANDARD
END:VTIMEZONE
BEGIN:VEVENT
DTSTART;TZID=America/Chicago:20250626T193000
DTEND;TZID=America/Chicago:20250626T220000
DTSTAMP:20260422T171618
CREATED:20250319T172710Z
LAST-MODIFIED:20250319T173102Z
UID:10001448-1750966200-1750975200@riverartsalliance.org
SUMMARY:Commonweal Theatre Presents The Angel Next Door
DESCRIPTION:Preview Dates\nSaturday\, May 17 | 7:30-9:30 pm\nSunday\, May 18 | 1:30-3:30 pm\nThursday & Friday | May 22\, 23 | 7:30-9:30 pm \nFull Run Dates Listed on RAA Event Page \nCommonweal Theatre Company\n208 Parkway Ave N\, Lanesboro\, MN\ncommonwealtheatre.org \n  \nJoin the Commonweal Theatre Company for Paul Slade Smith’s romantic screwball comedy\, The Angel Next Door. Journey to an opulent Newport mansion in 1948\, where playwrights\, actors\, and a star-struck novelist gather to work on their next Broadway hit! (Never mind the housekeeper who wants them gone.) Learn more.
URL:https://riverartsalliance.org/event/commonweal-theatre-presents-the-angel-next-door/2025-06-26/
LOCATION:Commonweal Theatre\, 208 Parkway Ave. N\, Lanesboro\, MN\, United States
END:VEVENT
BEGIN:VEVENT
DTSTART;VALUE=DATE:20250627
DTEND;VALUE=DATE:20250705
DTSTAMP:20260422T171618
CREATED:20250202T152244Z
LAST-MODIFIED:20250202T152244Z
UID:10000630-1750982400-1751673599@riverartsalliance.org
SUMMARY:Frozen River Film Festival Celebrates 20 Years with New Film Series
DESCRIPTION:frff.eventive.org \nThis year the Frozen River Film Festival (FRFF) will be celebrating 20 years of bringing documentary films and filmmakers to Winona. The festival begins Sunday\, February 9\, (You can still get home in time to watch the Super Bowl!) and runs through Sunday\, February 16. This year’s event will feature the World Premiere of FRFF’s self-produced documentary\, Beneath the Ice: The Frozen River Film Festival Story. Learn more.
URL:https://riverartsalliance.org/event/frozen-river-film-festival-celebrates-20-years-with-new-film-series/2025-06-27/
END:VEVENT
BEGIN:VEVENT
DTSTART;TZID=America/Chicago:20250627T090000
DTEND;TZID=America/Chicago:20250627T160000
DTSTAMP:20260422T171618
CREATED:20250406T143829Z
LAST-MODIFIED:20250406T143829Z
UID:10001532-1751014800-1751040000@riverartsalliance.org
SUMMARY:Nature Sketchbook Workshop with Pam Luer
DESCRIPTION:Fee $250 | Registration Required\nMississippi Mornings Art Studio | 40341 Lamoille Dr \n  \nAttendees will learn different ways to approach their subject by collecting information in a sketchbook. The most important goal in Pam’s workshop is not a destination (i.e.\, a perfect finished drawing or painting)\, but learning to relish the journey you experience by allowing yourself to slow down\, carefully observe and connect with nature. Learn more.
URL:https://riverartsalliance.org/event/nature-sketchbook-workshop-with-pam-luer/2025-06-27/
LOCATION:Mississippi Mornings Art Studio\, 40341 Lamoille Dr.\, Winona\, MN\, 55987\, United States
END:VEVENT
BEGIN:VEVENT
DTSTART;TZID=America/Chicago:20250627T090000
DTEND;TZID=America/Chicago:20250627T160000
DTSTAMP:20260422T171618
CREATED:20250517T124701Z
LAST-MODIFIED:20250517T124701Z
UID:10000985-1751014800-1751040000@riverartsalliance.org
SUMMARY:Nature Sketchbook Workshop with Pam Luer
DESCRIPTION:Friday & Saturday\, June 27-28 | 9 am – 4 pm\nFee $250 | Registration Required\nMississippi Mornings Art Studio | 40341 Lamoille Dr \nAttendees will learn different ways to approach their subject by collecting information in a sketchbook. The most important goal in Pam’s workshop is not a destination\, but learning to relish the journey… Read more.
URL:https://riverartsalliance.org/event/nature-sketchbook-workshop-with-pam-luer-2/2025-06-27/
LOCATION:Mississippi Mornings Art Studio\, 40341 Lamoille Dr.\, Winona\, MN\, 55987\, United States
END:VEVENT
BEGIN:VEVENT
DTSTART;TZID=America/Chicago:20250627T170000
DTEND;TZID=America/Chicago:20250627T190000
DTSTAMP:20260422T171618
CREATED:20250615T154210Z
LAST-MODIFIED:20250615T154210Z
UID:10000994-1751043600-1751050800@riverartsalliance.org
SUMMARY:River Arts Alliance Announces 2025 Members’ Exhibition & Showcase
DESCRIPTION:Opening Reception | Friday | June 27 | 5-7 pm\nExhibit Runs: June 25 – August 17\nBlue Heron Coffeehouse | 162 W 2nd St. \nThe River Arts Alliance 2025 Annual Members’ Exhibition and Showcase\, featuring works by RAA members\, will include an in-person art exhibition at the Blue Heron Coffeehouse and the publication of an online exhibition and showcase. Learn more.
URL:https://riverartsalliance.org/event/river-arts-alliance-announces-2025-members-exhibition-showcase/
LOCATION:Blue Heron Coffeehouse\, 162 W 2nd St\, Winona\, MN\, 55987\, United States
END:VEVENT
BEGIN:VEVENT
DTSTART;TZID=America/Chicago:20250627T190000
DTEND;TZID=America/Chicago:20250627T210000
DTSTAMP:20260422T171618
CREATED:20250622T112611Z
LAST-MODIFIED:20250622T112611Z
UID:10000995-1751050800-1751058000@riverartsalliance.org
SUMMARY:H3O Jazz Trio in Peter’s Biergarten June 27
DESCRIPTION:Friday\, June 27 | 7-9 pm\nPeter’s Biergarten | 54 E 3rd St.\nH3OJazz.com \n  \nH3O Jazz Trio’s popular Unwind Friday series moves outdoors for the summer months. On Friday\, June 27\, from 7 – 9 pm join the trio at Peter’s Biergarten. Learn more.
URL:https://riverartsalliance.org/event/h3o-jazz-trio-in-peters-biergarten-june-27/
LOCATION:Peter’s Biergarten\, 54 E 3rd St.\, Winona\, MN\, 55987\, United States
END:VEVENT
BEGIN:VEVENT
DTSTART;TZID=America/Chicago:20250627T193000
DTEND;TZID=America/Chicago:20250627T213000
DTSTAMP:20260422T171618
CREATED:20250316T142354Z
LAST-MODIFIED:20250318T114059Z
UID:10001378-1751052600-1751059800@riverartsalliance.org
SUMMARY:Commonweal Theatre Presents The Half-Life of Marie Curie
DESCRIPTION:Commonweal Theatre Company | 208 Parkway Ave N\, Lanesboro\, MN\ncommonwealtheatre.org \n  \nDon’t miss this wonderful production of The Half-Life of Marie Curie\, directed by Jaclyn June Johnson and featuring Commonweal ensemble members Stela Burdt and Laurie Roberts. The play is based on a true story that illuminates the indomitable power of friendship between two extraordinary scientists. Learn more.
URL:https://riverartsalliance.org/event/commonweal-theatre-presents-the-half-life-of-marie-curie/2025-06-27/
LOCATION:Commonweal Theatre\, 208 Parkway Ave. N\, Lanesboro\, MN\, United States
END:VEVENT
BEGIN:VEVENT
DTSTART;VALUE=DATE:20250628
DTEND;VALUE=DATE:20250706
DTSTAMP:20260422T171618
CREATED:20250202T152244Z
LAST-MODIFIED:20250202T152244Z
UID:10000631-1751068800-1751759999@riverartsalliance.org
SUMMARY:Frozen River Film Festival Celebrates 20 Years with New Film Series
DESCRIPTION:frff.eventive.org \nThis year the Frozen River Film Festival (FRFF) will be celebrating 20 years of bringing documentary films and filmmakers to Winona. The festival begins Sunday\, February 9\, (You can still get home in time to watch the Super Bowl!) and runs through Sunday\, February 16. This year’s event will feature the World Premiere of FRFF’s self-produced documentary\, Beneath the Ice: The Frozen River Film Festival Story. Learn more.
URL:https://riverartsalliance.org/event/frozen-river-film-festival-celebrates-20-years-with-new-film-series/2025-06-28/
END:VEVENT
BEGIN:VEVENT
DTSTART;TZID=America/Chicago:20250628T090000
DTEND;TZID=America/Chicago:20250628T160000
DTSTAMP:20260422T171618
CREATED:20250406T143829Z
LAST-MODIFIED:20250406T143829Z
UID:10001533-1751101200-1751126400@riverartsalliance.org
SUMMARY:Nature Sketchbook Workshop with Pam Luer
DESCRIPTION:Fee $250 | Registration Required\nMississippi Mornings Art Studio | 40341 Lamoille Dr \n  \nAttendees will learn different ways to approach their subject by collecting information in a sketchbook. The most important goal in Pam’s workshop is not a destination (i.e.\, a perfect finished drawing or painting)\, but learning to relish the journey you experience by allowing yourself to slow down\, carefully observe and connect with nature. Learn more.
URL:https://riverartsalliance.org/event/nature-sketchbook-workshop-with-pam-luer/2025-06-28/
LOCATION:Mississippi Mornings Art Studio\, 40341 Lamoille Dr.\, Winona\, MN\, 55987\, United States
END:VEVENT
BEGIN:VEVENT
DTSTART;TZID=America/Chicago:20250628T090000
DTEND;TZID=America/Chicago:20250628T160000
DTSTAMP:20260422T171618
CREATED:20250517T124701Z
LAST-MODIFIED:20250517T124701Z
UID:10000986-1751101200-1751126400@riverartsalliance.org
SUMMARY:Nature Sketchbook Workshop with Pam Luer
DESCRIPTION:Friday & Saturday\, June 27-28 | 9 am – 4 pm\nFee $250 | Registration Required\nMississippi Mornings Art Studio | 40341 Lamoille Dr \nAttendees will learn different ways to approach their subject by collecting information in a sketchbook. The most important goal in Pam’s workshop is not a destination\, but learning to relish the journey… Read more.
URL:https://riverartsalliance.org/event/nature-sketchbook-workshop-with-pam-luer-2/2025-06-28/
LOCATION:Mississippi Mornings Art Studio\, 40341 Lamoille Dr.\, Winona\, MN\, 55987\, United States
END:VEVENT
BEGIN:VEVENT
DTSTART;TZID=America/Chicago:20250628T133000
DTEND;TZID=America/Chicago:20250628T153000
DTSTAMP:20260422T171618
CREATED:20250316T142354Z
LAST-MODIFIED:20250318T114059Z
UID:10001379-1751117400-1751124600@riverartsalliance.org
SUMMARY:Commonweal Theatre Presents The Half-Life of Marie Curie
DESCRIPTION:Commonweal Theatre Company | 208 Parkway Ave N\, Lanesboro\, MN\ncommonwealtheatre.org \n  \nDon’t miss this wonderful production of The Half-Life of Marie Curie\, directed by Jaclyn June Johnson and featuring Commonweal ensemble members Stela Burdt and Laurie Roberts. The play is based on a true story that illuminates the indomitable power of friendship between two extraordinary scientists. Learn more.
URL:https://riverartsalliance.org/event/commonweal-theatre-presents-the-half-life-of-marie-curie/2025-06-28/
LOCATION:Commonweal Theatre\, 208 Parkway Ave. N\, Lanesboro\, MN\, United States
END:VEVENT
BEGIN:VEVENT
DTSTART;TZID=America/Chicago:20250628T193000
DTEND;TZID=America/Chicago:20250628T220000
DTSTAMP:20260422T171618
CREATED:20250319T172710Z
LAST-MODIFIED:20250319T173102Z
UID:10001449-1751139000-1751148000@riverartsalliance.org
SUMMARY:Commonweal Theatre Presents The Angel Next Door
DESCRIPTION:Preview Dates\nSaturday\, May 17 | 7:30-9:30 pm\nSunday\, May 18 | 1:30-3:30 pm\nThursday & Friday | May 22\, 23 | 7:30-9:30 pm \nFull Run Dates Listed on RAA Event Page \nCommonweal Theatre Company\n208 Parkway Ave N\, Lanesboro\, MN\ncommonwealtheatre.org \n  \nJoin the Commonweal Theatre Company for Paul Slade Smith’s romantic screwball comedy\, The Angel Next Door. Journey to an opulent Newport mansion in 1948\, where playwrights\, actors\, and a star-struck novelist gather to work on their next Broadway hit! (Never mind the housekeeper who wants them gone.) Learn more.
URL:https://riverartsalliance.org/event/commonweal-theatre-presents-the-angel-next-door/2025-06-28/
LOCATION:Commonweal Theatre\, 208 Parkway Ave. N\, Lanesboro\, MN\, United States
END:VEVENT
BEGIN:VEVENT
DTSTART;VALUE=DATE:20250629
DTEND;VALUE=DATE:20250630
DTSTAMP:20260422T171618
CREATED:20250602T112504Z
LAST-MODIFIED:20250602T112504Z
UID:10001585-1751155200-1751241599@riverartsalliance.org
SUMMARY:Creative Winona Commission Seeks Public's Input on New Name for Masonic Temple
DESCRIPTION:Deadline for Submissions June 29 \nThe Creative Winona Commission\, its Masonic Subcommittee\, and the Great River Shakespeare Festival (GRSF) are seeking name nominations for the Masonic Temple facility to better reflect its new purpose as a community arts\, culture\, and recreation center. Learn more.
URL:https://riverartsalliance.org/event/creative-winona-commission-seeks-publics-input-on-new-name-for-masonic-temple/
END:VEVENT
BEGIN:VEVENT
DTSTART;VALUE=DATE:20250629
DTEND;VALUE=DATE:20250707
DTSTAMP:20260422T171618
CREATED:20250202T152244Z
LAST-MODIFIED:20250202T152244Z
UID:10000632-1751155200-1751846399@riverartsalliance.org
SUMMARY:Frozen River Film Festival Celebrates 20 Years with New Film Series
DESCRIPTION:frff.eventive.org \nThis year the Frozen River Film Festival (FRFF) will be celebrating 20 years of bringing documentary films and filmmakers to Winona. The festival begins Sunday\, February 9\, (You can still get home in time to watch the Super Bowl!) and runs through Sunday\, February 16. This year’s event will feature the World Premiere of FRFF’s self-produced documentary\, Beneath the Ice: The Frozen River Film Festival Story. Learn more.
URL:https://riverartsalliance.org/event/frozen-river-film-festival-celebrates-20-years-with-new-film-series/2025-06-29/
END:VEVENT
BEGIN:VEVENT
DTSTART;TZID=America/Chicago:20250629T133000
DTEND;TZID=America/Chicago:20250629T160000
DTSTAMP:20260422T171618
CREATED:20250319T172710Z
LAST-MODIFIED:20250319T173102Z
UID:10001450-1751203800-1751212800@riverartsalliance.org
SUMMARY:Commonweal Theatre Presents The Angel Next Door
DESCRIPTION:Preview Dates\nSaturday\, May 17 | 7:30-9:30 pm\nSunday\, May 18 | 1:30-3:30 pm\nThursday & Friday | May 22\, 23 | 7:30-9:30 pm \nFull Run Dates Listed on RAA Event Page \nCommonweal Theatre Company\n208 Parkway Ave N\, Lanesboro\, MN\ncommonwealtheatre.org \n  \nJoin the Commonweal Theatre Company for Paul Slade Smith’s romantic screwball comedy\, The Angel Next Door. Journey to an opulent Newport mansion in 1948\, where playwrights\, actors\, and a star-struck novelist gather to work on their next Broadway hit! (Never mind the housekeeper who wants them gone.) Learn more.
URL:https://riverartsalliance.org/event/commonweal-theatre-presents-the-angel-next-door/2025-06-29/
LOCATION:Commonweal Theatre\, 208 Parkway Ave. N\, Lanesboro\, MN\, United States
END:VEVENT
BEGIN:VEVENT
DTSTART;VALUE=DATE:20250630
DTEND;VALUE=DATE:20250708
DTSTAMP:20260422T171618
CREATED:20250202T152244Z
LAST-MODIFIED:20250202T152244Z
UID:10000633-1751241600-1751932799@riverartsalliance.org
SUMMARY:Frozen River Film Festival Celebrates 20 Years with New Film Series
DESCRIPTION:frff.eventive.org \nThis year the Frozen River Film Festival (FRFF) will be celebrating 20 years of bringing documentary films and filmmakers to Winona. The festival begins Sunday\, February 9\, (You can still get home in time to watch the Super Bowl!) and runs through Sunday\, February 16. This year’s event will feature the World Premiere of FRFF’s self-produced documentary\, Beneath the Ice: The Frozen River Film Festival Story. Learn more.
URL:https://riverartsalliance.org/event/frozen-river-film-festival-celebrates-20-years-with-new-film-series/2025-06-30/
END:VEVENT
BEGIN:VEVENT
DTSTART;TZID=America/Chicago:20250630T193000
DTEND;TZID=America/Chicago:20250630T213000
DTSTAMP:20260422T171618
CREATED:20250316T142354Z
LAST-MODIFIED:20250318T114059Z
UID:10001380-1751311800-1751319000@riverartsalliance.org
SUMMARY:Commonweal Theatre Presents The Half-Life of Marie Curie
DESCRIPTION:Commonweal Theatre Company | 208 Parkway Ave N\, Lanesboro\, MN\ncommonwealtheatre.org \n  \nDon’t miss this wonderful production of The Half-Life of Marie Curie\, directed by Jaclyn June Johnson and featuring Commonweal ensemble members Stela Burdt and Laurie Roberts. The play is based on a true story that illuminates the indomitable power of friendship between two extraordinary scientists. Learn more.
URL:https://riverartsalliance.org/event/commonweal-theatre-presents-the-half-life-of-marie-curie/2025-06-30/
LOCATION:Commonweal Theatre\, 208 Parkway Ave. N\, Lanesboro\, MN\, United States
END:VEVENT
BEGIN:VEVENT
DTSTART;VALUE=DATE:20250701
DTEND;VALUE=DATE:20250709
DTSTAMP:20260422T171618
CREATED:20250202T152244Z
LAST-MODIFIED:20250202T152244Z
UID:10000634-1751328000-1752019199@riverartsalliance.org
SUMMARY:Frozen River Film Festival Celebrates 20 Years with New Film Series
DESCRIPTION:frff.eventive.org \nThis year the Frozen River Film Festival (FRFF) will be celebrating 20 years of bringing documentary films and filmmakers to Winona. The festival begins Sunday\, February 9\, (You can still get home in time to watch the Super Bowl!) and runs through Sunday\, February 16. This year’s event will feature the World Premiere of FRFF’s self-produced documentary\, Beneath the Ice: The Frozen River Film Festival Story. Learn more.
URL:https://riverartsalliance.org/event/frozen-river-film-festival-celebrates-20-years-with-new-film-series/2025-07-01/
END:VEVENT
BEGIN:VEVENT
DTSTART;TZID=America/Chicago:20250701T190000
DTEND;TZID=America/Chicago:20250701T200000
DTSTAMP:20260422T171618
CREATED:20250625T131224Z
LAST-MODIFIED:20250625T131224Z
UID:10001010-1751396400-1751400000@riverartsalliance.org
SUMMARY:Laureate Writers’ Series Hosts Book Launch for Poet Jim Johnson
DESCRIPTION:Tuesday\, July 1 | 7pm\nFree to the Public\nBlue Heron Coffeehouse\n162 W 2nd St\nShipwreckt Books \nShipwreckt Books\, of Winona\, has just released Jim Johnson’s Selected Poems\, “A Good Sauna Always Burns Down.” Johnson will be reading from his new book on Tuesday\, July 1st at the Blue Heron Coffeehouse at 7pm. Learn more.
URL:https://riverartsalliance.org/event/laureate-writers-series-hosts-book-launch-for-poet-jim-johnson/
LOCATION:Blue Heron Coffeehouse\, 162 W 2nd St\, Winona\, MN\, 55987\, United States
END:VEVENT
BEGIN:VEVENT
DTSTART;VALUE=DATE:20250702
DTEND;VALUE=DATE:20250710
DTSTAMP:20260422T171618
CREATED:20250202T152244Z
LAST-MODIFIED:20250202T152244Z
UID:10000635-1751414400-1752105599@riverartsalliance.org
SUMMARY:Frozen River Film Festival Celebrates 20 Years with New Film Series
DESCRIPTION:frff.eventive.org \nThis year the Frozen River Film Festival (FRFF) will be celebrating 20 years of bringing documentary films and filmmakers to Winona. The festival begins Sunday\, February 9\, (You can still get home in time to watch the Super Bowl!) and runs through Sunday\, February 16. This year’s event will feature the World Premiere of FRFF’s self-produced documentary\, Beneath the Ice: The Frozen River Film Festival Story. Learn more.
URL:https://riverartsalliance.org/event/frozen-river-film-festival-celebrates-20-years-with-new-film-series/2025-07-02/
END:VEVENT
BEGIN:VEVENT
DTSTART;TZID=America/Chicago:20250702T190000
DTEND;TZID=America/Chicago:20250702T200000
DTSTAMP:20260422T171618
CREATED:20250625T161607Z
LAST-MODIFIED:20250625T161607Z
UID:10001012-1751482800-1751486400@riverartsalliance.org
SUMMARY:Winona Creators Collective Hosts Makerspace Community Zoom Call – Big Reveal
DESCRIPTION:Wednesday\, July 2 | 7-8 pm\nInformational Zoom Call\nWinona Creators Collective \nThis summer is heating up for the makerspace! Come learn about the location\, the memberships\, and the opening plans. You won’t want to miss this update! Learn more.
URL:https://riverartsalliance.org/event/winona-creators-collective-hosts-makerspace-community-zoom-call-big-reveal/
END:VEVENT
BEGIN:VEVENT
DTSTART;VALUE=DATE:20250703
DTEND;VALUE=DATE:20250711
DTSTAMP:20260422T171618
CREATED:20250202T152244Z
LAST-MODIFIED:20250202T152244Z
UID:10000636-1751500800-1752191999@riverartsalliance.org
SUMMARY:Frozen River Film Festival Celebrates 20 Years with New Film Series
DESCRIPTION:frff.eventive.org \nThis year the Frozen River Film Festival (FRFF) will be celebrating 20 years of bringing documentary films and filmmakers to Winona. The festival begins Sunday\, February 9\, (You can still get home in time to watch the Super Bowl!) and runs through Sunday\, February 16. This year’s event will feature the World Premiere of FRFF’s self-produced documentary\, Beneath the Ice: The Frozen River Film Festival Story. Learn more.
URL:https://riverartsalliance.org/event/frozen-river-film-festival-celebrates-20-years-with-new-film-series/2025-07-03/
END:VEVENT
BEGIN:VEVENT
DTSTART;TZID=America/Chicago:20250703T193000
DTEND;TZID=America/Chicago:20250703T213000
DTSTAMP:20260422T171619
CREATED:20250316T142354Z
LAST-MODIFIED:20250318T114059Z
UID:10001381-1751571000-1751578200@riverartsalliance.org
SUMMARY:Commonweal Theatre Presents The Half-Life of Marie Curie
DESCRIPTION:Commonweal Theatre Company | 208 Parkway Ave N\, Lanesboro\, MN\ncommonwealtheatre.org \n  \nDon’t miss this wonderful production of The Half-Life of Marie Curie\, directed by Jaclyn June Johnson and featuring Commonweal ensemble members Stela Burdt and Laurie Roberts. The play is based on a true story that illuminates the indomitable power of friendship between two extraordinary scientists. Learn more.
URL:https://riverartsalliance.org/event/commonweal-theatre-presents-the-half-life-of-marie-curie/2025-07-03/
LOCATION:Commonweal Theatre\, 208 Parkway Ave. N\, Lanesboro\, MN\, United States
END:VEVENT
BEGIN:VEVENT
DTSTART;VALUE=DATE:20250704
DTEND;VALUE=DATE:20250712
DTSTAMP:20260422T171619
CREATED:20250202T152244Z
LAST-MODIFIED:20250202T152244Z
UID:10000637-1751587200-1752278399@riverartsalliance.org
SUMMARY:Frozen River Film Festival Celebrates 20 Years with New Film Series
DESCRIPTION:frff.eventive.org \nThis year the Frozen River Film Festival (FRFF) will be celebrating 20 years of bringing documentary films and filmmakers to Winona. The festival begins Sunday\, February 9\, (You can still get home in time to watch the Super Bowl!) and runs through Sunday\, February 16. This year’s event will feature the World Premiere of FRFF’s self-produced documentary\, Beneath the Ice: The Frozen River Film Festival Story. Learn more.
URL:https://riverartsalliance.org/event/frozen-river-film-festival-celebrates-20-years-with-new-film-series/2025-07-04/
END:VEVENT
BEGIN:VEVENT
DTSTART;TZID=America/Chicago:20250704T120000
DTEND;TZID=America/Chicago:20250704T150000
DTSTAMP:20260422T171619
CREATED:20250623T121919Z
LAST-MODIFIED:20250623T121919Z
UID:10001005-1751630400-1751641200@riverartsalliance.org
SUMMARY:Chill with Will During Great River Shakespeare Festival
DESCRIPTION:Fridays\, July 4\, 11\, 18\, 25\nWorkshops Begin at Noon\nMatinees Begin at 1 pm\nFREE: Registration Required\nDuFrense Performing Arts Center (WSU campus) | 450 Johnson St\nGreat River Shakespeare Festival \nEnroll in our FREE workshop for students ages 11-18 prior to each Friday afternoon performance. \nEvery Friday in July\, students may participate in a free theater workshop at noon and receive a free ticket to the 1:00 matinee (Comedy of Errors July 4 & 18 and Romeo & Juliet on July 11 & 25). Learn more.
URL:https://riverartsalliance.org/event/chill-with-will-during-great-river-shakespeare-festival/2025-07-04/
LOCATION:WSU DuFresne Performing Arts Center\, 450 Johnson St.\, Winona\, MN\, 55987\, United States
END:VEVENT
BEGIN:VEVENT
DTSTART;TZID=America/Chicago:20250704T193000
DTEND;TZID=America/Chicago:20250704T213000
DTSTAMP:20260422T171619
CREATED:20250316T142354Z
LAST-MODIFIED:20250318T114059Z
UID:10001382-1751657400-1751664600@riverartsalliance.org
SUMMARY:Commonweal Theatre Presents The Half-Life of Marie Curie
DESCRIPTION:Commonweal Theatre Company | 208 Parkway Ave N\, Lanesboro\, MN\ncommonwealtheatre.org \n  \nDon’t miss this wonderful production of The Half-Life of Marie Curie\, directed by Jaclyn June Johnson and featuring Commonweal ensemble members Stela Burdt and Laurie Roberts. The play is based on a true story that illuminates the indomitable power of friendship between two extraordinary scientists. Learn more.
URL:https://riverartsalliance.org/event/commonweal-theatre-presents-the-half-life-of-marie-curie/2025-07-04/
LOCATION:Commonweal Theatre\, 208 Parkway Ave. N\, Lanesboro\, MN\, United States
END:VEVENT
BEGIN:VEVENT
DTSTART;VALUE=DATE:20250705
DTEND;VALUE=DATE:20250713
DTSTAMP:20260422T171619
CREATED:20250202T152244Z
LAST-MODIFIED:20250202T152244Z
UID:10000638-1751673600-1752364799@riverartsalliance.org
SUMMARY:Frozen River Film Festival Celebrates 20 Years with New Film Series
DESCRIPTION:frff.eventive.org \nThis year the Frozen River Film Festival (FRFF) will be celebrating 20 years of bringing documentary films and filmmakers to Winona. The festival begins Sunday\, February 9\, (You can still get home in time to watch the Super Bowl!) and runs through Sunday\, February 16. This year’s event will feature the World Premiere of FRFF’s self-produced documentary\, Beneath the Ice: The Frozen River Film Festival Story. Learn more.
URL:https://riverartsalliance.org/event/frozen-river-film-festival-celebrates-20-years-with-new-film-series/2025-07-05/
END:VEVENT
BEGIN:VEVENT
DTSTART;VALUE=DATE:20250705
DTEND;VALUE=DATE:20251101
DTSTAMP:20260422T171619
CREATED:20250720T125611Z
LAST-MODIFIED:20250720T125611Z
UID:10001603-1751673600-1761955199@riverartsalliance.org
SUMMARY:Art on the Fly- Schwaba Drama Exhibit
DESCRIPTION:Now through Oct 31\nLa Crosse Regional Airport\n2850 Airport Rd | La Crosse\, WI\nJamie Schwaba \nRiver Arts Alliance Member\, Jamie Schwaba of Schwaba Drama Art has over 30 pieces on exhibit at the La Crosse Regional Airport in La Crosse\, WI as a part of the Art on the Fly program. Learn more. \n  \n 
URL:https://riverartsalliance.org/event/art-on-the-fly-schwaba-drama-exhibit/
LOCATION:la crosse regional airport\, 2850 Airport Rd\, La Crosse\, WI\, 54603\, United States
END:VEVENT
BEGIN:VEVENT
DTSTART;TZID=America/Chicago:20250705T133000
DTEND;TZID=America/Chicago:20250705T153000
DTSTAMP:20260422T171619
CREATED:20250316T142354Z
LAST-MODIFIED:20250318T114059Z
UID:10001383-1751722200-1751729400@riverartsalliance.org
SUMMARY:Commonweal Theatre Presents The Half-Life of Marie Curie
DESCRIPTION:Commonweal Theatre Company | 208 Parkway Ave N\, Lanesboro\, MN\ncommonwealtheatre.org \n  \nDon’t miss this wonderful production of The Half-Life of Marie Curie\, directed by Jaclyn June Johnson and featuring Commonweal ensemble members Stela Burdt and Laurie Roberts. The play is based on a true story that illuminates the indomitable power of friendship between two extraordinary scientists. Learn more.
URL:https://riverartsalliance.org/event/commonweal-theatre-presents-the-half-life-of-marie-curie/2025-07-05/
LOCATION:Commonweal Theatre\, 208 Parkway Ave. N\, Lanesboro\, MN\, United States
END:VEVENT
BEGIN:VEVENT
DTSTART;TZID=America/Chicago:20250705T193000
DTEND;TZID=America/Chicago:20250705T220000
DTSTAMP:20260422T171619
CREATED:20250319T172710Z
LAST-MODIFIED:20250319T173102Z
UID:10001451-1751743800-1751752800@riverartsalliance.org
SUMMARY:Commonweal Theatre Presents The Angel Next Door
DESCRIPTION:Preview Dates\nSaturday\, May 17 | 7:30-9:30 pm\nSunday\, May 18 | 1:30-3:30 pm\nThursday & Friday | May 22\, 23 | 7:30-9:30 pm \nFull Run Dates Listed on RAA Event Page \nCommonweal Theatre Company\n208 Parkway Ave N\, Lanesboro\, MN\ncommonwealtheatre.org \n  \nJoin the Commonweal Theatre Company for Paul Slade Smith’s romantic screwball comedy\, The Angel Next Door. Journey to an opulent Newport mansion in 1948\, where playwrights\, actors\, and a star-struck novelist gather to work on their next Broadway hit! (Never mind the housekeeper who wants them gone.) Learn more.
URL:https://riverartsalliance.org/event/commonweal-theatre-presents-the-angel-next-door/2025-07-05/
LOCATION:Commonweal Theatre\, 208 Parkway Ave. N\, Lanesboro\, MN\, United States
END:VEVENT
END:VCALENDAR