BEGIN:VCALENDAR
VERSION:2.0
PRODID:-//River Arts Alliance - ECPv6.15.20//NONSGML v1.0//EN
CALSCALE:GREGORIAN
METHOD:PUBLISH
X-ORIGINAL-URL:https://riverartsalliance.org
X-WR-CALDESC:Events for River Arts Alliance
REFRESH-INTERVAL;VALUE=DURATION:PT1H
X-Robots-Tag:noindex
X-PUBLISHED-TTL:PT1H
BEGIN:VTIMEZONE
TZID:America/Chicago
BEGIN:DAYLIGHT
TZOFFSETFROM:-0600
TZOFFSETTO:-0500
TZNAME:CDT
DTSTART:20240310T080000
END:DAYLIGHT
BEGIN:STANDARD
TZOFFSETFROM:-0500
TZOFFSETTO:-0600
TZNAME:CST
DTSTART:20241103T070000
END:STANDARD
BEGIN:DAYLIGHT
TZOFFSETFROM:-0600
TZOFFSETTO:-0500
TZNAME:CDT
DTSTART:20250309T080000
END:DAYLIGHT
BEGIN:STANDARD
TZOFFSETFROM:-0500
TZOFFSETTO:-0600
TZNAME:CST
DTSTART:20251102T070000
END:STANDARD
BEGIN:DAYLIGHT
TZOFFSETFROM:-0600
TZOFFSETTO:-0500
TZNAME:CDT
DTSTART:20260308T080000
END:DAYLIGHT
BEGIN:STANDARD
TZOFFSETFROM:-0500
TZOFFSETTO:-0600
TZNAME:CST
DTSTART:20261101T070000
END:STANDARD
END:VTIMEZONE
BEGIN:VEVENT
DTSTART;VALUE=DATE:20250725
DTEND;VALUE=DATE:20250802
DTSTAMP:20260423T020405
CREATED:20250202T152244Z
LAST-MODIFIED:20250202T152244Z
UID:10000658-1753401600-1754092799@riverartsalliance.org
SUMMARY:Frozen River Film Festival Celebrates 20 Years with New Film Series
DESCRIPTION:frff.eventive.org \nThis year the Frozen River Film Festival (FRFF) will be celebrating 20 years of bringing documentary films and filmmakers to Winona. The festival begins Sunday\, February 9\, (You can still get home in time to watch the Super Bowl!) and runs through Sunday\, February 16. This year’s event will feature the World Premiere of FRFF’s self-produced documentary\, Beneath the Ice: The Frozen River Film Festival Story. Learn more.
URL:https://riverartsalliance.org/event/frozen-river-film-festival-celebrates-20-years-with-new-film-series/2025-07-25/
END:VEVENT
BEGIN:VEVENT
DTSTART;TZID=America/Chicago:20250725T120000
DTEND;TZID=America/Chicago:20250725T150000
DTSTAMP:20260423T020405
CREATED:20250623T121919Z
LAST-MODIFIED:20250623T121919Z
UID:10001008-1753444800-1753455600@riverartsalliance.org
SUMMARY:Chill with Will During Great River Shakespeare Festival
DESCRIPTION:Fridays\, July 4\, 11\, 18\, 25\nWorkshops Begin at Noon\nMatinees Begin at 1 pm\nFREE: Registration Required\nDuFrense Performing Arts Center (WSU campus) | 450 Johnson St\nGreat River Shakespeare Festival \nEnroll in our FREE workshop for students ages 11-18 prior to each Friday afternoon performance. \nEvery Friday in July\, students may participate in a free theater workshop at noon and receive a free ticket to the 1:00 matinee (Comedy of Errors July 4 & 18 and Romeo & Juliet on July 11 & 25). Learn more.
URL:https://riverartsalliance.org/event/chill-with-will-during-great-river-shakespeare-festival/2025-07-25/
LOCATION:WSU DuFresne Performing Arts Center\, 450 Johnson St.\, Winona\, MN\, 55987\, United States
END:VEVENT
BEGIN:VEVENT
DTSTART;TZID=America/Chicago:20250725T180000
DTEND;TZID=America/Chicago:20250725T210000
DTSTAMP:20260423T020405
CREATED:20250713T161733Z
LAST-MODIFIED:20250713T161733Z
UID:10001598-1753466400-1753477200@riverartsalliance.org
SUMMARY:Frozen River Film Festival Presents Pizza & Movie Night
DESCRIPTION:Friday\, July 25\nPizza Party | 6pm | $5\nRSVP Requested (frff.org)\nWe will have pizza\, watermelon\, beverages and coloring pages!\nEmail Kara at kara@frff.org with your dietary restrictions so we can plan accordingly! \n  \nFilm Screening of Flow | 7 pm\nRated PG – contains scenes of natural disaster and survival tension\n$10 General Admission\n$8 for FRFF Members\nFREE for Students\nYouth must be accompanied by a guardian \nGet Tickets at: frff.org\nLocation: Winona Arts Center | 228 E 5th St.\nFrozen River Film Festival \n  \nJoin us for Flow (2024)\, a stunning animated feature from award-winning Latvian director Gints Zilbalodis (Away). Told entirely without dialogue\, Flow follows a courageous cat whose home is destroyed by a massive flood. Learn more.
URL:https://riverartsalliance.org/event/frozen-river-film-festival-presents-pizza-movie-night/
LOCATION:Winona Arts Center\, 228 E 5th St.\, Winona\, MN\, 55987\, United States
END:VEVENT
BEGIN:VEVENT
DTSTART;TZID=America/Chicago:20250725T193000
DTEND;TZID=America/Chicago:20250725T220000
DTSTAMP:20260423T020405
CREATED:20250319T172710Z
LAST-MODIFIED:20250319T173102Z
UID:10001453-1753471800-1753480800@riverartsalliance.org
SUMMARY:Commonweal Theatre Presents The Angel Next Door
DESCRIPTION:Preview Dates\nSaturday\, May 17 | 7:30-9:30 pm\nSunday\, May 18 | 1:30-3:30 pm\nThursday & Friday | May 22\, 23 | 7:30-9:30 pm \nFull Run Dates Listed on RAA Event Page \nCommonweal Theatre Company\n208 Parkway Ave N\, Lanesboro\, MN\ncommonwealtheatre.org \n  \nJoin the Commonweal Theatre Company for Paul Slade Smith’s romantic screwball comedy\, The Angel Next Door. Journey to an opulent Newport mansion in 1948\, where playwrights\, actors\, and a star-struck novelist gather to work on their next Broadway hit! (Never mind the housekeeper who wants them gone.) Learn more.
URL:https://riverartsalliance.org/event/commonweal-theatre-presents-the-angel-next-door/2025-07-25/
LOCATION:Commonweal Theatre\, 208 Parkway Ave. N\, Lanesboro\, MN\, United States
END:VEVENT
BEGIN:VEVENT
DTSTART;VALUE=DATE:20250726
DTEND;VALUE=DATE:20250803
DTSTAMP:20260423T020405
CREATED:20250202T152244Z
LAST-MODIFIED:20250202T152244Z
UID:10000659-1753488000-1754179199@riverartsalliance.org
SUMMARY:Frozen River Film Festival Celebrates 20 Years with New Film Series
DESCRIPTION:frff.eventive.org \nThis year the Frozen River Film Festival (FRFF) will be celebrating 20 years of bringing documentary films and filmmakers to Winona. The festival begins Sunday\, February 9\, (You can still get home in time to watch the Super Bowl!) and runs through Sunday\, February 16. This year’s event will feature the World Premiere of FRFF’s self-produced documentary\, Beneath the Ice: The Frozen River Film Festival Story. Learn more.
URL:https://riverartsalliance.org/event/frozen-river-film-festival-celebrates-20-years-with-new-film-series/2025-07-26/
END:VEVENT
BEGIN:VEVENT
DTSTART;TZID=America/Chicago:20250726T110000
DTEND;TZID=America/Chicago:20250726T120000
DTSTAMP:20260423T020405
CREATED:20250720T133839Z
LAST-MODIFIED:20250720T133839Z
UID:10001604-1753527600-1753531200@riverartsalliance.org
SUMMARY:Celebrate the 2025 Sonnet Contest – Closing Event
DESCRIPTION:Saturday\, July 26 | 11 am – 12 pm\nOpen to the Public\nWinona County History Center | 160 Johnson St\nsonnetcontest.org \n  \nThe official end to the annual Maria W. Faust Sonnet Contest is the announcement of the winners\, a fun celebration hosted in person and online. The public is invited to attend on Saturday\, July 26th at 11:00 am at the Winona County History Center. Learn more.
URL:https://riverartsalliance.org/event/celebrate-the-2025-sonnet-contest-closing-event/
LOCATION:Winona County History Center\, 160 Johnson St\, Winona\, MN\, 55987\, United States
END:VEVENT
BEGIN:VEVENT
DTSTART;TZID=America/Chicago:20250726T133000
DTEND;TZID=America/Chicago:20250726T160000
DTSTAMP:20260423T020405
CREATED:20250319T172710Z
LAST-MODIFIED:20250319T173102Z
UID:10001454-1753536600-1753545600@riverartsalliance.org
SUMMARY:Commonweal Theatre Presents The Angel Next Door
DESCRIPTION:Preview Dates\nSaturday\, May 17 | 7:30-9:30 pm\nSunday\, May 18 | 1:30-3:30 pm\nThursday & Friday | May 22\, 23 | 7:30-9:30 pm \nFull Run Dates Listed on RAA Event Page \nCommonweal Theatre Company\n208 Parkway Ave N\, Lanesboro\, MN\ncommonwealtheatre.org \n  \nJoin the Commonweal Theatre Company for Paul Slade Smith’s romantic screwball comedy\, The Angel Next Door. Journey to an opulent Newport mansion in 1948\, where playwrights\, actors\, and a star-struck novelist gather to work on their next Broadway hit! (Never mind the housekeeper who wants them gone.) Learn more.
URL:https://riverartsalliance.org/event/commonweal-theatre-presents-the-angel-next-door/2025-07-26/
LOCATION:Commonweal Theatre\, 208 Parkway Ave. N\, Lanesboro\, MN\, United States
END:VEVENT
BEGIN:VEVENT
DTSTART;TZID=America/Chicago:20250726T193000
DTEND;TZID=America/Chicago:20250726T220000
DTSTAMP:20260423T020405
CREATED:20250318T133032Z
LAST-MODIFIED:20250318T133032Z
UID:10001392-1753558200-1753567200@riverartsalliance.org
SUMMARY:Commonweal Theatre Presents Lone Star Spirits
DESCRIPTION:Commonweal Theatre Company\n208 Parkway Ave N\, Lanesboro\, MN\ncommonwealtheatre.org \n  \nJoin the Commonweal Theatre Company for Josh Tobiessen’s small-town comedy\, Lone Star Spirits. A trip home gets wildly out of hand when Marley introduces her fiancé to her estranged father. Learn more.
URL:https://riverartsalliance.org/event/commonweal-theatre-presents-lone-star-spirits/2025-07-26/
END:VEVENT
BEGIN:VEVENT
DTSTART;VALUE=DATE:20250727
DTEND;VALUE=DATE:20250804
DTSTAMP:20260423T020405
CREATED:20250202T152244Z
LAST-MODIFIED:20250202T152244Z
UID:10000660-1753574400-1754265599@riverartsalliance.org
SUMMARY:Frozen River Film Festival Celebrates 20 Years with New Film Series
DESCRIPTION:frff.eventive.org \nThis year the Frozen River Film Festival (FRFF) will be celebrating 20 years of bringing documentary films and filmmakers to Winona. The festival begins Sunday\, February 9\, (You can still get home in time to watch the Super Bowl!) and runs through Sunday\, February 16. This year’s event will feature the World Premiere of FRFF’s self-produced documentary\, Beneath the Ice: The Frozen River Film Festival Story. Learn more.
URL:https://riverartsalliance.org/event/frozen-river-film-festival-celebrates-20-years-with-new-film-series/2025-07-27/
END:VEVENT
BEGIN:VEVENT
DTSTART;TZID=America/Chicago:20250727T133000
DTEND;TZID=America/Chicago:20250727T160000
DTSTAMP:20260423T020405
CREATED:20250318T133032Z
LAST-MODIFIED:20250318T133032Z
UID:10001393-1753623000-1753632000@riverartsalliance.org
SUMMARY:Commonweal Theatre Presents Lone Star Spirits
DESCRIPTION:Commonweal Theatre Company\n208 Parkway Ave N\, Lanesboro\, MN\ncommonwealtheatre.org \n  \nJoin the Commonweal Theatre Company for Josh Tobiessen’s small-town comedy\, Lone Star Spirits. A trip home gets wildly out of hand when Marley introduces her fiancé to her estranged father. Learn more.
URL:https://riverartsalliance.org/event/commonweal-theatre-presents-lone-star-spirits/2025-07-27/
END:VEVENT
BEGIN:VEVENT
DTSTART;VALUE=DATE:20250728
DTEND;VALUE=DATE:20250805
DTSTAMP:20260423T020405
CREATED:20250202T152244Z
LAST-MODIFIED:20250202T152244Z
UID:10000661-1753660800-1754351999@riverartsalliance.org
SUMMARY:Frozen River Film Festival Celebrates 20 Years with New Film Series
DESCRIPTION:frff.eventive.org \nThis year the Frozen River Film Festival (FRFF) will be celebrating 20 years of bringing documentary films and filmmakers to Winona. The festival begins Sunday\, February 9\, (You can still get home in time to watch the Super Bowl!) and runs through Sunday\, February 16. This year’s event will feature the World Premiere of FRFF’s self-produced documentary\, Beneath the Ice: The Frozen River Film Festival Story. Learn more.
URL:https://riverartsalliance.org/event/frozen-river-film-festival-celebrates-20-years-with-new-film-series/2025-07-28/
END:VEVENT
BEGIN:VEVENT
DTSTART;TZID=America/Chicago:20250728T193000
DTEND;TZID=America/Chicago:20250728T220000
DTSTAMP:20260423T020405
CREATED:20250319T172710Z
LAST-MODIFIED:20250319T173102Z
UID:10001455-1753731000-1753740000@riverartsalliance.org
SUMMARY:Commonweal Theatre Presents The Angel Next Door
DESCRIPTION:Preview Dates\nSaturday\, May 17 | 7:30-9:30 pm\nSunday\, May 18 | 1:30-3:30 pm\nThursday & Friday | May 22\, 23 | 7:30-9:30 pm \nFull Run Dates Listed on RAA Event Page \nCommonweal Theatre Company\n208 Parkway Ave N\, Lanesboro\, MN\ncommonwealtheatre.org \n  \nJoin the Commonweal Theatre Company for Paul Slade Smith’s romantic screwball comedy\, The Angel Next Door. Journey to an opulent Newport mansion in 1948\, where playwrights\, actors\, and a star-struck novelist gather to work on their next Broadway hit! (Never mind the housekeeper who wants them gone.) Learn more.
URL:https://riverartsalliance.org/event/commonweal-theatre-presents-the-angel-next-door/2025-07-28/
LOCATION:Commonweal Theatre\, 208 Parkway Ave. N\, Lanesboro\, MN\, United States
END:VEVENT
BEGIN:VEVENT
DTSTART;VALUE=DATE:20250729
DTEND;VALUE=DATE:20250806
DTSTAMP:20260423T020405
CREATED:20250202T152244Z
LAST-MODIFIED:20250202T152244Z
UID:10000662-1753747200-1754438399@riverartsalliance.org
SUMMARY:Frozen River Film Festival Celebrates 20 Years with New Film Series
DESCRIPTION:frff.eventive.org \nThis year the Frozen River Film Festival (FRFF) will be celebrating 20 years of bringing documentary films and filmmakers to Winona. The festival begins Sunday\, February 9\, (You can still get home in time to watch the Super Bowl!) and runs through Sunday\, February 16. This year’s event will feature the World Premiere of FRFF’s self-produced documentary\, Beneath the Ice: The Frozen River Film Festival Story. Learn more.
URL:https://riverartsalliance.org/event/frozen-river-film-festival-celebrates-20-years-with-new-film-series/2025-07-29/
END:VEVENT
BEGIN:VEVENT
DTSTART;VALUE=DATE:20250730
DTEND;VALUE=DATE:20250807
DTSTAMP:20260423T020405
CREATED:20250202T152244Z
LAST-MODIFIED:20250202T152244Z
UID:10000663-1753833600-1754524799@riverartsalliance.org
SUMMARY:Frozen River Film Festival Celebrates 20 Years with New Film Series
DESCRIPTION:frff.eventive.org \nThis year the Frozen River Film Festival (FRFF) will be celebrating 20 years of bringing documentary films and filmmakers to Winona. The festival begins Sunday\, February 9\, (You can still get home in time to watch the Super Bowl!) and runs through Sunday\, February 16. This year’s event will feature the World Premiere of FRFF’s self-produced documentary\, Beneath the Ice: The Frozen River Film Festival Story. Learn more.
URL:https://riverartsalliance.org/event/frozen-river-film-festival-celebrates-20-years-with-new-film-series/2025-07-30/
END:VEVENT
BEGIN:VEVENT
DTSTART;TZID=America/Chicago:20250730T180000
DTEND;TZID=America/Chicago:20250730T200000
DTSTAMP:20260423T020405
CREATED:20250129T141727Z
LAST-MODIFIED:20250129T141727Z
UID:10001323-1753898400-1753905600@riverartsalliance.org
SUMMARY:Jim Reineke and Bob Stuber at Blooming Grounds
DESCRIPTION:Blooming Grounds Coffee House | 50 E 3rd St. \nLocal musicians Jim Reineke and Bob Stuber will be performing during an evening of folk\, blues\, and jazz music at the Blooming Grounds Coffee House. Bob will be showcasing his talents on guitar and mandolin\, while Jim will be playing banjo and mandolin. Learn more.
URL:https://riverartsalliance.org/event/jim-reineke-and-bob-stuber-at-blooming-grounds-2/
LOCATION:Blooming Grounds Coffee House\, 50 E 3rd St.\, Winona\, MN\, 55987\, United States
END:VEVENT
BEGIN:VEVENT
DTSTART;TZID=America/Chicago:20250730T235900
DTEND;TZID=America/Chicago:20250730T235900
DTSTAMP:20260423T020405
CREATED:20250704T220509Z
LAST-MODIFIED:20250704T220509Z
UID:10001592-1753919940-1753919940@riverartsalliance.org
SUMMARY:Jazz Road Tours Grant
DESCRIPTION:Applications due July 30\, 2025 \nA $15\,000 grant to develop tours of jazz music that reach communities across the country\, administered by our partners at South Arts. Learn more. \n 
URL:https://riverartsalliance.org/event/jazz-road-tours-grant/
END:VEVENT
BEGIN:VEVENT
DTSTART;VALUE=DATE:20250731
DTEND;VALUE=DATE:20250808
DTSTAMP:20260423T020405
CREATED:20250202T152244Z
LAST-MODIFIED:20250202T152244Z
UID:10000664-1753920000-1754611199@riverartsalliance.org
SUMMARY:Frozen River Film Festival Celebrates 20 Years with New Film Series
DESCRIPTION:frff.eventive.org \nThis year the Frozen River Film Festival (FRFF) will be celebrating 20 years of bringing documentary films and filmmakers to Winona. The festival begins Sunday\, February 9\, (You can still get home in time to watch the Super Bowl!) and runs through Sunday\, February 16. This year’s event will feature the World Premiere of FRFF’s self-produced documentary\, Beneath the Ice: The Frozen River Film Festival Story. Learn more.
URL:https://riverartsalliance.org/event/frozen-river-film-festival-celebrates-20-years-with-new-film-series/2025-07-31/
END:VEVENT
BEGIN:VEVENT
DTSTART;TZID=America/Chicago:20250731T193000
DTEND;TZID=America/Chicago:20250731T220000
DTSTAMP:20260423T020405
CREATED:20250318T133032Z
LAST-MODIFIED:20250318T133032Z
UID:10001394-1753990200-1753999200@riverartsalliance.org
SUMMARY:Commonweal Theatre Presents Lone Star Spirits
DESCRIPTION:Commonweal Theatre Company\n208 Parkway Ave N\, Lanesboro\, MN\ncommonwealtheatre.org \n  \nJoin the Commonweal Theatre Company for Josh Tobiessen’s small-town comedy\, Lone Star Spirits. A trip home gets wildly out of hand when Marley introduces her fiancé to her estranged father. Learn more.
URL:https://riverartsalliance.org/event/commonweal-theatre-presents-lone-star-spirits/2025-07-31/
END:VEVENT
BEGIN:VEVENT
DTSTART;VALUE=DATE:20250801
DTEND;VALUE=DATE:20250809
DTSTAMP:20260423T020405
CREATED:20250202T152244Z
LAST-MODIFIED:20250202T152244Z
UID:10000665-1754006400-1754697599@riverartsalliance.org
SUMMARY:Frozen River Film Festival Celebrates 20 Years with New Film Series
DESCRIPTION:frff.eventive.org \nThis year the Frozen River Film Festival (FRFF) will be celebrating 20 years of bringing documentary films and filmmakers to Winona. The festival begins Sunday\, February 9\, (You can still get home in time to watch the Super Bowl!) and runs through Sunday\, February 16. This year’s event will feature the World Premiere of FRFF’s self-produced documentary\, Beneath the Ice: The Frozen River Film Festival Story. Learn more.
URL:https://riverartsalliance.org/event/frozen-river-film-festival-celebrates-20-years-with-new-film-series/2025-08-01/
END:VEVENT
BEGIN:VEVENT
DTSTART;TZID=America/Chicago:20250801T180000
DTEND;TZID=America/Chicago:20250801T200000
DTSTAMP:20260423T020405
CREATED:20250706T214102Z
LAST-MODIFIED:20250706T214102Z
UID:10001595-1754071200-1754078400@riverartsalliance.org
SUMMARY:Sugarloaf Community Theatre Summer Musical
DESCRIPTION:Friday\, August 1 | 6 pm\nSaturday & Sunday\, August 2 & 3 | 2pm\nStudents $10 | Adults $12\nCentral Lutheran Church-354 Huff St\nSugarloaf Community Theatre \nSugarloaf Community Theatre presents the new musical\, Queen of the Library. This fun and quirky musical features catchy music and a fast-paced story that is fun for all ages. Learn more.
URL:https://riverartsalliance.org/event/sugarloaf-community-theatre-summer-musical/2025-08-01/
LOCATION:Central Lutheran Church\, 259 W Wabasha St.\, Winona\, MN\, 55987\, United States
END:VEVENT
BEGIN:VEVENT
DTSTART;TZID=America/Chicago:20250801T193000
DTEND;TZID=America/Chicago:20250801T220000
DTSTAMP:20260423T020405
CREATED:20250319T172710Z
LAST-MODIFIED:20250319T173102Z
UID:10001456-1754076600-1754085600@riverartsalliance.org
SUMMARY:Commonweal Theatre Presents The Angel Next Door
DESCRIPTION:Preview Dates\nSaturday\, May 17 | 7:30-9:30 pm\nSunday\, May 18 | 1:30-3:30 pm\nThursday & Friday | May 22\, 23 | 7:30-9:30 pm \nFull Run Dates Listed on RAA Event Page \nCommonweal Theatre Company\n208 Parkway Ave N\, Lanesboro\, MN\ncommonwealtheatre.org \n  \nJoin the Commonweal Theatre Company for Paul Slade Smith’s romantic screwball comedy\, The Angel Next Door. Journey to an opulent Newport mansion in 1948\, where playwrights\, actors\, and a star-struck novelist gather to work on their next Broadway hit! (Never mind the housekeeper who wants them gone.) Learn more.
URL:https://riverartsalliance.org/event/commonweal-theatre-presents-the-angel-next-door/2025-08-01/
LOCATION:Commonweal Theatre\, 208 Parkway Ave. N\, Lanesboro\, MN\, United States
END:VEVENT
BEGIN:VEVENT
DTSTART;VALUE=DATE:20250802
DTEND;VALUE=DATE:20250810
DTSTAMP:20260423T020405
CREATED:20250202T152244Z
LAST-MODIFIED:20250202T152244Z
UID:10000666-1754092800-1754783999@riverartsalliance.org
SUMMARY:Frozen River Film Festival Celebrates 20 Years with New Film Series
DESCRIPTION:frff.eventive.org \nThis year the Frozen River Film Festival (FRFF) will be celebrating 20 years of bringing documentary films and filmmakers to Winona. The festival begins Sunday\, February 9\, (You can still get home in time to watch the Super Bowl!) and runs through Sunday\, February 16. This year’s event will feature the World Premiere of FRFF’s self-produced documentary\, Beneath the Ice: The Frozen River Film Festival Story. Learn more.
URL:https://riverartsalliance.org/event/frozen-river-film-festival-celebrates-20-years-with-new-film-series/2025-08-02/
END:VEVENT
BEGIN:VEVENT
DTSTART;TZID=America/Chicago:20250802T133000
DTEND;TZID=America/Chicago:20250802T160000
DTSTAMP:20260423T020406
CREATED:20250319T172710Z
LAST-MODIFIED:20250319T173102Z
UID:10001457-1754141400-1754150400@riverartsalliance.org
SUMMARY:Commonweal Theatre Presents The Angel Next Door
DESCRIPTION:Preview Dates\nSaturday\, May 17 | 7:30-9:30 pm\nSunday\, May 18 | 1:30-3:30 pm\nThursday & Friday | May 22\, 23 | 7:30-9:30 pm \nFull Run Dates Listed on RAA Event Page \nCommonweal Theatre Company\n208 Parkway Ave N\, Lanesboro\, MN\ncommonwealtheatre.org \n  \nJoin the Commonweal Theatre Company for Paul Slade Smith’s romantic screwball comedy\, The Angel Next Door. Journey to an opulent Newport mansion in 1948\, where playwrights\, actors\, and a star-struck novelist gather to work on their next Broadway hit! (Never mind the housekeeper who wants them gone.) Learn more.
URL:https://riverartsalliance.org/event/commonweal-theatre-presents-the-angel-next-door/2025-08-02/
LOCATION:Commonweal Theatre\, 208 Parkway Ave. N\, Lanesboro\, MN\, United States
END:VEVENT
BEGIN:VEVENT
DTSTART;TZID=America/Chicago:20250802T140000
DTEND;TZID=America/Chicago:20250802T160000
DTSTAMP:20260423T020406
CREATED:20250706T214102Z
LAST-MODIFIED:20250706T214102Z
UID:10001596-1754143200-1754150400@riverartsalliance.org
SUMMARY:Sugarloaf Community Theatre Summer Musical
DESCRIPTION:Friday\, August 1 | 6 pm\nSaturday & Sunday\, August 2 & 3 | 2pm\nStudents $10 | Adults $12\nCentral Lutheran Church-354 Huff St\nSugarloaf Community Theatre \nSugarloaf Community Theatre presents the new musical\, Queen of the Library. This fun and quirky musical features catchy music and a fast-paced story that is fun for all ages. Learn more.
URL:https://riverartsalliance.org/event/sugarloaf-community-theatre-summer-musical/2025-08-02/
LOCATION:Central Lutheran Church\, 259 W Wabasha St.\, Winona\, MN\, 55987\, United States
END:VEVENT
BEGIN:VEVENT
DTSTART;TZID=America/Chicago:20250802T193000
DTEND;TZID=America/Chicago:20250802T220000
DTSTAMP:20260423T020406
CREATED:20250318T133032Z
LAST-MODIFIED:20250318T133032Z
UID:10001395-1754163000-1754172000@riverartsalliance.org
SUMMARY:Commonweal Theatre Presents Lone Star Spirits
DESCRIPTION:Commonweal Theatre Company\n208 Parkway Ave N\, Lanesboro\, MN\ncommonwealtheatre.org \n  \nJoin the Commonweal Theatre Company for Josh Tobiessen’s small-town comedy\, Lone Star Spirits. A trip home gets wildly out of hand when Marley introduces her fiancé to her estranged father. Learn more.
URL:https://riverartsalliance.org/event/commonweal-theatre-presents-lone-star-spirits/2025-08-02/
END:VEVENT
BEGIN:VEVENT
DTSTART;VALUE=DATE:20250803
DTEND;VALUE=DATE:20250811
DTSTAMP:20260423T020406
CREATED:20250202T152244Z
LAST-MODIFIED:20250202T152244Z
UID:10000667-1754179200-1754870399@riverartsalliance.org
SUMMARY:Frozen River Film Festival Celebrates 20 Years with New Film Series
DESCRIPTION:frff.eventive.org \nThis year the Frozen River Film Festival (FRFF) will be celebrating 20 years of bringing documentary films and filmmakers to Winona. The festival begins Sunday\, February 9\, (You can still get home in time to watch the Super Bowl!) and runs through Sunday\, February 16. This year’s event will feature the World Premiere of FRFF’s self-produced documentary\, Beneath the Ice: The Frozen River Film Festival Story. Learn more.
URL:https://riverartsalliance.org/event/frozen-river-film-festival-celebrates-20-years-with-new-film-series/2025-08-03/
END:VEVENT
BEGIN:VEVENT
DTSTART;TZID=America/Chicago:20250803T120000
DTEND;TZID=America/Chicago:20250803T150000
DTSTAMP:20260423T020406
CREATED:20250720T121457Z
LAST-MODIFIED:20250720T121457Z
UID:10001600-1754222400-1754233200@riverartsalliance.org
SUMMARY:A New Museum Makers Class at the History Center: Beginner Embroidery
DESCRIPTION:Sun & Mon\, Aug 3\, 4 | 12-3 pm\n$30 WCHS Members | $40 Public\nBest for ages 12 and up\nWinona County Historical Society\n160 Johnson St.\nwinonahistory.org \n  \nLearn seven common stitches and practice them creating a beautiful floral design. Also use your new sewing skills for creative ways to patch clothing or add custom details to apparel\, bags\, kitchen towels\, and more. Learn more.
URL:https://riverartsalliance.org/event/a-new-museum-makers-class-at-the-history-center-beginner-embroidery/2025-08-03/
LOCATION:Winona County History Center\, 160 Johnson St\, Winona\, MN\, 55987\, United States
END:VEVENT
BEGIN:VEVENT
DTSTART;TZID=America/Chicago:20250803T140000
DTEND;TZID=America/Chicago:20250803T160000
DTSTAMP:20260423T020406
CREATED:20250706T214102Z
LAST-MODIFIED:20250706T214102Z
UID:10001597-1754229600-1754236800@riverartsalliance.org
SUMMARY:Sugarloaf Community Theatre Summer Musical
DESCRIPTION:Friday\, August 1 | 6 pm\nSaturday & Sunday\, August 2 & 3 | 2pm\nStudents $10 | Adults $12\nCentral Lutheran Church-354 Huff St\nSugarloaf Community Theatre \nSugarloaf Community Theatre presents the new musical\, Queen of the Library. This fun and quirky musical features catchy music and a fast-paced story that is fun for all ages. Learn more.
URL:https://riverartsalliance.org/event/sugarloaf-community-theatre-summer-musical/2025-08-03/
LOCATION:Central Lutheran Church\, 259 W Wabasha St.\, Winona\, MN\, 55987\, United States
END:VEVENT
BEGIN:VEVENT
DTSTART;TZID=America/Chicago:20250803T170000
DTEND;TZID=America/Chicago:20250803T190000
DTSTAMP:20260423T020406
CREATED:20250330T225650Z
LAST-MODIFIED:20251203T164645Z
UID:10000955-1754240400-1754247600@riverartsalliance.org
SUMMARY:Gate City Jazz Band Performs First Sunday Each Month
DESCRIPTION:First Sunday of Each Month | 5-7 pm\nWestfield Golf Course | 1460 W 5th St\nNo Cover Charge\nwestfieldgolfclub.com \nThe Gate City Jazz Band is rising from the ashes of the Blackhorse restaurant where they regularly played\, to once again perform in their new location at the Westfield Golf Course restaurant. Performances are the first Sunday of each month\, 5-7 pm for your listening and toe-tapping pleasure. Come enjoy the cuisine and music at the same time. No cover charge. Learn more.
URL:https://riverartsalliance.org/event/gate-city-jazz-band-performs-first-sunday-each-month/2025-08-03/
END:VEVENT
BEGIN:VEVENT
DTSTART;VALUE=DATE:20250804
DTEND;VALUE=DATE:20250812
DTSTAMP:20260423T020406
CREATED:20250202T152244Z
LAST-MODIFIED:20250202T152244Z
UID:10000668-1754265600-1754956799@riverartsalliance.org
SUMMARY:Frozen River Film Festival Celebrates 20 Years with New Film Series
DESCRIPTION:frff.eventive.org \nThis year the Frozen River Film Festival (FRFF) will be celebrating 20 years of bringing documentary films and filmmakers to Winona. The festival begins Sunday\, February 9\, (You can still get home in time to watch the Super Bowl!) and runs through Sunday\, February 16. This year’s event will feature the World Premiere of FRFF’s self-produced documentary\, Beneath the Ice: The Frozen River Film Festival Story. Learn more.
URL:https://riverartsalliance.org/event/frozen-river-film-festival-celebrates-20-years-with-new-film-series/2025-08-04/
END:VEVENT
END:VCALENDAR