BEGIN:VCALENDAR
VERSION:2.0
PRODID:-//River Arts Alliance - ECPv6.15.20//NONSGML v1.0//EN
CALSCALE:GREGORIAN
METHOD:PUBLISH
X-WR-CALNAME:River Arts Alliance
X-ORIGINAL-URL:https://riverartsalliance.org
X-WR-CALDESC:Events for River Arts Alliance
REFRESH-INTERVAL;VALUE=DURATION:PT1H
X-Robots-Tag:noindex
X-PUBLISHED-TTL:PT1H
BEGIN:VTIMEZONE
TZID:America/Chicago
BEGIN:DAYLIGHT
TZOFFSETFROM:-0600
TZOFFSETTO:-0500
TZNAME:CDT
DTSTART:20240310T080000
END:DAYLIGHT
BEGIN:STANDARD
TZOFFSETFROM:-0500
TZOFFSETTO:-0600
TZNAME:CST
DTSTART:20241103T070000
END:STANDARD
BEGIN:DAYLIGHT
TZOFFSETFROM:-0600
TZOFFSETTO:-0500
TZNAME:CDT
DTSTART:20250309T080000
END:DAYLIGHT
BEGIN:STANDARD
TZOFFSETFROM:-0500
TZOFFSETTO:-0600
TZNAME:CST
DTSTART:20251102T070000
END:STANDARD
BEGIN:DAYLIGHT
TZOFFSETFROM:-0600
TZOFFSETTO:-0500
TZNAME:CDT
DTSTART:20260308T080000
END:DAYLIGHT
BEGIN:STANDARD
TZOFFSETFROM:-0500
TZOFFSETTO:-0600
TZNAME:CST
DTSTART:20261101T070000
END:STANDARD
BEGIN:DAYLIGHT
TZOFFSETFROM:-0600
TZOFFSETTO:-0500
TZNAME:CDT
DTSTART:20270314T080000
END:DAYLIGHT
BEGIN:STANDARD
TZOFFSETFROM:-0500
TZOFFSETTO:-0600
TZNAME:CST
DTSTART:20271107T070000
END:STANDARD
END:VTIMEZONE
BEGIN:VEVENT
DTSTART;TZID=America/Chicago:20260102T180000
DTEND;TZID=America/Chicago:20260102T210000
DTSTAMP:20260425T084929
CREATED:20250822T141537Z
LAST-MODIFIED:20250822T141537Z
UID:10001704-1767376800-1767387600@riverartsalliance.org
SUMMARY:Call to Artists: Between the Bluffs Plein Air
DESCRIPTION:Demonstrations: Sat. Oct 11\ 9 – Noon\nShow: Oct 17\, 18\, 19 \nBetweenthebluffs.com \nColleen Shore is a member of the River Arts Alliance. To learn more about the benefits of membership\, please visit: riverartsalliance.org/membership/.
URL:https://riverartsalliance.org/event/call-to-artists-between-the-bluffs-plein-air/2026-01-02/
ATTACH;FMTTYPE=image/png:https://riverartsalliance.org/wp-content/uploads/2025/08/Between-the-Bluffs-call-to-artists-1-1-1.png
END:VEVENT
BEGIN:VEVENT
DTSTART;VALUE=DATE:20260102
DTEND;VALUE=DATE:20260110
DTSTAMP:20260425T084929
CREATED:20250202T152244Z
LAST-MODIFIED:20250202T152244Z
UID:10000819-1767312000-1768003199@riverartsalliance.org
SUMMARY:Frozen River Film Festival Celebrates 20 Years with New Film Series
DESCRIPTION:frff.eventive.org \nThis year the Frozen River Film Festival (FRFF) will be celebrating 20 years of bringing documentary films and filmmakers to Winona. The festival begins Sunday\, February 9\, (You can still get home in time to watch the Super Bowl!) and runs through Sunday\, February 16. This year’s event will feature the World Premiere of FRFF’s self-produced documentary\, Beneath the Ice: The Frozen River Film Festival Story. Learn more.
URL:https://riverartsalliance.org/event/frozen-river-film-festival-celebrates-20-years-with-new-film-series/2026-01-02/
END:VEVENT
BEGIN:VEVENT
DTSTART;TZID=America/Chicago:20260101T180000
DTEND;TZID=America/Chicago:20260101T210000
DTSTAMP:20260425T084929
CREATED:20250822T141537Z
LAST-MODIFIED:20250822T141537Z
UID:10001703-1767290400-1767301200@riverartsalliance.org
SUMMARY:Call to Artists: Between the Bluffs Plein Air
DESCRIPTION:Demonstrations: Sat. Oct 11\ 9 – Noon\nShow: Oct 17\, 18\, 19 \nBetweenthebluffs.com \nColleen Shore is a member of the River Arts Alliance. To learn more about the benefits of membership\, please visit: riverartsalliance.org/membership/.
URL:https://riverartsalliance.org/event/call-to-artists-between-the-bluffs-plein-air/2026-01-01/
ATTACH;FMTTYPE=image/png:https://riverartsalliance.org/wp-content/uploads/2025/08/Between-the-Bluffs-call-to-artists-1-1-1.png
END:VEVENT
BEGIN:VEVENT
DTSTART;VALUE=DATE:20260101
DTEND;VALUE=DATE:20260109
DTSTAMP:20260425T084929
CREATED:20250202T152244Z
LAST-MODIFIED:20250202T152244Z
UID:10000818-1767225600-1767916799@riverartsalliance.org
SUMMARY:Frozen River Film Festival Celebrates 20 Years with New Film Series
DESCRIPTION:frff.eventive.org \nThis year the Frozen River Film Festival (FRFF) will be celebrating 20 years of bringing documentary films and filmmakers to Winona. The festival begins Sunday\, February 9\, (You can still get home in time to watch the Super Bowl!) and runs through Sunday\, February 16. This year’s event will feature the World Premiere of FRFF’s self-produced documentary\, Beneath the Ice: The Frozen River Film Festival Story. Learn more.
URL:https://riverartsalliance.org/event/frozen-river-film-festival-celebrates-20-years-with-new-film-series/2026-01-01/
END:VEVENT
BEGIN:VEVENT
DTSTART;TZID=America/Chicago:20251231T180000
DTEND;TZID=America/Chicago:20251231T210000
DTSTAMP:20260425T084929
CREATED:20250822T141537Z
LAST-MODIFIED:20250822T141537Z
UID:10001702-1767204000-1767214800@riverartsalliance.org
SUMMARY:Call to Artists: Between the Bluffs Plein Air
DESCRIPTION:Demonstrations: Sat. Oct 11\ 9 – Noon\nShow: Oct 17\, 18\, 19 \nBetweenthebluffs.com \nColleen Shore is a member of the River Arts Alliance. To learn more about the benefits of membership\, please visit: riverartsalliance.org/membership/.
URL:https://riverartsalliance.org/event/call-to-artists-between-the-bluffs-plein-air/2025-12-31/
ATTACH;FMTTYPE=image/png:https://riverartsalliance.org/wp-content/uploads/2025/08/Between-the-Bluffs-call-to-artists-1-1-1.png
END:VEVENT
BEGIN:VEVENT
DTSTART;VALUE=DATE:20251231
DTEND;VALUE=DATE:20260108
DTSTAMP:20260425T084929
CREATED:20250202T152244Z
LAST-MODIFIED:20250202T152244Z
UID:10000817-1767139200-1767830399@riverartsalliance.org
SUMMARY:Frozen River Film Festival Celebrates 20 Years with New Film Series
DESCRIPTION:frff.eventive.org \nThis year the Frozen River Film Festival (FRFF) will be celebrating 20 years of bringing documentary films and filmmakers to Winona. The festival begins Sunday\, February 9\, (You can still get home in time to watch the Super Bowl!) and runs through Sunday\, February 16. This year’s event will feature the World Premiere of FRFF’s self-produced documentary\, Beneath the Ice: The Frozen River Film Festival Story. Learn more.
URL:https://riverartsalliance.org/event/frozen-river-film-festival-celebrates-20-years-with-new-film-series/2025-12-31/
END:VEVENT
BEGIN:VEVENT
DTSTART;TZID=America/Chicago:20251230T180000
DTEND;TZID=America/Chicago:20251230T210000
DTSTAMP:20260425T084929
CREATED:20250822T141537Z
LAST-MODIFIED:20250822T141537Z
UID:10001701-1767117600-1767128400@riverartsalliance.org
SUMMARY:Call to Artists: Between the Bluffs Plein Air
DESCRIPTION:Demonstrations: Sat. Oct 11\ 9 – Noon\nShow: Oct 17\, 18\, 19 \nBetweenthebluffs.com \nColleen Shore is a member of the River Arts Alliance. To learn more about the benefits of membership\, please visit: riverartsalliance.org/membership/.
URL:https://riverartsalliance.org/event/call-to-artists-between-the-bluffs-plein-air/2025-12-30/
ATTACH;FMTTYPE=image/png:https://riverartsalliance.org/wp-content/uploads/2025/08/Between-the-Bluffs-call-to-artists-1-1-1.png
END:VEVENT
BEGIN:VEVENT
DTSTART;VALUE=DATE:20251230
DTEND;VALUE=DATE:20260107
DTSTAMP:20260425T084929
CREATED:20250202T152244Z
LAST-MODIFIED:20250202T152244Z
UID:10000816-1767052800-1767743999@riverartsalliance.org
SUMMARY:Frozen River Film Festival Celebrates 20 Years with New Film Series
DESCRIPTION:frff.eventive.org \nThis year the Frozen River Film Festival (FRFF) will be celebrating 20 years of bringing documentary films and filmmakers to Winona. The festival begins Sunday\, February 9\, (You can still get home in time to watch the Super Bowl!) and runs through Sunday\, February 16. This year’s event will feature the World Premiere of FRFF’s self-produced documentary\, Beneath the Ice: The Frozen River Film Festival Story. Learn more.
URL:https://riverartsalliance.org/event/frozen-river-film-festival-celebrates-20-years-with-new-film-series/2025-12-30/
END:VEVENT
BEGIN:VEVENT
DTSTART;TZID=America/Chicago:20251229T180000
DTEND;TZID=America/Chicago:20251229T210000
DTSTAMP:20260425T084929
CREATED:20250822T141537Z
LAST-MODIFIED:20250822T141537Z
UID:10001700-1767031200-1767042000@riverartsalliance.org
SUMMARY:Call to Artists: Between the Bluffs Plein Air
DESCRIPTION:Demonstrations: Sat. Oct 11\ 9 – Noon\nShow: Oct 17\, 18\, 19 \nBetweenthebluffs.com \nColleen Shore is a member of the River Arts Alliance. To learn more about the benefits of membership\, please visit: riverartsalliance.org/membership/.
URL:https://riverartsalliance.org/event/call-to-artists-between-the-bluffs-plein-air/2025-12-29/
ATTACH;FMTTYPE=image/png:https://riverartsalliance.org/wp-content/uploads/2025/08/Between-the-Bluffs-call-to-artists-1-1-1.png
END:VEVENT
BEGIN:VEVENT
DTSTART;VALUE=DATE:20251229
DTEND;VALUE=DATE:20260106
DTSTAMP:20260425T084929
CREATED:20250202T152244Z
LAST-MODIFIED:20250202T152244Z
UID:10000815-1766966400-1767657599@riverartsalliance.org
SUMMARY:Frozen River Film Festival Celebrates 20 Years with New Film Series
DESCRIPTION:frff.eventive.org \nThis year the Frozen River Film Festival (FRFF) will be celebrating 20 years of bringing documentary films and filmmakers to Winona. The festival begins Sunday\, February 9\, (You can still get home in time to watch the Super Bowl!) and runs through Sunday\, February 16. This year’s event will feature the World Premiere of FRFF’s self-produced documentary\, Beneath the Ice: The Frozen River Film Festival Story. Learn more.
URL:https://riverartsalliance.org/event/frozen-river-film-festival-celebrates-20-years-with-new-film-series/2025-12-29/
END:VEVENT
BEGIN:VEVENT
DTSTART;TZID=America/Chicago:20251228T180000
DTEND;TZID=America/Chicago:20251228T210000
DTSTAMP:20260425T084929
CREATED:20250822T141537Z
LAST-MODIFIED:20250822T141537Z
UID:10001699-1766944800-1766955600@riverartsalliance.org
SUMMARY:Call to Artists: Between the Bluffs Plein Air
DESCRIPTION:Demonstrations: Sat. Oct 11\ 9 – Noon\nShow: Oct 17\, 18\, 19 \nBetweenthebluffs.com \nColleen Shore is a member of the River Arts Alliance. To learn more about the benefits of membership\, please visit: riverartsalliance.org/membership/.
URL:https://riverartsalliance.org/event/call-to-artists-between-the-bluffs-plein-air/2025-12-28/
ATTACH;FMTTYPE=image/png:https://riverartsalliance.org/wp-content/uploads/2025/08/Between-the-Bluffs-call-to-artists-1-1-1.png
END:VEVENT
BEGIN:VEVENT
DTSTART;VALUE=DATE:20251228
DTEND;VALUE=DATE:20260105
DTSTAMP:20260425T084929
CREATED:20250202T152244Z
LAST-MODIFIED:20250202T152244Z
UID:10000814-1766880000-1767571199@riverartsalliance.org
SUMMARY:Frozen River Film Festival Celebrates 20 Years with New Film Series
DESCRIPTION:frff.eventive.org \nThis year the Frozen River Film Festival (FRFF) will be celebrating 20 years of bringing documentary films and filmmakers to Winona. The festival begins Sunday\, February 9\, (You can still get home in time to watch the Super Bowl!) and runs through Sunday\, February 16. This year’s event will feature the World Premiere of FRFF’s self-produced documentary\, Beneath the Ice: The Frozen River Film Festival Story. Learn more.
URL:https://riverartsalliance.org/event/frozen-river-film-festival-celebrates-20-years-with-new-film-series/2025-12-28/
END:VEVENT
BEGIN:VEVENT
DTSTART;TZID=America/Chicago:20251227T180000
DTEND;TZID=America/Chicago:20251227T210000
DTSTAMP:20260425T084929
CREATED:20250822T141537Z
LAST-MODIFIED:20250822T141537Z
UID:10001698-1766858400-1766869200@riverartsalliance.org
SUMMARY:Call to Artists: Between the Bluffs Plein Air
DESCRIPTION:Demonstrations: Sat. Oct 11\ 9 – Noon\nShow: Oct 17\, 18\, 19 \nBetweenthebluffs.com \nColleen Shore is a member of the River Arts Alliance. To learn more about the benefits of membership\, please visit: riverartsalliance.org/membership/.
URL:https://riverartsalliance.org/event/call-to-artists-between-the-bluffs-plein-air/2025-12-27/
ATTACH;FMTTYPE=image/png:https://riverartsalliance.org/wp-content/uploads/2025/08/Between-the-Bluffs-call-to-artists-1-1-1.png
END:VEVENT
BEGIN:VEVENT
DTSTART;VALUE=DATE:20251227
DTEND;VALUE=DATE:20260104
DTSTAMP:20260425T084929
CREATED:20250202T152244Z
LAST-MODIFIED:20250202T152244Z
UID:10000813-1766793600-1767484799@riverartsalliance.org
SUMMARY:Frozen River Film Festival Celebrates 20 Years with New Film Series
DESCRIPTION:frff.eventive.org \nThis year the Frozen River Film Festival (FRFF) will be celebrating 20 years of bringing documentary films and filmmakers to Winona. The festival begins Sunday\, February 9\, (You can still get home in time to watch the Super Bowl!) and runs through Sunday\, February 16. This year’s event will feature the World Premiere of FRFF’s self-produced documentary\, Beneath the Ice: The Frozen River Film Festival Story. Learn more.
URL:https://riverartsalliance.org/event/frozen-river-film-festival-celebrates-20-years-with-new-film-series/2025-12-27/
END:VEVENT
BEGIN:VEVENT
DTSTART;TZID=America/Chicago:20251226T180000
DTEND;TZID=America/Chicago:20251226T210000
DTSTAMP:20260425T084929
CREATED:20250822T141537Z
LAST-MODIFIED:20250822T141537Z
UID:10001697-1766772000-1766782800@riverartsalliance.org
SUMMARY:Call to Artists: Between the Bluffs Plein Air
DESCRIPTION:Demonstrations: Sat. Oct 11\ 9 – Noon\nShow: Oct 17\, 18\, 19 \nBetweenthebluffs.com \nColleen Shore is a member of the River Arts Alliance. To learn more about the benefits of membership\, please visit: riverartsalliance.org/membership/.
URL:https://riverartsalliance.org/event/call-to-artists-between-the-bluffs-plein-air/2025-12-26/
ATTACH;FMTTYPE=image/png:https://riverartsalliance.org/wp-content/uploads/2025/08/Between-the-Bluffs-call-to-artists-1-1-1.png
END:VEVENT
BEGIN:VEVENT
DTSTART;VALUE=DATE:20251226
DTEND;VALUE=DATE:20260103
DTSTAMP:20260425T084929
CREATED:20250202T152244Z
LAST-MODIFIED:20250202T152244Z
UID:10000812-1766707200-1767398399@riverartsalliance.org
SUMMARY:Frozen River Film Festival Celebrates 20 Years with New Film Series
DESCRIPTION:frff.eventive.org \nThis year the Frozen River Film Festival (FRFF) will be celebrating 20 years of bringing documentary films and filmmakers to Winona. The festival begins Sunday\, February 9\, (You can still get home in time to watch the Super Bowl!) and runs through Sunday\, February 16. This year’s event will feature the World Premiere of FRFF’s self-produced documentary\, Beneath the Ice: The Frozen River Film Festival Story. Learn more.
URL:https://riverartsalliance.org/event/frozen-river-film-festival-celebrates-20-years-with-new-film-series/2025-12-26/
END:VEVENT
BEGIN:VEVENT
DTSTART;TZID=America/Chicago:20251225T180000
DTEND;TZID=America/Chicago:20251225T210000
DTSTAMP:20260425T084929
CREATED:20250822T141537Z
LAST-MODIFIED:20250822T141537Z
UID:10001696-1766685600-1766696400@riverartsalliance.org
SUMMARY:Call to Artists: Between the Bluffs Plein Air
DESCRIPTION:Demonstrations: Sat. Oct 11\ 9 – Noon\nShow: Oct 17\, 18\, 19 \nBetweenthebluffs.com \nColleen Shore is a member of the River Arts Alliance. To learn more about the benefits of membership\, please visit: riverartsalliance.org/membership/.
URL:https://riverartsalliance.org/event/call-to-artists-between-the-bluffs-plein-air/2025-12-25/
ATTACH;FMTTYPE=image/png:https://riverartsalliance.org/wp-content/uploads/2025/08/Between-the-Bluffs-call-to-artists-1-1-1.png
END:VEVENT
BEGIN:VEVENT
DTSTART;VALUE=DATE:20251225
DTEND;VALUE=DATE:20260102
DTSTAMP:20260425T084929
CREATED:20250202T152244Z
LAST-MODIFIED:20250202T152244Z
UID:10000811-1766620800-1767311999@riverartsalliance.org
SUMMARY:Frozen River Film Festival Celebrates 20 Years with New Film Series
DESCRIPTION:frff.eventive.org \nThis year the Frozen River Film Festival (FRFF) will be celebrating 20 years of bringing documentary films and filmmakers to Winona. The festival begins Sunday\, February 9\, (You can still get home in time to watch the Super Bowl!) and runs through Sunday\, February 16. This year’s event will feature the World Premiere of FRFF’s self-produced documentary\, Beneath the Ice: The Frozen River Film Festival Story. Learn more.
URL:https://riverartsalliance.org/event/frozen-river-film-festival-celebrates-20-years-with-new-film-series/2025-12-25/
END:VEVENT
BEGIN:VEVENT
DTSTART;TZID=America/Chicago:20251224T180000
DTEND;TZID=America/Chicago:20251224T210000
DTSTAMP:20260425T084929
CREATED:20250822T141537Z
LAST-MODIFIED:20250822T141537Z
UID:10001695-1766599200-1766610000@riverartsalliance.org
SUMMARY:Call to Artists: Between the Bluffs Plein Air
DESCRIPTION:Demonstrations: Sat. Oct 11\ 9 – Noon\nShow: Oct 17\, 18\, 19 \nBetweenthebluffs.com \nColleen Shore is a member of the River Arts Alliance. To learn more about the benefits of membership\, please visit: riverartsalliance.org/membership/.
URL:https://riverartsalliance.org/event/call-to-artists-between-the-bluffs-plein-air/2025-12-24/
ATTACH;FMTTYPE=image/png:https://riverartsalliance.org/wp-content/uploads/2025/08/Between-the-Bluffs-call-to-artists-1-1-1.png
END:VEVENT
BEGIN:VEVENT
DTSTART;VALUE=DATE:20251224
DTEND;VALUE=DATE:20260101
DTSTAMP:20260425T084929
CREATED:20250202T152244Z
LAST-MODIFIED:20250202T152244Z
UID:10000810-1766534400-1767225599@riverartsalliance.org
SUMMARY:Frozen River Film Festival Celebrates 20 Years with New Film Series
DESCRIPTION:frff.eventive.org \nThis year the Frozen River Film Festival (FRFF) will be celebrating 20 years of bringing documentary films and filmmakers to Winona. The festival begins Sunday\, February 9\, (You can still get home in time to watch the Super Bowl!) and runs through Sunday\, February 16. This year’s event will feature the World Premiere of FRFF’s self-produced documentary\, Beneath the Ice: The Frozen River Film Festival Story. Learn more.
URL:https://riverartsalliance.org/event/frozen-river-film-festival-celebrates-20-years-with-new-film-series/2025-12-24/
END:VEVENT
BEGIN:VEVENT
DTSTART;TZID=America/Chicago:20251223T180000
DTEND;TZID=America/Chicago:20251223T210000
DTSTAMP:20260425T084929
CREATED:20250822T141537Z
LAST-MODIFIED:20250822T141537Z
UID:10001694-1766512800-1766523600@riverartsalliance.org
SUMMARY:Call to Artists: Between the Bluffs Plein Air
DESCRIPTION:Demonstrations: Sat. Oct 11\ 9 – Noon\nShow: Oct 17\, 18\, 19 \nBetweenthebluffs.com \nColleen Shore is a member of the River Arts Alliance. To learn more about the benefits of membership\, please visit: riverartsalliance.org/membership/.
URL:https://riverartsalliance.org/event/call-to-artists-between-the-bluffs-plein-air/2025-12-23/
ATTACH;FMTTYPE=image/png:https://riverartsalliance.org/wp-content/uploads/2025/08/Between-the-Bluffs-call-to-artists-1-1-1.png
END:VEVENT
BEGIN:VEVENT
DTSTART;VALUE=DATE:20251223
DTEND;VALUE=DATE:20251231
DTSTAMP:20260425T084929
CREATED:20250202T152244Z
LAST-MODIFIED:20250202T152244Z
UID:10000809-1766448000-1767139199@riverartsalliance.org
SUMMARY:Frozen River Film Festival Celebrates 20 Years with New Film Series
DESCRIPTION:frff.eventive.org \nThis year the Frozen River Film Festival (FRFF) will be celebrating 20 years of bringing documentary films and filmmakers to Winona. The festival begins Sunday\, February 9\, (You can still get home in time to watch the Super Bowl!) and runs through Sunday\, February 16. This year’s event will feature the World Premiere of FRFF’s self-produced documentary\, Beneath the Ice: The Frozen River Film Festival Story. Learn more.
URL:https://riverartsalliance.org/event/frozen-river-film-festival-celebrates-20-years-with-new-film-series/2025-12-23/
END:VEVENT
BEGIN:VEVENT
DTSTART;TZID=America/Chicago:20251222T180000
DTEND;TZID=America/Chicago:20251222T210000
DTSTAMP:20260425T084929
CREATED:20250822T141537Z
LAST-MODIFIED:20250822T141537Z
UID:10001693-1766426400-1766437200@riverartsalliance.org
SUMMARY:Call to Artists: Between the Bluffs Plein Air
DESCRIPTION:Demonstrations: Sat. Oct 11\ 9 – Noon\nShow: Oct 17\, 18\, 19 \nBetweenthebluffs.com \nColleen Shore is a member of the River Arts Alliance. To learn more about the benefits of membership\, please visit: riverartsalliance.org/membership/.
URL:https://riverartsalliance.org/event/call-to-artists-between-the-bluffs-plein-air/2025-12-22/
ATTACH;FMTTYPE=image/png:https://riverartsalliance.org/wp-content/uploads/2025/08/Between-the-Bluffs-call-to-artists-1-1-1.png
END:VEVENT
BEGIN:VEVENT
DTSTART;VALUE=DATE:20251222
DTEND;VALUE=DATE:20251230
DTSTAMP:20260425T084929
CREATED:20250202T152244Z
LAST-MODIFIED:20250202T152244Z
UID:10000808-1766361600-1767052799@riverartsalliance.org
SUMMARY:Frozen River Film Festival Celebrates 20 Years with New Film Series
DESCRIPTION:frff.eventive.org \nThis year the Frozen River Film Festival (FRFF) will be celebrating 20 years of bringing documentary films and filmmakers to Winona. The festival begins Sunday\, February 9\, (You can still get home in time to watch the Super Bowl!) and runs through Sunday\, February 16. This year’s event will feature the World Premiere of FRFF’s self-produced documentary\, Beneath the Ice: The Frozen River Film Festival Story. Learn more.
URL:https://riverartsalliance.org/event/frozen-river-film-festival-celebrates-20-years-with-new-film-series/2025-12-22/
END:VEVENT
BEGIN:VEVENT
DTSTART;TZID=America/Chicago:20251221T180000
DTEND;TZID=America/Chicago:20251221T210000
DTSTAMP:20260425T084929
CREATED:20250822T141537Z
LAST-MODIFIED:20250822T141537Z
UID:10001692-1766340000-1766350800@riverartsalliance.org
SUMMARY:Call to Artists: Between the Bluffs Plein Air
DESCRIPTION:Demonstrations: Sat. Oct 11\ 9 – Noon\nShow: Oct 17\, 18\, 19 \nBetweenthebluffs.com \nColleen Shore is a member of the River Arts Alliance. To learn more about the benefits of membership\, please visit: riverartsalliance.org/membership/.
URL:https://riverartsalliance.org/event/call-to-artists-between-the-bluffs-plein-air/2025-12-21/
ATTACH;FMTTYPE=image/png:https://riverartsalliance.org/wp-content/uploads/2025/08/Between-the-Bluffs-call-to-artists-1-1-1.png
END:VEVENT
BEGIN:VEVENT
DTSTART;TZID=America/Chicago:20251221T143000
DTEND;TZID=America/Chicago:20251221T173000
DTSTAMP:20260425T084929
CREATED:20251211T195840Z
LAST-MODIFIED:20251211T195840Z
UID:10001872-1766327400-1766338200@riverartsalliance.org
SUMMARY:Holiday Jazz Jam December 21 Supports Riverway
DESCRIPTION:December 21 | 2:30 – 5:30 pm\nTwo Fathoms Brewing \nFollowing last month’s CD release party\, H3O Jazz Trio is back for a holiday Jazz Jam at Two Fathoms Brewing on December 21 from 2:30 to 5:30 pm. The trio will be playing tunes off their new holiday release “Combo Carols” and everyone is invited to join in the festivities. This month’s Jazz Jam fundraiser recipient will be Riverway Learning Community. \nRiverway Learning Community is a pre-k-12th grade public charter school committed to the foundation of a more hopeful and enlightened future by the development of an environment that nurtures the growth of mind\, body\, and spirit\, both as individuals and as members of the larger community. Riverway promotes respect for the simultaneous independence and interdependence of all things. \nH3O Jazz Trio and Two Fathoms Brewing (formerly Island City) have helped support local nonprofits with over $74\,500 in total donations thanks to the generosity of Jazz Jam patrons! Last month’s Jazz Jam contributed $805 to support WSU’s Student Chapter of the American Choral Directors Association. \nEveryone wishing to sing\, play\, or cheer on their friends is welcome to join the H3O Jazz Trio at Two Fathoms Brewing’s monthly Jazz Jam! Interested players can choose from a wide selection of songs. Music is available from the Hal Leonard Real Book series\, bring your own music\, or just name that tune! \nCome early to enjoy a Two Fathom’s beverage and enjoy an afternoon of great music with H3O Jazz Trio and friends … all while showing your support for our community! \nAn up-to-date schedule is always available at H3OJazz.com. The family-friendly Jazz Jam is free and open to all – young and not so young. \nMore information about Riverway Learning Community can be found at: https://www.riverwaylearningcommunity.org\nH3O is now accepting applications for 2027. Use this simple form to nominate your favorite nonprofit for a future Jazz Jam: http://H3OJazz.com/jazz-jams/non-profit-nominations.html\nYou can also email info@H3OJazz.com for more information. \nEric Heukeshoven is a member of the River Arts Alliance. To learn more about the benefits of membership\, please visit: riverartsalliance.org/membership/.
URL:https://riverartsalliance.org/event/holiday-jazz-jam-december-21-supports-riverway/
LOCATION:Two Fathoms Brewing\, 65 E Front St.\, Winona\, MN\, 55987\, United States
ATTACH;FMTTYPE=image/jpeg:https://riverartsalliance.org/wp-content/uploads/2025/12/Jazz_Jam_WSU_1111625.jpg
END:VEVENT
BEGIN:VEVENT
DTSTART;TZID=America/Chicago:20251221T133000
DTEND;TZID=America/Chicago:20251221T160000
DTSTAMP:20260425T084929
CREATED:20250322T172637Z
LAST-MODIFIED:20250322T172637Z
UID:10001526-1766323800-1766332800@riverartsalliance.org
SUMMARY:Commonweal Theatre Presents A Sherlock Carol
DESCRIPTION:Preview Dates\nSaturday\, Nov 8 | 7:30-10:00 pm\nSunday\, Nov 9 | 1:30-4:00 pm\nThurs-Fri\, Nov 13-14| 7:30-10:00 pm \nFull Run Dates Listed on RAA Event Page \nCommonweal Theatre Company\n208 Parkway Ave N\, Lanesboro\, MN\ncommonwealtheatre.org \n  \nJoin the Commonweal Theatre Company for Mark Shanahan’s merry and mysterious mashup\, A Sherlock Carol. The worlds of Charles Dickens and Sir Arthur Conan Doyle collide in the ultimate Christmas crossover! Learn more.
URL:https://riverartsalliance.org/event/commonweal-theatre-presents-a-sherlock-carol/2025-12-21/
LOCATION:Commonweal Theatre\, 208 Parkway Ave. N\, Lanesboro\, MN\, United States
END:VEVENT
BEGIN:VEVENT
DTSTART;VALUE=DATE:20251221
DTEND;VALUE=DATE:20251229
DTSTAMP:20260425T084929
CREATED:20250202T152244Z
LAST-MODIFIED:20250202T152244Z
UID:10000807-1766275200-1766966399@riverartsalliance.org
SUMMARY:Frozen River Film Festival Celebrates 20 Years with New Film Series
DESCRIPTION:frff.eventive.org \nThis year the Frozen River Film Festival (FRFF) will be celebrating 20 years of bringing documentary films and filmmakers to Winona. The festival begins Sunday\, February 9\, (You can still get home in time to watch the Super Bowl!) and runs through Sunday\, February 16. This year’s event will feature the World Premiere of FRFF’s self-produced documentary\, Beneath the Ice: The Frozen River Film Festival Story. Learn more.
URL:https://riverartsalliance.org/event/frozen-river-film-festival-celebrates-20-years-with-new-film-series/2025-12-21/
END:VEVENT
BEGIN:VEVENT
DTSTART;TZID=America/Chicago:20251220T193000
DTEND;TZID=America/Chicago:20251220T220000
DTSTAMP:20260425T084929
CREATED:20250322T172637Z
LAST-MODIFIED:20250322T172637Z
UID:10001525-1766259000-1766268000@riverartsalliance.org
SUMMARY:Commonweal Theatre Presents A Sherlock Carol
DESCRIPTION:Preview Dates\nSaturday\, Nov 8 | 7:30-10:00 pm\nSunday\, Nov 9 | 1:30-4:00 pm\nThurs-Fri\, Nov 13-14| 7:30-10:00 pm \nFull Run Dates Listed on RAA Event Page \nCommonweal Theatre Company\n208 Parkway Ave N\, Lanesboro\, MN\ncommonwealtheatre.org \n  \nJoin the Commonweal Theatre Company for Mark Shanahan’s merry and mysterious mashup\, A Sherlock Carol. The worlds of Charles Dickens and Sir Arthur Conan Doyle collide in the ultimate Christmas crossover! Learn more.
URL:https://riverartsalliance.org/event/commonweal-theatre-presents-a-sherlock-carol/2025-12-20/2/
LOCATION:Commonweal Theatre\, 208 Parkway Ave. N\, Lanesboro\, MN\, United States
END:VEVENT
BEGIN:VEVENT
DTSTART;TZID=America/Chicago:20251220T180000
DTEND;TZID=America/Chicago:20251220T210000
DTSTAMP:20260425T084929
CREATED:20250822T141537Z
LAST-MODIFIED:20250822T141537Z
UID:10001691-1766253600-1766264400@riverartsalliance.org
SUMMARY:Call to Artists: Between the Bluffs Plein Air
DESCRIPTION:Demonstrations: Sat. Oct 11\ 9 – Noon\nShow: Oct 17\, 18\, 19 \nBetweenthebluffs.com \nColleen Shore is a member of the River Arts Alliance. To learn more about the benefits of membership\, please visit: riverartsalliance.org/membership/.
URL:https://riverartsalliance.org/event/call-to-artists-between-the-bluffs-plein-air/2025-12-20/
ATTACH;FMTTYPE=image/png:https://riverartsalliance.org/wp-content/uploads/2025/08/Between-the-Bluffs-call-to-artists-1-1-1.png
END:VEVENT
END:VCALENDAR