BEGIN:VCALENDAR
VERSION:2.0
PRODID:-//River Arts Alliance - ECPv6.15.20//NONSGML v1.0//EN
CALSCALE:GREGORIAN
METHOD:PUBLISH
X-ORIGINAL-URL:https://riverartsalliance.org
X-WR-CALDESC:Events for River Arts Alliance
REFRESH-INTERVAL;VALUE=DURATION:PT1H
X-Robots-Tag:noindex
X-PUBLISHED-TTL:PT1H
BEGIN:VTIMEZONE
TZID:America/Chicago
BEGIN:DAYLIGHT
TZOFFSETFROM:-0600
TZOFFSETTO:-0500
TZNAME:CDT
DTSTART:20240310T080000
END:DAYLIGHT
BEGIN:STANDARD
TZOFFSETFROM:-0500
TZOFFSETTO:-0600
TZNAME:CST
DTSTART:20241103T070000
END:STANDARD
BEGIN:DAYLIGHT
TZOFFSETFROM:-0600
TZOFFSETTO:-0500
TZNAME:CDT
DTSTART:20250309T080000
END:DAYLIGHT
BEGIN:STANDARD
TZOFFSETFROM:-0500
TZOFFSETTO:-0600
TZNAME:CST
DTSTART:20251102T070000
END:STANDARD
BEGIN:DAYLIGHT
TZOFFSETFROM:-0600
TZOFFSETTO:-0500
TZNAME:CDT
DTSTART:20260308T080000
END:DAYLIGHT
BEGIN:STANDARD
TZOFFSETFROM:-0500
TZOFFSETTO:-0600
TZNAME:CST
DTSTART:20261101T070000
END:STANDARD
END:VTIMEZONE
BEGIN:VEVENT
DTSTART;TZID=America/Chicago:20250715T100000
DTEND;TZID=America/Chicago:20250715T121500
DTSTAMP:20260421T082933
CREATED:20250623T113850Z
LAST-MODIFIED:20250623T113850Z
UID:10001000-1752573600-1752581700@riverartsalliance.org
SUMMARY:Children's Art Classes Offered at WAC
DESCRIPTION:July 14-18\nAges 5-10 | 10-11 am\nAges 11-18 | 11:15 am – 12:15 pm\nFee: $15 per person/per day\nWinona Arts Center | 228 E 5th St. \nThe Winona Arts Center welcomes Kayla Ellefson\, artist and educator\, from July 14 to July 18 for children’s classes. She is calling for all Art Explorers to join her during the two available time slots. Learn more.
URL:https://riverartsalliance.org/event/childrens-art-classes-offered-at-wac/2025-07-15/
LOCATION:Winona Arts Center\, 228 E 5th St.\, Winona\, MN\, 55987\, United States
END:VEVENT
BEGIN:VEVENT
DTSTART;TZID=America/Chicago:20250715T170000
DTEND;TZID=America/Chicago:20250715T200000
DTSTAMP:20260421T082933
CREATED:20250625T162653Z
LAST-MODIFIED:20250625T162653Z
UID:10001015-1752598800-1752609600@riverartsalliance.org
SUMMARY:Winona Creators Collective Hosts Paint a Stein Fundraiser
DESCRIPTION:Tuesday\, July 15 | 5-8 pm\nCost: $40 | All Supplies Provided\nTwo Fathoms Brewing\n65 E Front St\nWinona Creators Collective \nCome paint a ceramic stein and support Winona Creators Collective as they build a community makerspace. All supplies will be provided\, and fired steins will be available for pickup on July 29th. $40\, RSVP is required as space is limited. Learn more.
URL:https://riverartsalliance.org/event/winona-creators-collective-hosts-paint-a-stein-fundraiser/
LOCATION:Two Fathoms Brewing\, 65 E Front St.\, Winona\, MN\, 55987\, United States
END:VEVENT
BEGIN:VEVENT
DTSTART;VALUE=DATE:20250716
DTEND;VALUE=DATE:20250724
DTSTAMP:20260421T082933
CREATED:20250202T152244Z
LAST-MODIFIED:20250202T152244Z
UID:10000649-1752624000-1753315199@riverartsalliance.org
SUMMARY:Frozen River Film Festival Celebrates 20 Years with New Film Series
DESCRIPTION:frff.eventive.org \nThis year the Frozen River Film Festival (FRFF) will be celebrating 20 years of bringing documentary films and filmmakers to Winona. The festival begins Sunday\, February 9\, (You can still get home in time to watch the Super Bowl!) and runs through Sunday\, February 16. This year’s event will feature the World Premiere of FRFF’s self-produced documentary\, Beneath the Ice: The Frozen River Film Festival Story. Learn more.
URL:https://riverartsalliance.org/event/frozen-river-film-festival-celebrates-20-years-with-new-film-series/2025-07-16/
LOCATION:MN
END:VEVENT
BEGIN:VEVENT
DTSTART;TZID=America/Chicago:20250716T100000
DTEND;TZID=America/Chicago:20250716T121500
DTSTAMP:20260421T082933
CREATED:20250623T113850Z
LAST-MODIFIED:20250623T113850Z
UID:10001001-1752660000-1752668100@riverartsalliance.org
SUMMARY:Children's Art Classes Offered at WAC
DESCRIPTION:July 14-18\nAges 5-10 | 10-11 am\nAges 11-18 | 11:15 am – 12:15 pm\nFee: $15 per person/per day\nWinona Arts Center | 228 E 5th St. \nThe Winona Arts Center welcomes Kayla Ellefson\, artist and educator\, from July 14 to July 18 for children’s classes. She is calling for all Art Explorers to join her during the two available time slots. Learn more.
URL:https://riverartsalliance.org/event/childrens-art-classes-offered-at-wac/2025-07-16/
LOCATION:Winona Arts Center\, 228 E 5th St.\, Winona\, MN\, 55987\, United States
END:VEVENT
BEGIN:VEVENT
DTSTART;VALUE=DATE:20250717
DTEND;VALUE=DATE:20250725
DTSTAMP:20260421T082933
CREATED:20250202T152244Z
LAST-MODIFIED:20250202T152244Z
UID:10000650-1752710400-1753401599@riverartsalliance.org
SUMMARY:Frozen River Film Festival Celebrates 20 Years with New Film Series
DESCRIPTION:frff.eventive.org \nThis year the Frozen River Film Festival (FRFF) will be celebrating 20 years of bringing documentary films and filmmakers to Winona. The festival begins Sunday\, February 9\, (You can still get home in time to watch the Super Bowl!) and runs through Sunday\, February 16. This year’s event will feature the World Premiere of FRFF’s self-produced documentary\, Beneath the Ice: The Frozen River Film Festival Story. Learn more.
URL:https://riverartsalliance.org/event/frozen-river-film-festival-celebrates-20-years-with-new-film-series/2025-07-17/
LOCATION:MN
END:VEVENT
BEGIN:VEVENT
DTSTART;TZID=America/Chicago:20250717T070000
DTEND;TZID=America/Chicago:20250717T200000
DTSTAMP:20260421T082933
CREATED:20250704T202851Z
LAST-MODIFIED:20250704T202851Z
UID:10001019-1752735600-1752782400@riverartsalliance.org
SUMMARY:Amanda Blue and Dr. Jordan Buchholtz Perform at Sapori di Sicilia
DESCRIPTION:Thursday\, July 17 | 7-8 pm\nDoors open at 6:30 pm\nCafe Sapori di Sicilia | 211 Main Street Winona\, MN 55987 \nCome and enjoy a night in Italy by listening to the many great Italian composers performed by Amanda Blue and Dr. Jordan Buchholtz. Learn more.
URL:https://riverartsalliance.org/event/amanda-blue-and-dr-jordan-buchholtz-perform-at-sapori-di-sicilia/
LOCATION:Café Sapori di Sicilia\, 211 Main Street\, Winona\, MN\, 55987\, United States
END:VEVENT
BEGIN:VEVENT
DTSTART;TZID=America/Chicago:20250717T100000
DTEND;TZID=America/Chicago:20250717T121500
DTSTAMP:20260421T082933
CREATED:20250623T113850Z
LAST-MODIFIED:20250623T113850Z
UID:10001002-1752746400-1752754500@riverartsalliance.org
SUMMARY:Children's Art Classes Offered at WAC
DESCRIPTION:July 14-18\nAges 5-10 | 10-11 am\nAges 11-18 | 11:15 am – 12:15 pm\nFee: $15 per person/per day\nWinona Arts Center | 228 E 5th St. \nThe Winona Arts Center welcomes Kayla Ellefson\, artist and educator\, from July 14 to July 18 for children’s classes. She is calling for all Art Explorers to join her during the two available time slots. Learn more.
URL:https://riverartsalliance.org/event/childrens-art-classes-offered-at-wac/2025-07-17/
LOCATION:Winona Arts Center\, 228 E 5th St.\, Winona\, MN\, 55987\, United States
END:VEVENT
BEGIN:VEVENT
DTSTART;TZID=America/Chicago:20250717T190000
DTEND;TZID=America/Chicago:20250717T200000
DTSTAMP:20260421T082933
CREATED:20250529T203204Z
LAST-MODIFIED:20250529T203204Z
UID:10001576-1752778800-1752782400@riverartsalliance.org
SUMMARY:Sandbar Storytelling Festival: Business & Immigrant Stories
DESCRIPTION:Free Admission | Freewill Offering\nWinona History Center | 160 Johnson St \nFor the fourth consecutive year\, the Sandbar Storytelling Festival\, in partnership with the Winona County Historical Society\, is continuing their series of Business & Immigrant (B&I) Stories\, featuring local businesses and organizations of Winona. Learn more.
URL:https://riverartsalliance.org/event/sandbar-storytelling-festival-business-immigrant-stories-3/
LOCATION:Winona County History Center\, 160 Johnson St\, Winona\, MN\, 55987\, United States
END:VEVENT
BEGIN:VEVENT
DTSTART;TZID=America/Chicago:20250717T193000
DTEND;TZID=America/Chicago:20250717T220000
DTSTAMP:20260421T082933
CREATED:20250318T133032Z
LAST-MODIFIED:20250318T133032Z
UID:10001387-1752780600-1752789600@riverartsalliance.org
SUMMARY:Commonweal Theatre Presents Lone Star Spirits
DESCRIPTION:Commonweal Theatre Company\n208 Parkway Ave N\, Lanesboro\, MN\ncommonwealtheatre.org \n  \nJoin the Commonweal Theatre Company for Josh Tobiessen’s small-town comedy\, Lone Star Spirits. A trip home gets wildly out of hand when Marley introduces her fiancé to her estranged father. Learn more.
URL:https://riverartsalliance.org/event/commonweal-theatre-presents-lone-star-spirits/2025-07-17/
LOCATION:MN
END:VEVENT
BEGIN:VEVENT
DTSTART;VALUE=DATE:20250718
DTEND;VALUE=DATE:20250726
DTSTAMP:20260421T082933
CREATED:20250202T152244Z
LAST-MODIFIED:20250202T152244Z
UID:10000651-1752796800-1753487999@riverartsalliance.org
SUMMARY:Frozen River Film Festival Celebrates 20 Years with New Film Series
DESCRIPTION:frff.eventive.org \nThis year the Frozen River Film Festival (FRFF) will be celebrating 20 years of bringing documentary films and filmmakers to Winona. The festival begins Sunday\, February 9\, (You can still get home in time to watch the Super Bowl!) and runs through Sunday\, February 16. This year’s event will feature the World Premiere of FRFF’s self-produced documentary\, Beneath the Ice: The Frozen River Film Festival Story. Learn more.
URL:https://riverartsalliance.org/event/frozen-river-film-festival-celebrates-20-years-with-new-film-series/2025-07-18/
LOCATION:MN
END:VEVENT
BEGIN:VEVENT
DTSTART;TZID=America/Chicago:20250718T100000
DTEND;TZID=America/Chicago:20250718T121500
DTSTAMP:20260421T082933
CREATED:20250623T113850Z
LAST-MODIFIED:20250623T113850Z
UID:10001003-1752832800-1752840900@riverartsalliance.org
SUMMARY:Children's Art Classes Offered at WAC
DESCRIPTION:July 14-18\nAges 5-10 | 10-11 am\nAges 11-18 | 11:15 am – 12:15 pm\nFee: $15 per person/per day\nWinona Arts Center | 228 E 5th St. \nThe Winona Arts Center welcomes Kayla Ellefson\, artist and educator\, from July 14 to July 18 for children’s classes. She is calling for all Art Explorers to join her during the two available time slots. Learn more.
URL:https://riverartsalliance.org/event/childrens-art-classes-offered-at-wac/2025-07-18/
LOCATION:Winona Arts Center\, 228 E 5th St.\, Winona\, MN\, 55987\, United States
END:VEVENT
BEGIN:VEVENT
DTSTART;TZID=America/Chicago:20250718T113000
DTEND;TZID=America/Chicago:20250718T130000
DTSTAMP:20260421T082933
CREATED:20250530T120720Z
LAST-MODIFIED:20250530T120720Z
UID:10001581-1752838200-1752843600@riverartsalliance.org
SUMMARY:Theatre du Mississippi Presents Virtual Playwriting Workshop: Autobiographical Writing
DESCRIPTION:Virtual Workshop\nJune 20\, July 18\, Aug 15\, Sept 12\, Oct 10\nCost: Sliding Scale One-Time Payment of $15-75\ntheatredumiss.org \nDiscover the power of personal storytelling through the art of autobiographical writing with playwright Kelsey Rain. In this hands-on workshop\, playwrights and actors will craft a rough draft of a monologue or script inspired by a significant event from their own lives or the lives of their family members. Learn more.
URL:https://riverartsalliance.org/event/theatre-du-mississippi-presents-virtual-playwriting-workshop-autobiographical-writing/2025-07-18/
LOCATION:MN
END:VEVENT
BEGIN:VEVENT
DTSTART;TZID=America/Chicago:20250718T120000
DTEND;TZID=America/Chicago:20250718T150000
DTSTAMP:20260421T082933
CREATED:20250623T121919Z
LAST-MODIFIED:20250623T121919Z
UID:10001007-1752840000-1752850800@riverartsalliance.org
SUMMARY:Chill with Will During Great River Shakespeare Festival
DESCRIPTION:Fridays\, July 4\, 11\, 18\, 25\nWorkshops Begin at Noon\nMatinees Begin at 1 pm\nFREE: Registration Required\nDuFrense Performing Arts Center (WSU campus) | 450 Johnson St\nGreat River Shakespeare Festival \nEnroll in our FREE workshop for students ages 11-18 prior to each Friday afternoon performance. \nEvery Friday in July\, students may participate in a free theater workshop at noon and receive a free ticket to the 1:00 matinee (Comedy of Errors July 4 & 18 and Romeo & Juliet on July 11 & 25). Learn more.
URL:https://riverartsalliance.org/event/chill-with-will-during-great-river-shakespeare-festival/2025-07-18/
LOCATION:WSU DuFresne Performing Arts Center\, 450 Johnson St.\, Winona\, MN\, 55987\, United States
END:VEVENT
BEGIN:VEVENT
DTSTART;TZID=America/Chicago:20250718T193000
DTEND;TZID=America/Chicago:20250718T220000
DTSTAMP:20260421T082933
CREATED:20250318T133032Z
LAST-MODIFIED:20250318T133032Z
UID:10001388-1752867000-1752876000@riverartsalliance.org
SUMMARY:Commonweal Theatre Presents Lone Star Spirits
DESCRIPTION:Commonweal Theatre Company\n208 Parkway Ave N\, Lanesboro\, MN\ncommonwealtheatre.org \n  \nJoin the Commonweal Theatre Company for Josh Tobiessen’s small-town comedy\, Lone Star Spirits. A trip home gets wildly out of hand when Marley introduces her fiancé to her estranged father. Learn more.
URL:https://riverartsalliance.org/event/commonweal-theatre-presents-lone-star-spirits/2025-07-18/
LOCATION:MN
END:VEVENT
BEGIN:VEVENT
DTSTART;VALUE=DATE:20250719
DTEND;VALUE=DATE:20250727
DTSTAMP:20260421T082933
CREATED:20250202T152244Z
LAST-MODIFIED:20250202T152244Z
UID:10000652-1752883200-1753574399@riverartsalliance.org
SUMMARY:Frozen River Film Festival Celebrates 20 Years with New Film Series
DESCRIPTION:frff.eventive.org \nThis year the Frozen River Film Festival (FRFF) will be celebrating 20 years of bringing documentary films and filmmakers to Winona. The festival begins Sunday\, February 9\, (You can still get home in time to watch the Super Bowl!) and runs through Sunday\, February 16. This year’s event will feature the World Premiere of FRFF’s self-produced documentary\, Beneath the Ice: The Frozen River Film Festival Story. Learn more.
URL:https://riverartsalliance.org/event/frozen-river-film-festival-celebrates-20-years-with-new-film-series/2025-07-19/
LOCATION:MN
END:VEVENT
BEGIN:VEVENT
DTSTART;TZID=America/Chicago:20250719T193000
DTEND;TZID=America/Chicago:20250719T220000
DTSTAMP:20260421T082933
CREATED:20250318T133032Z
LAST-MODIFIED:20250318T133032Z
UID:10001389-1752953400-1752962400@riverartsalliance.org
SUMMARY:Commonweal Theatre Presents Lone Star Spirits
DESCRIPTION:Commonweal Theatre Company\n208 Parkway Ave N\, Lanesboro\, MN\ncommonwealtheatre.org \n  \nJoin the Commonweal Theatre Company for Josh Tobiessen’s small-town comedy\, Lone Star Spirits. A trip home gets wildly out of hand when Marley introduces her fiancé to her estranged father. Learn more.
URL:https://riverartsalliance.org/event/commonweal-theatre-presents-lone-star-spirits/2025-07-19/
LOCATION:MN
END:VEVENT
BEGIN:VEVENT
DTSTART;VALUE=DATE:20250720
DTEND;VALUE=DATE:20250728
DTSTAMP:20260421T082933
CREATED:20250202T152244Z
LAST-MODIFIED:20250202T152244Z
UID:10000653-1752969600-1753660799@riverartsalliance.org
SUMMARY:Frozen River Film Festival Celebrates 20 Years with New Film Series
DESCRIPTION:frff.eventive.org \nThis year the Frozen River Film Festival (FRFF) will be celebrating 20 years of bringing documentary films and filmmakers to Winona. The festival begins Sunday\, February 9\, (You can still get home in time to watch the Super Bowl!) and runs through Sunday\, February 16. This year’s event will feature the World Premiere of FRFF’s self-produced documentary\, Beneath the Ice: The Frozen River Film Festival Story. Learn more.
URL:https://riverartsalliance.org/event/frozen-river-film-festival-celebrates-20-years-with-new-film-series/2025-07-20/
LOCATION:MN
END:VEVENT
BEGIN:VEVENT
DTSTART;TZID=America/Chicago:20250720T093000
DTEND;TZID=America/Chicago:20250720T103000
DTSTAMP:20260421T082933
CREATED:20250713T212918Z
LAST-MODIFIED:20250713T212930Z
UID:10001599-1753003800-1753007400@riverartsalliance.org
SUMMARY:3rd Annual Ecumenical Service July 20
DESCRIPTION:Sunday\, July 20 | 9:30 am\nLake Park Bandshell | Winona\nFreewill Offering Supports the Winona Immigration Network (WIN) \nOn July 20\, 2025\, at 9:30 a.m. in the Lake Park Bandshell\, numerous Winona area Christian congregations will gather for their third annual ecumenical worship service. Learn more.
URL:https://riverartsalliance.org/event/3rd-annual-ecumenical-service-july-20/
LOCATION:Lake Park Bandshell\, Lake Park Dr.\, Winona\, MN\, 55987\, United States
END:VEVENT
BEGIN:VEVENT
DTSTART;TZID=America/Chicago:20250720T133000
DTEND;TZID=America/Chicago:20250720T160000
DTSTAMP:20260421T082933
CREATED:20250318T133032Z
LAST-MODIFIED:20250318T133032Z
UID:10001390-1753018200-1753027200@riverartsalliance.org
SUMMARY:Commonweal Theatre Presents Lone Star Spirits
DESCRIPTION:Commonweal Theatre Company\n208 Parkway Ave N\, Lanesboro\, MN\ncommonwealtheatre.org \n  \nJoin the Commonweal Theatre Company for Josh Tobiessen’s small-town comedy\, Lone Star Spirits. A trip home gets wildly out of hand when Marley introduces her fiancé to her estranged father. Learn more.
URL:https://riverartsalliance.org/event/commonweal-theatre-presents-lone-star-spirits/2025-07-20/
LOCATION:MN
END:VEVENT
BEGIN:VEVENT
DTSTART;TZID=America/Chicago:20250720T143000
DTEND;TZID=America/Chicago:20250720T173000
DTSTAMP:20260421T082933
CREATED:20250713T214353Z
LAST-MODIFIED:20250713T214353Z
UID:10001602-1753021800-1753032600@riverartsalliance.org
SUMMARY:July Jazz Jam Supports Friends of Winona Public Library
DESCRIPTION:Sunday\, July 20 | 2:30-5:30 pm\nTwo Fathoms Brewing Company | 65 E Front St\nFREE to the public\nH3OJazz.com \n  \nSummer Jazz Jams continue at Two Fathoms Brewing on Sunday July 20\, 2025\, from 2:30-5:30 pm on the new outdoor stage or in the taproom if it’s raining. This month’s fundraiser recipient will be the Friends of the Winona Public Library. Learn more.
URL:https://riverartsalliance.org/event/july-jazz-jam-supports-friends-of-winona-public-library/
LOCATION:Two Fathoms Brewing\, 65 E Front St.\, Winona\, MN\, 55987\, United States
END:VEVENT
BEGIN:VEVENT
DTSTART;VALUE=DATE:20250721
DTEND;VALUE=DATE:20250729
DTSTAMP:20260421T082933
CREATED:20250202T152244Z
LAST-MODIFIED:20250202T152244Z
UID:10000654-1753056000-1753747199@riverartsalliance.org
SUMMARY:Frozen River Film Festival Celebrates 20 Years with New Film Series
DESCRIPTION:frff.eventive.org \nThis year the Frozen River Film Festival (FRFF) will be celebrating 20 years of bringing documentary films and filmmakers to Winona. The festival begins Sunday\, February 9\, (You can still get home in time to watch the Super Bowl!) and runs through Sunday\, February 16. This year’s event will feature the World Premiere of FRFF’s self-produced documentary\, Beneath the Ice: The Frozen River Film Festival Story. Learn more.
URL:https://riverartsalliance.org/event/frozen-river-film-festival-celebrates-20-years-with-new-film-series/2025-07-21/
LOCATION:MN
END:VEVENT
BEGIN:VEVENT
DTSTART;TZID=America/Chicago:20250721T235900
DTEND;TZID=America/Chicago:20250721T235900
DTSTAMP:20260421T082933
CREATED:20250704T215202Z
LAST-MODIFIED:20250704T215202Z
UID:10001591-1753142340-1753142340@riverartsalliance.org
SUMMARY:Midwest Culture Bearers Award
DESCRIPTION:Applications due July 21\, 2025 \nA $5\,000 award celebrating and supporting the work of Midwest culture bearers and folk arts practitioners. Learn more.
URL:https://riverartsalliance.org/event/midwest-culture-bearers-award/
LOCATION:MN
END:VEVENT
BEGIN:VEVENT
DTSTART;VALUE=DATE:20250722
DTEND;VALUE=DATE:20250730
DTSTAMP:20260421T082933
CREATED:20250202T152244Z
LAST-MODIFIED:20250202T152244Z
UID:10000655-1753142400-1753833599@riverartsalliance.org
SUMMARY:Frozen River Film Festival Celebrates 20 Years with New Film Series
DESCRIPTION:frff.eventive.org \nThis year the Frozen River Film Festival (FRFF) will be celebrating 20 years of bringing documentary films and filmmakers to Winona. The festival begins Sunday\, February 9\, (You can still get home in time to watch the Super Bowl!) and runs through Sunday\, February 16. This year’s event will feature the World Premiere of FRFF’s self-produced documentary\, Beneath the Ice: The Frozen River Film Festival Story. Learn more.
URL:https://riverartsalliance.org/event/frozen-river-film-festival-celebrates-20-years-with-new-film-series/2025-07-22/
LOCATION:MN
END:VEVENT
BEGIN:VEVENT
DTSTART;VALUE=DATE:20250723
DTEND;VALUE=DATE:20250731
DTSTAMP:20260421T082933
CREATED:20250202T152244Z
LAST-MODIFIED:20250202T152244Z
UID:10000656-1753228800-1753919999@riverartsalliance.org
SUMMARY:Frozen River Film Festival Celebrates 20 Years with New Film Series
DESCRIPTION:frff.eventive.org \nThis year the Frozen River Film Festival (FRFF) will be celebrating 20 years of bringing documentary films and filmmakers to Winona. The festival begins Sunday\, February 9\, (You can still get home in time to watch the Super Bowl!) and runs through Sunday\, February 16. This year’s event will feature the World Premiere of FRFF’s self-produced documentary\, Beneath the Ice: The Frozen River Film Festival Story. Learn more.
URL:https://riverartsalliance.org/event/frozen-river-film-festival-celebrates-20-years-with-new-film-series/2025-07-23/
LOCATION:MN
END:VEVENT
BEGIN:VEVENT
DTSTART;TZID=America/Chicago:20250723T170000
DTEND;TZID=America/Chicago:20250723T200000
DTSTAMP:20260421T082933
CREATED:20250706T204611Z
LAST-MODIFIED:20250706T204611Z
UID:10001594-1753290000-1753300800@riverartsalliance.org
SUMMARY:Relief Wood Carving with Kevin Ewing at WAC
DESCRIPTION:Wednesday\, July 23 | 5-8 pm\nMembers $50 | Nonmembers $55\nAges 16+ | Registration Required\nWinona Arts Center | 228 E 5th St. \nWinona Arts Center welcomes back Kevin Ewing for Relief Wood Carving on Wednesday July 23 5:00pm to 8pm. Kevin will provide a description of the tools and materials used for relief wood carving. Learn more. \n  \nThe Winona Arts Center is a member of the River Arts Alliance. To learn more about the benefits of membership\, please visit: riverartsalliance.org/membership/.
URL:https://riverartsalliance.org/event/relief-wood-carving-with-kevin-ewing-at-wac/
LOCATION:Winona Arts Center\, 228 E 5th St.\, Winona\, MN\, 55987\, United States
END:VEVENT
BEGIN:VEVENT
DTSTART;VALUE=DATE:20250724
DTEND;VALUE=DATE:20250801
DTSTAMP:20260421T082933
CREATED:20250202T152244Z
LAST-MODIFIED:20250202T152244Z
UID:10000657-1753315200-1754006399@riverartsalliance.org
SUMMARY:Frozen River Film Festival Celebrates 20 Years with New Film Series
DESCRIPTION:frff.eventive.org \nThis year the Frozen River Film Festival (FRFF) will be celebrating 20 years of bringing documentary films and filmmakers to Winona. The festival begins Sunday\, February 9\, (You can still get home in time to watch the Super Bowl!) and runs through Sunday\, February 16. This year’s event will feature the World Premiere of FRFF’s self-produced documentary\, Beneath the Ice: The Frozen River Film Festival Story. Learn more.
URL:https://riverartsalliance.org/event/frozen-river-film-festival-celebrates-20-years-with-new-film-series/2025-07-24/
LOCATION:MN
END:VEVENT
BEGIN:VEVENT
DTSTART;TZID=America/Chicago:20250724T170000
DTEND;TZID=America/Chicago:20250724T200000
DTSTAMP:20260421T082933
CREATED:20250720T141946Z
LAST-MODIFIED:20250720T141946Z
UID:10001605-1753376400-1753387200@riverartsalliance.org
SUMMARY:Texas Toast Takes the Stage July 24 at the Minnesota Marine Art Museum’s Mississippi Sippin’
DESCRIPTION:Thursday\, July 24 | 5-8 pm\nFree Outdoor Event\nMinnesota Marine Art Museum | 800 Riverview Dr.\nminnesotamarineart.org \n  \nThe Minnesota Marine Art Museum (MMAM) continues its Mississippi Sippin’ summer concert series on Thursday\, July 24\, 2025\, from 5 to 8 p.m. with a live performance by Texas Toast. Learn more.
URL:https://riverartsalliance.org/event/texas-toast-takes-the-stage-july-24-at-the-minnesota-marine-art-museums-mississippi-sippin/
LOCATION:Minnesota Marine Art Museum\, 800 Riverview Dr.\, Winona\, MN\, 55987\, United States
END:VEVENT
BEGIN:VEVENT
DTSTART;TZID=America/Chicago:20250724T193000
DTEND;TZID=America/Chicago:20250724T220000
DTSTAMP:20260421T082933
CREATED:20250318T133032Z
LAST-MODIFIED:20250318T133032Z
UID:10001391-1753385400-1753394400@riverartsalliance.org
SUMMARY:Commonweal Theatre Presents Lone Star Spirits
DESCRIPTION:Commonweal Theatre Company\n208 Parkway Ave N\, Lanesboro\, MN\ncommonwealtheatre.org \n  \nJoin the Commonweal Theatre Company for Josh Tobiessen’s small-town comedy\, Lone Star Spirits. A trip home gets wildly out of hand when Marley introduces her fiancé to her estranged father. Learn more.
URL:https://riverartsalliance.org/event/commonweal-theatre-presents-lone-star-spirits/2025-07-24/
LOCATION:MN
END:VEVENT
BEGIN:VEVENT
DTSTART;VALUE=DATE:20250725
DTEND;VALUE=DATE:20250802
DTSTAMP:20260421T082933
CREATED:20250202T152244Z
LAST-MODIFIED:20250202T152244Z
UID:10000658-1753401600-1754092799@riverartsalliance.org
SUMMARY:Frozen River Film Festival Celebrates 20 Years with New Film Series
DESCRIPTION:frff.eventive.org \nThis year the Frozen River Film Festival (FRFF) will be celebrating 20 years of bringing documentary films and filmmakers to Winona. The festival begins Sunday\, February 9\, (You can still get home in time to watch the Super Bowl!) and runs through Sunday\, February 16. This year’s event will feature the World Premiere of FRFF’s self-produced documentary\, Beneath the Ice: The Frozen River Film Festival Story. Learn more.
URL:https://riverartsalliance.org/event/frozen-river-film-festival-celebrates-20-years-with-new-film-series/2025-07-25/
LOCATION:MN
END:VEVENT
BEGIN:VEVENT
DTSTART;TZID=America/Chicago:20250725T120000
DTEND;TZID=America/Chicago:20250725T150000
DTSTAMP:20260421T082933
CREATED:20250623T121919Z
LAST-MODIFIED:20250623T121919Z
UID:10001008-1753444800-1753455600@riverartsalliance.org
SUMMARY:Chill with Will During Great River Shakespeare Festival
DESCRIPTION:Fridays\, July 4\, 11\, 18\, 25\nWorkshops Begin at Noon\nMatinees Begin at 1 pm\nFREE: Registration Required\nDuFrense Performing Arts Center (WSU campus) | 450 Johnson St\nGreat River Shakespeare Festival \nEnroll in our FREE workshop for students ages 11-18 prior to each Friday afternoon performance. \nEvery Friday in July\, students may participate in a free theater workshop at noon and receive a free ticket to the 1:00 matinee (Comedy of Errors July 4 & 18 and Romeo & Juliet on July 11 & 25). Learn more.
URL:https://riverartsalliance.org/event/chill-with-will-during-great-river-shakespeare-festival/2025-07-25/
LOCATION:WSU DuFresne Performing Arts Center\, 450 Johnson St.\, Winona\, MN\, 55987\, United States
END:VEVENT
END:VCALENDAR