BEGIN:VCALENDAR
VERSION:2.0
PRODID:-//River Arts Alliance - ECPv6.15.20//NONSGML v1.0//EN
CALSCALE:GREGORIAN
METHOD:PUBLISH
X-WR-CALNAME:River Arts Alliance
X-ORIGINAL-URL:https://riverartsalliance.org
X-WR-CALDESC:Events for River Arts Alliance
REFRESH-INTERVAL;VALUE=DURATION:PT1H
X-Robots-Tag:noindex
X-PUBLISHED-TTL:PT1H
BEGIN:VTIMEZONE
TZID:America/Chicago
BEGIN:DAYLIGHT
TZOFFSETFROM:-0600
TZOFFSETTO:-0500
TZNAME:CDT
DTSTART:20250309T080000
END:DAYLIGHT
BEGIN:STANDARD
TZOFFSETFROM:-0500
TZOFFSETTO:-0600
TZNAME:CST
DTSTART:20251102T070000
END:STANDARD
BEGIN:DAYLIGHT
TZOFFSETFROM:-0600
TZOFFSETTO:-0500
TZNAME:CDT
DTSTART:20260308T080000
END:DAYLIGHT
BEGIN:STANDARD
TZOFFSETFROM:-0500
TZOFFSETTO:-0600
TZNAME:CST
DTSTART:20261101T070000
END:STANDARD
BEGIN:DAYLIGHT
TZOFFSETFROM:-0600
TZOFFSETTO:-0500
TZNAME:CDT
DTSTART:20270314T080000
END:DAYLIGHT
BEGIN:STANDARD
TZOFFSETFROM:-0500
TZOFFSETTO:-0600
TZNAME:CST
DTSTART:20271107T070000
END:STANDARD
END:VTIMEZONE
BEGIN:VEVENT
DTSTART;TZID=America/Chicago:20260327T180000
DTEND;TZID=America/Chicago:20260327T210000
DTSTAMP:20260421T181157
CREATED:20250822T141537Z
LAST-MODIFIED:20250822T141537Z
UID:10001788-1774634400-1774645200@riverartsalliance.org
SUMMARY:Call to Artists: Between the Bluffs Plein Air
DESCRIPTION:Demonstrations: Sat. Oct 11\ 9 – Noon\nShow: Oct 17\, 18\, 19 \nBetweenthebluffs.com \nColleen Shore is a member of the River Arts Alliance. To learn more about the benefits of membership\, please visit: riverartsalliance.org/membership/.
URL:https://riverartsalliance.org/event/call-to-artists-between-the-bluffs-plein-air/2026-03-27/
LOCATION:MN
ATTACH;FMTTYPE=image/png:https://riverartsalliance.org/wp-content/uploads/2025/08/Between-the-Bluffs-call-to-artists-1-1-1.png
END:VEVENT
BEGIN:VEVENT
DTSTART;VALUE=DATE:20260327
DTEND;VALUE=DATE:20260404
DTSTAMP:20260421T181157
CREATED:20250202T152244Z
LAST-MODIFIED:20250202T152244Z
UID:10000903-1774569600-1775260799@riverartsalliance.org
SUMMARY:Frozen River Film Festival Celebrates 20 Years with New Film Series
DESCRIPTION:frff.eventive.org \nThis year the Frozen River Film Festival (FRFF) will be celebrating 20 years of bringing documentary films and filmmakers to Winona. The festival begins Sunday\, February 9\, (You can still get home in time to watch the Super Bowl!) and runs through Sunday\, February 16. This year’s event will feature the World Premiere of FRFF’s self-produced documentary\, Beneath the Ice: The Frozen River Film Festival Story. Learn more.
URL:https://riverartsalliance.org/event/frozen-river-film-festival-celebrates-20-years-with-new-film-series/2026-03-27/
LOCATION:MN
END:VEVENT
BEGIN:VEVENT
DTSTART;TZID=America/Chicago:20260326T180000
DTEND;TZID=America/Chicago:20260326T210000
DTSTAMP:20260421T181157
CREATED:20250822T141537Z
LAST-MODIFIED:20250822T141537Z
UID:10001787-1774548000-1774558800@riverartsalliance.org
SUMMARY:Call to Artists: Between the Bluffs Plein Air
DESCRIPTION:Demonstrations: Sat. Oct 11\ 9 – Noon\nShow: Oct 17\, 18\, 19 \nBetweenthebluffs.com \nColleen Shore is a member of the River Arts Alliance. To learn more about the benefits of membership\, please visit: riverartsalliance.org/membership/.
URL:https://riverartsalliance.org/event/call-to-artists-between-the-bluffs-plein-air/2026-03-26/
LOCATION:MN
ATTACH;FMTTYPE=image/png:https://riverartsalliance.org/wp-content/uploads/2025/08/Between-the-Bluffs-call-to-artists-1-1-1.png
END:VEVENT
BEGIN:VEVENT
DTSTART;TZID=America/Chicago:20260326T120000
DTEND;TZID=America/Chicago:20260326T133000
DTSTAMP:20260421T181157
CREATED:20260215T173146Z
LAST-MODIFIED:20260215T173146Z
UID:10001910-1774526400-1774531800@riverartsalliance.org
SUMMARY:Forecast Webinar Series 2026
DESCRIPTION:Register Now—Creative Power\, Civic Purpose: How Artists Strengthen Democracy\n\n\n\n\n\n\n\n\n\n\nWe’re excited to launch Creative Power\, Civic Purpose: How Artists Strengthen Democracy\, a six-part virtual series supported by the Educational Foundation of America (EFA).\nThe series explores how artists and culture bearers strengthen civic health\, deepen democratic participation\, and help renew the civic fabric of communities across the country.
URL:https://riverartsalliance.org/event/forecast-webinar-series-2026/2026-03-26/
LOCATION:MN
END:VEVENT
BEGIN:VEVENT
DTSTART;VALUE=DATE:20260326
DTEND;VALUE=DATE:20260403
DTSTAMP:20260421T181157
CREATED:20250202T152244Z
LAST-MODIFIED:20250202T152244Z
UID:10000902-1774483200-1775174399@riverartsalliance.org
SUMMARY:Frozen River Film Festival Celebrates 20 Years with New Film Series
DESCRIPTION:frff.eventive.org \nThis year the Frozen River Film Festival (FRFF) will be celebrating 20 years of bringing documentary films and filmmakers to Winona. The festival begins Sunday\, February 9\, (You can still get home in time to watch the Super Bowl!) and runs through Sunday\, February 16. This year’s event will feature the World Premiere of FRFF’s self-produced documentary\, Beneath the Ice: The Frozen River Film Festival Story. Learn more.
URL:https://riverartsalliance.org/event/frozen-river-film-festival-celebrates-20-years-with-new-film-series/2026-03-26/
LOCATION:MN
END:VEVENT
BEGIN:VEVENT
DTSTART;TZID=America/Chicago:20260325T180000
DTEND;TZID=America/Chicago:20260325T210000
DTSTAMP:20260421T181157
CREATED:20250822T141537Z
LAST-MODIFIED:20250822T141537Z
UID:10001786-1774461600-1774472400@riverartsalliance.org
SUMMARY:Call to Artists: Between the Bluffs Plein Air
DESCRIPTION:Demonstrations: Sat. Oct 11\ 9 – Noon\nShow: Oct 17\, 18\, 19 \nBetweenthebluffs.com \nColleen Shore is a member of the River Arts Alliance. To learn more about the benefits of membership\, please visit: riverartsalliance.org/membership/.
URL:https://riverartsalliance.org/event/call-to-artists-between-the-bluffs-plein-air/2026-03-25/
LOCATION:MN
ATTACH;FMTTYPE=image/png:https://riverartsalliance.org/wp-content/uploads/2025/08/Between-the-Bluffs-call-to-artists-1-1-1.png
END:VEVENT
BEGIN:VEVENT
DTSTART;VALUE=DATE:20260325
DTEND;VALUE=DATE:20260402
DTSTAMP:20260421T181157
CREATED:20250202T152244Z
LAST-MODIFIED:20250202T152244Z
UID:10000901-1774396800-1775087999@riverartsalliance.org
SUMMARY:Frozen River Film Festival Celebrates 20 Years with New Film Series
DESCRIPTION:frff.eventive.org \nThis year the Frozen River Film Festival (FRFF) will be celebrating 20 years of bringing documentary films and filmmakers to Winona. The festival begins Sunday\, February 9\, (You can still get home in time to watch the Super Bowl!) and runs through Sunday\, February 16. This year’s event will feature the World Premiere of FRFF’s self-produced documentary\, Beneath the Ice: The Frozen River Film Festival Story. Learn more.
URL:https://riverartsalliance.org/event/frozen-river-film-festival-celebrates-20-years-with-new-film-series/2026-03-25/
LOCATION:MN
END:VEVENT
BEGIN:VEVENT
DTSTART;TZID=America/Chicago:20260324T180000
DTEND;TZID=America/Chicago:20260324T210000
DTSTAMP:20260421T181157
CREATED:20250822T141537Z
LAST-MODIFIED:20250822T141537Z
UID:10001785-1774375200-1774386000@riverartsalliance.org
SUMMARY:Call to Artists: Between the Bluffs Plein Air
DESCRIPTION:Demonstrations: Sat. Oct 11\ 9 – Noon\nShow: Oct 17\, 18\, 19 \nBetweenthebluffs.com \nColleen Shore is a member of the River Arts Alliance. To learn more about the benefits of membership\, please visit: riverartsalliance.org/membership/.
URL:https://riverartsalliance.org/event/call-to-artists-between-the-bluffs-plein-air/2026-03-24/
LOCATION:MN
ATTACH;FMTTYPE=image/png:https://riverartsalliance.org/wp-content/uploads/2025/08/Between-the-Bluffs-call-to-artists-1-1-1.png
END:VEVENT
BEGIN:VEVENT
DTSTART;VALUE=DATE:20260324
DTEND;VALUE=DATE:20260401
DTSTAMP:20260421T181157
CREATED:20250202T152244Z
LAST-MODIFIED:20250202T152244Z
UID:10000900-1774310400-1775001599@riverartsalliance.org
SUMMARY:Frozen River Film Festival Celebrates 20 Years with New Film Series
DESCRIPTION:frff.eventive.org \nThis year the Frozen River Film Festival (FRFF) will be celebrating 20 years of bringing documentary films and filmmakers to Winona. The festival begins Sunday\, February 9\, (You can still get home in time to watch the Super Bowl!) and runs through Sunday\, February 16. This year’s event will feature the World Premiere of FRFF’s self-produced documentary\, Beneath the Ice: The Frozen River Film Festival Story. Learn more.
URL:https://riverartsalliance.org/event/frozen-river-film-festival-celebrates-20-years-with-new-film-series/2026-03-24/
LOCATION:MN
END:VEVENT
BEGIN:VEVENT
DTSTART;TZID=America/Chicago:20260323T180000
DTEND;TZID=America/Chicago:20260323T210000
DTSTAMP:20260421T181157
CREATED:20250822T141537Z
LAST-MODIFIED:20250822T141537Z
UID:10001784-1774288800-1774299600@riverartsalliance.org
SUMMARY:Call to Artists: Between the Bluffs Plein Air
DESCRIPTION:Demonstrations: Sat. Oct 11\ 9 – Noon\nShow: Oct 17\, 18\, 19 \nBetweenthebluffs.com \nColleen Shore is a member of the River Arts Alliance. To learn more about the benefits of membership\, please visit: riverartsalliance.org/membership/.
URL:https://riverartsalliance.org/event/call-to-artists-between-the-bluffs-plein-air/2026-03-23/
LOCATION:MN
ATTACH;FMTTYPE=image/png:https://riverartsalliance.org/wp-content/uploads/2025/08/Between-the-Bluffs-call-to-artists-1-1-1.png
END:VEVENT
BEGIN:VEVENT
DTSTART;VALUE=DATE:20260323
DTEND;VALUE=DATE:20260331
DTSTAMP:20260421T181157
CREATED:20250202T152244Z
LAST-MODIFIED:20250202T152244Z
UID:10000899-1774224000-1774915199@riverartsalliance.org
SUMMARY:Frozen River Film Festival Celebrates 20 Years with New Film Series
DESCRIPTION:frff.eventive.org \nThis year the Frozen River Film Festival (FRFF) will be celebrating 20 years of bringing documentary films and filmmakers to Winona. The festival begins Sunday\, February 9\, (You can still get home in time to watch the Super Bowl!) and runs through Sunday\, February 16. This year’s event will feature the World Premiere of FRFF’s self-produced documentary\, Beneath the Ice: The Frozen River Film Festival Story. Learn more.
URL:https://riverartsalliance.org/event/frozen-river-film-festival-celebrates-20-years-with-new-film-series/2026-03-23/
LOCATION:MN
END:VEVENT
BEGIN:VEVENT
DTSTART;TZID=America/Chicago:20260322T180000
DTEND;TZID=America/Chicago:20260322T210000
DTSTAMP:20260421T181157
CREATED:20250822T141537Z
LAST-MODIFIED:20250822T141537Z
UID:10001783-1774202400-1774213200@riverartsalliance.org
SUMMARY:Call to Artists: Between the Bluffs Plein Air
DESCRIPTION:Demonstrations: Sat. Oct 11\ 9 – Noon\nShow: Oct 17\, 18\, 19 \nBetweenthebluffs.com \nColleen Shore is a member of the River Arts Alliance. To learn more about the benefits of membership\, please visit: riverartsalliance.org/membership/.
URL:https://riverartsalliance.org/event/call-to-artists-between-the-bluffs-plein-air/2026-03-22/
LOCATION:MN
ATTACH;FMTTYPE=image/png:https://riverartsalliance.org/wp-content/uploads/2025/08/Between-the-Bluffs-call-to-artists-1-1-1.png
END:VEVENT
BEGIN:VEVENT
DTSTART;TZID=America/Chicago:20260322T140000
DTEND;TZID=America/Chicago:20260322T160000
DTSTAMP:20260421T181157
CREATED:20260224T190515Z
LAST-MODIFIED:20260224T190515Z
UID:10001194-1774188000-1774195200@riverartsalliance.org
SUMMARY:Original One Acts 2026
DESCRIPTION:This compilation of plays offers audiences a dynamic theatrical experience that is both entertaining and thought-provoking. Through humor\, satire\, and emotional depth\, the plays create space for laughter alongside difficult conversations about disability\, grief\, bodily autonomy\, gun culture\, faith\, aging\, and second chances. Each story invites viewers to see the world through perspectives they may not share\, fostering empathy and reflection without sacrificing wit or theatrical imagination. Because the pieces range in tone (from intimate and personal to satirical) they keep audiences engaged while encouraging them to examine their own assumptions about identity\, connection\, and responsibility. This showcase offers compelling storytelling and the opportunity to join in meaningful dialogue after the show!
URL:https://riverartsalliance.org/event/original-one-acts-2026/2026-03-22/
LOCATION:The ARC\, 255 Main St.\, Winona\, MN\, 55987\, United States
END:VEVENT
BEGIN:VEVENT
DTSTART;TZID=America/Chicago:20260322T130000
DTEND;TZID=America/Chicago:20260426T160000
DTSTAMP:20260421T181157
CREATED:20260315T140047Z
LAST-MODIFIED:20260315T132619Z
UID:10001928-1774184400-1777219200@riverartsalliance.org
SUMMARY:Climate Sensitive Birds of Southeast Minnesota
DESCRIPTION:Climate Sensitive Birds of Southeast Minnesota\, an exhibition featuring the work of Barbara Schwenk.
URL:https://riverartsalliance.org/event/climate-sensitive-birds-of-southeast-minnesota/
LOCATION:Winona Arts Center\, 228 E 5th St.\, Winona\, MN\, 55987\, United States
ATTACH;FMTTYPE=image/jpeg:https://riverartsalliance.org/wp-content/uploads/2026/03/Baltimore-Oriole-600px.jpg
END:VEVENT
BEGIN:VEVENT
DTSTART;VALUE=DATE:20260322
DTEND;VALUE=DATE:20260330
DTSTAMP:20260421T181157
CREATED:20250202T152244Z
LAST-MODIFIED:20250202T152244Z
UID:10000898-1774137600-1774828799@riverartsalliance.org
SUMMARY:Frozen River Film Festival Celebrates 20 Years with New Film Series
DESCRIPTION:frff.eventive.org \nThis year the Frozen River Film Festival (FRFF) will be celebrating 20 years of bringing documentary films and filmmakers to Winona. The festival begins Sunday\, February 9\, (You can still get home in time to watch the Super Bowl!) and runs through Sunday\, February 16. This year’s event will feature the World Premiere of FRFF’s self-produced documentary\, Beneath the Ice: The Frozen River Film Festival Story. Learn more.
URL:https://riverartsalliance.org/event/frozen-river-film-festival-celebrates-20-years-with-new-film-series/2026-03-22/
LOCATION:MN
END:VEVENT
BEGIN:VEVENT
DTSTART;TZID=America/Chicago:20260321T193000
DTEND;TZID=America/Chicago:20260321T220000
DTSTAMP:20260421T181157
CREATED:20260217T150030Z
LAST-MODIFIED:20260217T011011Z
UID:10001177-1774121400-1774130400@riverartsalliance.org
SUMMARY:BFF | Commonweal Theatre Company
DESCRIPTION:Best friends Lauren and Eliza are at the cusp of maturity in 1991 as they dream about their future and prepare to navigate high school. Moving together and growing apart\, their shifting priorities begin to put a strain on their relationship. In 2005\, a now grown-up Lauren cautiously enters a new relationship and finds it harder to escape her ghosts and move on when life feels frozen in time. “It shimmers with lyricism\, gently wit\, and a good deal of wisdom…–NYTheatre.” \nFind more here.
URL:https://riverartsalliance.org/event/bff-commonweal-theatre-company/2026-03-21/
LOCATION:Commonweal Theatre\, 208 Parkway Ave. N\, Lanesboro\, MN\, United States
END:VEVENT
BEGIN:VEVENT
DTSTART;TZID=America/Chicago:20260321T190000
DTEND;TZID=America/Chicago:20260321T210000
DTSTAMP:20260421T181157
CREATED:20260224T190515Z
LAST-MODIFIED:20260224T190515Z
UID:10001193-1774119600-1774126800@riverartsalliance.org
SUMMARY:Original One Acts 2026
DESCRIPTION:This compilation of plays offers audiences a dynamic theatrical experience that is both entertaining and thought-provoking. Through humor\, satire\, and emotional depth\, the plays create space for laughter alongside difficult conversations about disability\, grief\, bodily autonomy\, gun culture\, faith\, aging\, and second chances. Each story invites viewers to see the world through perspectives they may not share\, fostering empathy and reflection without sacrificing wit or theatrical imagination. Because the pieces range in tone (from intimate and personal to satirical) they keep audiences engaged while encouraging them to examine their own assumptions about identity\, connection\, and responsibility. This showcase offers compelling storytelling and the opportunity to join in meaningful dialogue after the show!
URL:https://riverartsalliance.org/event/original-one-acts-2026/2026-03-21/
LOCATION:The ARC\, 255 Main St.\, Winona\, MN\, 55987\, United States
END:VEVENT
BEGIN:VEVENT
DTSTART;TZID=America/Chicago:20260321T180000
DTEND;TZID=America/Chicago:20260321T210000
DTSTAMP:20260421T181157
CREATED:20260227T150015Z
LAST-MODIFIED:20260226T042819Z
UID:10001922-1774116000-1774126800@riverartsalliance.org
SUMMARY:Patina Concert | CD Release Party
DESCRIPTION:Patina CD Release Party & St Patty’s Day Celebration March 21 Tickets $10/adv at Music Mart & Eventbrite & $15/door
URL:https://riverartsalliance.org/event/patina-concert-cd-release-party/
LOCATION:Winona Arts Center\, 228 E. 5th St.\, Winona
END:VEVENT
BEGIN:VEVENT
DTSTART;TZID=America/Chicago:20260321T180000
DTEND;TZID=America/Chicago:20260321T210000
DTSTAMP:20260421T181157
CREATED:20250822T141537Z
LAST-MODIFIED:20250822T141537Z
UID:10001782-1774116000-1774126800@riverartsalliance.org
SUMMARY:Call to Artists: Between the Bluffs Plein Air
DESCRIPTION:Demonstrations: Sat. Oct 11\ 9 – Noon\nShow: Oct 17\, 18\, 19 \nBetweenthebluffs.com \nColleen Shore is a member of the River Arts Alliance. To learn more about the benefits of membership\, please visit: riverartsalliance.org/membership/.
URL:https://riverartsalliance.org/event/call-to-artists-between-the-bluffs-plein-air/2026-03-21/
LOCATION:MN
ATTACH;FMTTYPE=image/png:https://riverartsalliance.org/wp-content/uploads/2025/08/Between-the-Bluffs-call-to-artists-1-1-1.png
END:VEVENT
BEGIN:VEVENT
DTSTART;TZID=America/Chicago:20260321T170000
DTEND;TZID=America/Chicago:20260321T203000
DTSTAMP:20260421T181157
CREATED:20260218T150047Z
LAST-MODIFIED:20260217T235354Z
UID:10001178-1774112400-1774125000@riverartsalliance.org
SUMMARY:Symphony on Wheels | Winona Symphony Orchestra
DESCRIPTION:Symphony on Wheels~ A Fundraiser Supporting the Education outreach of WSO. \nRemlinger Collector Car Museum \nSilent Auction\, Live Music from WSO Musicians\, Buffet Dinner from Chef’s Table\, Museum Tours \n$85/person\n$500 Table of 6 \n 
URL:https://riverartsalliance.org/event/symphony-on-wheels-winona-symphony-orchestra/
LOCATION:Remlinger Collector Car Museum\, 3560 Service Dr\, Winona\, MN\, 55987\, United States
END:VEVENT
BEGIN:VEVENT
DTSTART;TZID=America/Chicago:20260321T130000
DTEND;TZID=America/Chicago:20260321T143000
DTSTAMP:20260421T181157
CREATED:20260307T150013Z
LAST-MODIFIED:20260305T175056Z
UID:10001926-1774098000-1774103400@riverartsalliance.org
SUMMARY:Steve Schild Presents Railroad Art
DESCRIPTION:The Winona Arts Center\, 228 E 5th St\, welcomes home long time photographer and resident\, Steve Schild\, who will be presenting: Railroad Art on March 21 from 1:00-2:30. Drawings on railroad cars are called monikers\, and they vary in style\, size and every other aspect of the visual arts. Sometimes funny\, sometimes dead serious\, they always have something to show and say. Steve Schild\, emeritus Saint Mary’s University faculty\, will present and discuss examples of railroad monikers he’s photographed in and around Winona.
URL:https://riverartsalliance.org/event/steve-schild-presents-railroad-art/
LOCATION:Winona Arts Center\, 228 E 5th St.\, Winona\, MN\, 55987\, United States
END:VEVENT
BEGIN:VEVENT
DTSTART;TZID=America/Chicago:20260321T123000
DTEND;TZID=America/Chicago:20260321T160000
DTSTAMP:20260421T181157
CREATED:20260225T190030Z
LAST-MODIFIED:20260225T165041Z
UID:10001921-1774096200-1774108800@riverartsalliance.org
SUMMARY:Ukrainian Egg Decorating with Jane Bangsberg
DESCRIPTION:Join us at the Winona Arts Center on March 21\, 2026 from 12:30pm to 4pm for Ukrainian Egg Decorating with Jane Bangsberg. You will create beautiful heirloom eggs using a wax resist method very similar to batik. Students will leave class with finished eggs and all of the supplies needed to decorate more eggs at home. Class Fee is $50 for Members and $55 for Non-Members. All materials included. Adult Class. No experience necessary. For more information and to register contact Jen at jsbenson50+WAC@gmail.com.
URL:https://riverartsalliance.org/event/ukrainian-egg-decorating-with-jane-bangsberg/
LOCATION:Winona Arts Center\, 228 E 5th St.\, Winona\, MN\, 55987\, United States
END:VEVENT
BEGIN:VEVENT
DTSTART;TZID=America/Chicago:20260321T090000
DTEND;TZID=America/Chicago:20260321T140000
DTSTAMP:20260421T181157
CREATED:20260316T003657Z
LAST-MODIFIED:20260316T003657Z
UID:10001933-1774083600-1774101600@riverartsalliance.org
SUMMARY:MMAM Sustainability Workshop
DESCRIPTION:The Minnesota Marine Art Museum (MMAM) will host two events on March 20-21\, 2026 that will explore the intersection of art\, climate science\, and freshwater sustainability. Both events will feature artist Tali Weinberg\, whose work is currently on view at MMAM in the exhibition Water | Craft.
URL:https://riverartsalliance.org/event/mmam-sustainability-workshop/2026-03-21/
LOCATION:Minnesota Marine Art Museum\, 800 Riverview Dr.\, Winona\, MN\, 55987\, United States
ATTACH;FMTTYPE=image/jpeg:https://riverartsalliance.org/wp-content/uploads/2026/03/Untitled-design.jpg
END:VEVENT
BEGIN:VEVENT
DTSTART;TZID=America/Chicago:20260321T083000
DTEND;TZID=America/Chicago:20260321T170000
DTSTAMP:20260421T181157
CREATED:20260316T004104Z
LAST-MODIFIED:20260316T004104Z
UID:10001935-1774081800-1774112400@riverartsalliance.org
SUMMARY:MMAM Sustainability Conference
DESCRIPTION:The Minnesota Marine Art Museum (MMAM) will host two events on March 20-21\, 2026 that will explore the intersection of art\, climate science\, and freshwater sustainability. Both events will feature artist Tali Weinberg\, whose work is currently on view at MMAM in the exhibition Water | Craft.
URL:https://riverartsalliance.org/event/mmam-sustainability-conference/2026-03-21/
LOCATION:Minnesota Marine Art Museum\, 800 Riverview Dr.\, Winona\, MN\, 55987\, United States
ATTACH;FMTTYPE=image/jpeg:https://riverartsalliance.org/wp-content/uploads/2026/03/Untitled-design.jpg
END:VEVENT
BEGIN:VEVENT
DTSTART;VALUE=DATE:20260321
DTEND;VALUE=DATE:20260329
DTSTAMP:20260421T181157
CREATED:20250202T152244Z
LAST-MODIFIED:20250202T152244Z
UID:10000897-1774051200-1774742399@riverartsalliance.org
SUMMARY:Frozen River Film Festival Celebrates 20 Years with New Film Series
DESCRIPTION:frff.eventive.org \nThis year the Frozen River Film Festival (FRFF) will be celebrating 20 years of bringing documentary films and filmmakers to Winona. The festival begins Sunday\, February 9\, (You can still get home in time to watch the Super Bowl!) and runs through Sunday\, February 16. This year’s event will feature the World Premiere of FRFF’s self-produced documentary\, Beneath the Ice: The Frozen River Film Festival Story. Learn more.
URL:https://riverartsalliance.org/event/frozen-river-film-festival-celebrates-20-years-with-new-film-series/2026-03-21/
LOCATION:MN
END:VEVENT
BEGIN:VEVENT
DTSTART;TZID=America/Chicago:20260320T193000
DTEND;TZID=America/Chicago:20260320T220000
DTSTAMP:20260421T181157
CREATED:20260217T150030Z
LAST-MODIFIED:20260217T011011Z
UID:10001176-1774035000-1774044000@riverartsalliance.org
SUMMARY:BFF | Commonweal Theatre Company
DESCRIPTION:Best friends Lauren and Eliza are at the cusp of maturity in 1991 as they dream about their future and prepare to navigate high school. Moving together and growing apart\, their shifting priorities begin to put a strain on their relationship. In 2005\, a now grown-up Lauren cautiously enters a new relationship and finds it harder to escape her ghosts and move on when life feels frozen in time. “It shimmers with lyricism\, gently wit\, and a good deal of wisdom…–NYTheatre.” \nFind more here.
URL:https://riverartsalliance.org/event/bff-commonweal-theatre-company/2026-03-20/
LOCATION:Commonweal Theatre\, 208 Parkway Ave. N\, Lanesboro\, MN\, United States
END:VEVENT
BEGIN:VEVENT
DTSTART;TZID=America/Chicago:20260320T190000
DTEND;TZID=America/Chicago:20260320T210000
DTSTAMP:20260421T181157
CREATED:20260224T190515Z
LAST-MODIFIED:20260224T190515Z
UID:10001192-1774033200-1774040400@riverartsalliance.org
SUMMARY:Original One Acts 2026
DESCRIPTION:This compilation of plays offers audiences a dynamic theatrical experience that is both entertaining and thought-provoking. Through humor\, satire\, and emotional depth\, the plays create space for laughter alongside difficult conversations about disability\, grief\, bodily autonomy\, gun culture\, faith\, aging\, and second chances. Each story invites viewers to see the world through perspectives they may not share\, fostering empathy and reflection without sacrificing wit or theatrical imagination. Because the pieces range in tone (from intimate and personal to satirical) they keep audiences engaged while encouraging them to examine their own assumptions about identity\, connection\, and responsibility. This showcase offers compelling storytelling and the opportunity to join in meaningful dialogue after the show!
URL:https://riverartsalliance.org/event/original-one-acts-2026/2026-03-20/
LOCATION:The ARC\, 255 Main St.\, Winona\, MN\, 55987\, United States
END:VEVENT
BEGIN:VEVENT
DTSTART;TZID=America/Chicago:20260320T180000
DTEND;TZID=America/Chicago:20260320T210000
DTSTAMP:20260421T181157
CREATED:20250822T141537Z
LAST-MODIFIED:20250822T141537Z
UID:10001781-1774029600-1774040400@riverartsalliance.org
SUMMARY:Call to Artists: Between the Bluffs Plein Air
DESCRIPTION:Demonstrations: Sat. Oct 11\ 9 – Noon\nShow: Oct 17\, 18\, 19 \nBetweenthebluffs.com \nColleen Shore is a member of the River Arts Alliance. To learn more about the benefits of membership\, please visit: riverartsalliance.org/membership/.
URL:https://riverartsalliance.org/event/call-to-artists-between-the-bluffs-plein-air/2026-03-20/
LOCATION:MN
ATTACH;FMTTYPE=image/png:https://riverartsalliance.org/wp-content/uploads/2025/08/Between-the-Bluffs-call-to-artists-1-1-1.png
END:VEVENT
BEGIN:VEVENT
DTSTART;TZID=America/Chicago:20260320T173000
DTEND;TZID=America/Chicago:20260320T190000
DTSTAMP:20260421T181157
CREATED:20260316T004104Z
LAST-MODIFIED:20260316T004104Z
UID:10001934-1774027800-1774033200@riverartsalliance.org
SUMMARY:MMAM Sustainability Conference
DESCRIPTION:The Minnesota Marine Art Museum (MMAM) will host two events on March 20-21\, 2026 that will explore the intersection of art\, climate science\, and freshwater sustainability. Both events will feature artist Tali Weinberg\, whose work is currently on view at MMAM in the exhibition Water | Craft.
URL:https://riverartsalliance.org/event/mmam-sustainability-conference/2026-03-20/
LOCATION:Minnesota Marine Art Museum\, 800 Riverview Dr.\, Winona\, MN\, 55987\, United States
ATTACH;FMTTYPE=image/jpeg:https://riverartsalliance.org/wp-content/uploads/2026/03/Untitled-design.jpg
END:VEVENT
BEGIN:VEVENT
DTSTART;TZID=America/Chicago:20260320T090000
DTEND;TZID=America/Chicago:20260320T160000
DTSTAMP:20260421T181157
CREATED:20260225T164021Z
LAST-MODIFIED:20260225T164021Z
UID:10001920-1773997200-1774022400@riverartsalliance.org
SUMMARY:Pastel Painting Workshop
DESCRIPTION:Mississippi Mornings Art Studio presents “The Pleasure of Pastel Painting” with Pastel Artist Betsy Midthun\, March 19th and 20th\, 2026\, 9:00 AM – 4:00 PM each day. Pastel painting is an immensely satisfying medium and ideal for beginners. Whether you’re a beginner\, or have some experience with pastels\, after a brief introduction to materials\, you’ll be painting a still life and landscapes. Betsy is an enthusiastic\, engaged instructor who generously provides many of the supplies and tools needed for this class\, allowing students to “experience” pastel painting before making a large investment.
URL:https://riverartsalliance.org/event/pastel-painting-workshop/2026-03-20/
LOCATION:Mississippi Mornings Art Studio\, 40341 Lamoille Dr.\, Winona\, MN\, 55987\, United States
END:VEVENT
END:VCALENDAR