BEGIN:VCALENDAR
VERSION:2.0
PRODID:-//River Arts Alliance - ECPv6.15.20//NONSGML v1.0//EN
CALSCALE:GREGORIAN
METHOD:PUBLISH
X-WR-CALNAME:River Arts Alliance
X-ORIGINAL-URL:https://riverartsalliance.org
X-WR-CALDESC:Events for River Arts Alliance
REFRESH-INTERVAL;VALUE=DURATION:PT1H
X-Robots-Tag:noindex
X-PUBLISHED-TTL:PT1H
BEGIN:VTIMEZONE
TZID:America/Chicago
BEGIN:DAYLIGHT
TZOFFSETFROM:-0600
TZOFFSETTO:-0500
TZNAME:CDT
DTSTART:20250309T080000
END:DAYLIGHT
BEGIN:STANDARD
TZOFFSETFROM:-0500
TZOFFSETTO:-0600
TZNAME:CST
DTSTART:20251102T070000
END:STANDARD
BEGIN:DAYLIGHT
TZOFFSETFROM:-0600
TZOFFSETTO:-0500
TZNAME:CDT
DTSTART:20260308T080000
END:DAYLIGHT
BEGIN:STANDARD
TZOFFSETFROM:-0500
TZOFFSETTO:-0600
TZNAME:CST
DTSTART:20261101T070000
END:STANDARD
BEGIN:DAYLIGHT
TZOFFSETFROM:-0600
TZOFFSETTO:-0500
TZNAME:CDT
DTSTART:20270314T080000
END:DAYLIGHT
BEGIN:STANDARD
TZOFFSETFROM:-0500
TZOFFSETTO:-0600
TZNAME:CST
DTSTART:20271107T070000
END:STANDARD
END:VTIMEZONE
BEGIN:VEVENT
DTSTART;TZID=America/Chicago:20260320T090000
DTEND;TZID=America/Chicago:20260320T160000
DTSTAMP:20260421T213138
CREATED:20260225T164021Z
LAST-MODIFIED:20260225T164021Z
UID:10001920-1773997200-1774022400@riverartsalliance.org
SUMMARY:Pastel Painting Workshop
DESCRIPTION:Mississippi Mornings Art Studio presents “The Pleasure of Pastel Painting” with Pastel Artist Betsy Midthun\, March 19th and 20th\, 2026\, 9:00 AM – 4:00 PM each day. Pastel painting is an immensely satisfying medium and ideal for beginners. Whether you’re a beginner\, or have some experience with pastels\, after a brief introduction to materials\, you’ll be painting a still life and landscapes. Betsy is an enthusiastic\, engaged instructor who generously provides many of the supplies and tools needed for this class\, allowing students to “experience” pastel painting before making a large investment.
URL:https://riverartsalliance.org/event/pastel-painting-workshop/2026-03-20/
LOCATION:Mississippi Mornings Art Studio\, 40341 Lamoille Dr.\, Winona\, MN\, 55987\, United States
END:VEVENT
BEGIN:VEVENT
DTSTART;TZID=America/Chicago:20260320T090000
DTEND;TZID=America/Chicago:20260320T140000
DTSTAMP:20260421T213138
CREATED:20260316T003657Z
LAST-MODIFIED:20260316T003657Z
UID:10001932-1773997200-1774015200@riverartsalliance.org
SUMMARY:MMAM Sustainability Workshop
DESCRIPTION:The Minnesota Marine Art Museum (MMAM) will host two events on March 20-21\, 2026 that will explore the intersection of art\, climate science\, and freshwater sustainability. Both events will feature artist Tali Weinberg\, whose work is currently on view at MMAM in the exhibition Water | Craft.
URL:https://riverartsalliance.org/event/mmam-sustainability-workshop/2026-03-20/
LOCATION:Minnesota Marine Art Museum\, 800 Riverview Dr.\, Winona\, MN\, 55987\, United States
ATTACH;FMTTYPE=image/jpeg:https://riverartsalliance.org/wp-content/uploads/2026/03/Untitled-design.jpg
END:VEVENT
BEGIN:VEVENT
DTSTART;VALUE=DATE:20260320
DTEND;VALUE=DATE:20260328
DTSTAMP:20260421T213138
CREATED:20250202T152244Z
LAST-MODIFIED:20250202T152244Z
UID:10000896-1773964800-1774655999@riverartsalliance.org
SUMMARY:Frozen River Film Festival Celebrates 20 Years with New Film Series
DESCRIPTION:frff.eventive.org \nThis year the Frozen River Film Festival (FRFF) will be celebrating 20 years of bringing documentary films and filmmakers to Winona. The festival begins Sunday\, February 9\, (You can still get home in time to watch the Super Bowl!) and runs through Sunday\, February 16. This year’s event will feature the World Premiere of FRFF’s self-produced documentary\, Beneath the Ice: The Frozen River Film Festival Story. Learn more.
URL:https://riverartsalliance.org/event/frozen-river-film-festival-celebrates-20-years-with-new-film-series/2026-03-20/
LOCATION:MN
END:VEVENT
BEGIN:VEVENT
DTSTART;TZID=America/Chicago:20260319T190000
DTEND;TZID=America/Chicago:20260319T210000
DTSTAMP:20260421T213138
CREATED:20260224T190515Z
LAST-MODIFIED:20260224T190515Z
UID:10001191-1773946800-1773954000@riverartsalliance.org
SUMMARY:Original One Acts 2026
DESCRIPTION:This compilation of plays offers audiences a dynamic theatrical experience that is both entertaining and thought-provoking. Through humor\, satire\, and emotional depth\, the plays create space for laughter alongside difficult conversations about disability\, grief\, bodily autonomy\, gun culture\, faith\, aging\, and second chances. Each story invites viewers to see the world through perspectives they may not share\, fostering empathy and reflection without sacrificing wit or theatrical imagination. Because the pieces range in tone (from intimate and personal to satirical) they keep audiences engaged while encouraging them to examine their own assumptions about identity\, connection\, and responsibility. This showcase offers compelling storytelling and the opportunity to join in meaningful dialogue after the show!
URL:https://riverartsalliance.org/event/original-one-acts-2026/2026-03-19/
LOCATION:The ARC\, 255 Main St.\, Winona\, MN\, 55987\, United States
END:VEVENT
BEGIN:VEVENT
DTSTART;TZID=America/Chicago:20260319T180000
DTEND;TZID=America/Chicago:20260319T210000
DTSTAMP:20260421T213138
CREATED:20250822T141537Z
LAST-MODIFIED:20250822T141537Z
UID:10001780-1773943200-1773954000@riverartsalliance.org
SUMMARY:Call to Artists: Between the Bluffs Plein Air
DESCRIPTION:Demonstrations: Sat. Oct 11\ 9 – Noon\nShow: Oct 17\, 18\, 19 \nBetweenthebluffs.com \nColleen Shore is a member of the River Arts Alliance. To learn more about the benefits of membership\, please visit: riverartsalliance.org/membership/.
URL:https://riverartsalliance.org/event/call-to-artists-between-the-bluffs-plein-air/2026-03-19/
LOCATION:MN
ATTACH;FMTTYPE=image/png:https://riverartsalliance.org/wp-content/uploads/2025/08/Between-the-Bluffs-call-to-artists-1-1-1.png
END:VEVENT
BEGIN:VEVENT
DTSTART;TZID=America/Chicago:20260319T090000
DTEND;TZID=America/Chicago:20260319T160000
DTSTAMP:20260421T213138
CREATED:20260225T164021Z
LAST-MODIFIED:20260225T164021Z
UID:10001919-1773910800-1773936000@riverartsalliance.org
SUMMARY:Pastel Painting Workshop
DESCRIPTION:Mississippi Mornings Art Studio presents “The Pleasure of Pastel Painting” with Pastel Artist Betsy Midthun\, March 19th and 20th\, 2026\, 9:00 AM – 4:00 PM each day. Pastel painting is an immensely satisfying medium and ideal for beginners. Whether you’re a beginner\, or have some experience with pastels\, after a brief introduction to materials\, you’ll be painting a still life and landscapes. Betsy is an enthusiastic\, engaged instructor who generously provides many of the supplies and tools needed for this class\, allowing students to “experience” pastel painting before making a large investment.
URL:https://riverartsalliance.org/event/pastel-painting-workshop/2026-03-19/
LOCATION:Mississippi Mornings Art Studio\, 40341 Lamoille Dr.\, Winona\, MN\, 55987\, United States
END:VEVENT
BEGIN:VEVENT
DTSTART;VALUE=DATE:20260319
DTEND;VALUE=DATE:20260327
DTSTAMP:20260421T213138
CREATED:20250202T152244Z
LAST-MODIFIED:20250202T152244Z
UID:10000895-1773878400-1774569599@riverartsalliance.org
SUMMARY:Frozen River Film Festival Celebrates 20 Years with New Film Series
DESCRIPTION:frff.eventive.org \nThis year the Frozen River Film Festival (FRFF) will be celebrating 20 years of bringing documentary films and filmmakers to Winona. The festival begins Sunday\, February 9\, (You can still get home in time to watch the Super Bowl!) and runs through Sunday\, February 16. This year’s event will feature the World Premiere of FRFF’s self-produced documentary\, Beneath the Ice: The Frozen River Film Festival Story. Learn more.
URL:https://riverartsalliance.org/event/frozen-river-film-festival-celebrates-20-years-with-new-film-series/2026-03-19/
LOCATION:MN
END:VEVENT
BEGIN:VEVENT
DTSTART;TZID=America/Chicago:20260318T180000
DTEND;TZID=America/Chicago:20260318T210000
DTSTAMP:20260421T213138
CREATED:20250822T141537Z
LAST-MODIFIED:20250822T141537Z
UID:10001779-1773856800-1773867600@riverartsalliance.org
SUMMARY:Call to Artists: Between the Bluffs Plein Air
DESCRIPTION:Demonstrations: Sat. Oct 11\ 9 – Noon\nShow: Oct 17\, 18\, 19 \nBetweenthebluffs.com \nColleen Shore is a member of the River Arts Alliance. To learn more about the benefits of membership\, please visit: riverartsalliance.org/membership/.
URL:https://riverartsalliance.org/event/call-to-artists-between-the-bluffs-plein-air/2026-03-18/
LOCATION:MN
ATTACH;FMTTYPE=image/png:https://riverartsalliance.org/wp-content/uploads/2025/08/Between-the-Bluffs-call-to-artists-1-1-1.png
END:VEVENT
BEGIN:VEVENT
DTSTART;VALUE=DATE:20260318
DTEND;VALUE=DATE:20260326
DTSTAMP:20260421T213138
CREATED:20250202T152244Z
LAST-MODIFIED:20250202T152244Z
UID:10000894-1773792000-1774483199@riverartsalliance.org
SUMMARY:Frozen River Film Festival Celebrates 20 Years with New Film Series
DESCRIPTION:frff.eventive.org \nThis year the Frozen River Film Festival (FRFF) will be celebrating 20 years of bringing documentary films and filmmakers to Winona. The festival begins Sunday\, February 9\, (You can still get home in time to watch the Super Bowl!) and runs through Sunday\, February 16. This year’s event will feature the World Premiere of FRFF’s self-produced documentary\, Beneath the Ice: The Frozen River Film Festival Story. Learn more.
URL:https://riverartsalliance.org/event/frozen-river-film-festival-celebrates-20-years-with-new-film-series/2026-03-18/
LOCATION:MN
END:VEVENT
BEGIN:VEVENT
DTSTART;TZID=America/Chicago:20260317T180000
DTEND;TZID=America/Chicago:20260317T210000
DTSTAMP:20260421T213138
CREATED:20250822T141537Z
LAST-MODIFIED:20250822T141537Z
UID:10001778-1773770400-1773781200@riverartsalliance.org
SUMMARY:Call to Artists: Between the Bluffs Plein Air
DESCRIPTION:Demonstrations: Sat. Oct 11\ 9 – Noon\nShow: Oct 17\, 18\, 19 \nBetweenthebluffs.com \nColleen Shore is a member of the River Arts Alliance. To learn more about the benefits of membership\, please visit: riverartsalliance.org/membership/.
URL:https://riverartsalliance.org/event/call-to-artists-between-the-bluffs-plein-air/2026-03-17/
LOCATION:MN
ATTACH;FMTTYPE=image/png:https://riverartsalliance.org/wp-content/uploads/2025/08/Between-the-Bluffs-call-to-artists-1-1-1.png
END:VEVENT
BEGIN:VEVENT
DTSTART;VALUE=DATE:20260317
DTEND;VALUE=DATE:20260325
DTSTAMP:20260421T213138
CREATED:20250202T152244Z
LAST-MODIFIED:20250202T152244Z
UID:10000893-1773705600-1774396799@riverartsalliance.org
SUMMARY:Frozen River Film Festival Celebrates 20 Years with New Film Series
DESCRIPTION:frff.eventive.org \nThis year the Frozen River Film Festival (FRFF) will be celebrating 20 years of bringing documentary films and filmmakers to Winona. The festival begins Sunday\, February 9\, (You can still get home in time to watch the Super Bowl!) and runs through Sunday\, February 16. This year’s event will feature the World Premiere of FRFF’s self-produced documentary\, Beneath the Ice: The Frozen River Film Festival Story. Learn more.
URL:https://riverartsalliance.org/event/frozen-river-film-festival-celebrates-20-years-with-new-film-series/2026-03-17/
LOCATION:MN
END:VEVENT
BEGIN:VEVENT
DTSTART;TZID=America/Chicago:20260316T180000
DTEND;TZID=America/Chicago:20260316T210000
DTSTAMP:20260421T213138
CREATED:20250822T141537Z
LAST-MODIFIED:20250822T141537Z
UID:10001777-1773684000-1773694800@riverartsalliance.org
SUMMARY:Call to Artists: Between the Bluffs Plein Air
DESCRIPTION:Demonstrations: Sat. Oct 11\ 9 – Noon\nShow: Oct 17\, 18\, 19 \nBetweenthebluffs.com \nColleen Shore is a member of the River Arts Alliance. To learn more about the benefits of membership\, please visit: riverartsalliance.org/membership/.
URL:https://riverartsalliance.org/event/call-to-artists-between-the-bluffs-plein-air/2026-03-16/
LOCATION:MN
ATTACH;FMTTYPE=image/png:https://riverartsalliance.org/wp-content/uploads/2025/08/Between-the-Bluffs-call-to-artists-1-1-1.png
END:VEVENT
BEGIN:VEVENT
DTSTART;VALUE=DATE:20260316
DTEND;VALUE=DATE:20260324
DTSTAMP:20260421T213138
CREATED:20250202T152244Z
LAST-MODIFIED:20250202T152244Z
UID:10000892-1773619200-1774310399@riverartsalliance.org
SUMMARY:Frozen River Film Festival Celebrates 20 Years with New Film Series
DESCRIPTION:frff.eventive.org \nThis year the Frozen River Film Festival (FRFF) will be celebrating 20 years of bringing documentary films and filmmakers to Winona. The festival begins Sunday\, February 9\, (You can still get home in time to watch the Super Bowl!) and runs through Sunday\, February 16. This year’s event will feature the World Premiere of FRFF’s self-produced documentary\, Beneath the Ice: The Frozen River Film Festival Story. Learn more.
URL:https://riverartsalliance.org/event/frozen-river-film-festival-celebrates-20-years-with-new-film-series/2026-03-16/
LOCATION:MN
END:VEVENT
BEGIN:VEVENT
DTSTART;TZID=America/Chicago:20260315T180000
DTEND;TZID=America/Chicago:20260315T210000
DTSTAMP:20260421T213138
CREATED:20250822T141537Z
LAST-MODIFIED:20250822T141537Z
UID:10001776-1773597600-1773608400@riverartsalliance.org
SUMMARY:Call to Artists: Between the Bluffs Plein Air
DESCRIPTION:Demonstrations: Sat. Oct 11\ 9 – Noon\nShow: Oct 17\, 18\, 19 \nBetweenthebluffs.com \nColleen Shore is a member of the River Arts Alliance. To learn more about the benefits of membership\, please visit: riverartsalliance.org/membership/.
URL:https://riverartsalliance.org/event/call-to-artists-between-the-bluffs-plein-air/2026-03-15/
LOCATION:MN
ATTACH;FMTTYPE=image/png:https://riverartsalliance.org/wp-content/uploads/2025/08/Between-the-Bluffs-call-to-artists-1-1-1.png
END:VEVENT
BEGIN:VEVENT
DTSTART;TZID=America/Chicago:20260315T143000
DTEND;TZID=America/Chicago:20260315T173000
DTSTAMP:20260421T213138
CREATED:20260307T223729Z
LAST-MODIFIED:20260307T223729Z
UID:10001927-1773585000-1773595800@riverartsalliance.org
SUMMARY:March Jazz Jam Supports WIFA
DESCRIPTION:As a group of local students prepare to visit Winona’s sister city\, Misato\, Japan\, the monthly Jazz Jam on Sunday March 15\, 2026\, from 2:30 to 5:30 pm will support the Winona International Friendship Association (WIFA).
URL:https://riverartsalliance.org/event/march-jazz-jam-supports-wifa/
LOCATION:Two Fathoms Brewing\, 65 E Front St.\, Winona\, MN\, 55987\, United States
ATTACH;FMTTYPE=image/jpeg:https://riverartsalliance.org/wp-content/uploads/2026/03/Diva-Trio-600px.jpg
END:VEVENT
BEGIN:VEVENT
DTSTART;TZID=America/Chicago:20260315T140000
DTEND;TZID=America/Chicago:20260315T160000
DTSTAMP:20260421T213138
CREATED:20260224T190515Z
LAST-MODIFIED:20260224T190515Z
UID:10001190-1773583200-1773590400@riverartsalliance.org
SUMMARY:Original One Acts 2026
DESCRIPTION:This compilation of plays offers audiences a dynamic theatrical experience that is both entertaining and thought-provoking. Through humor\, satire\, and emotional depth\, the plays create space for laughter alongside difficult conversations about disability\, grief\, bodily autonomy\, gun culture\, faith\, aging\, and second chances. Each story invites viewers to see the world through perspectives they may not share\, fostering empathy and reflection without sacrificing wit or theatrical imagination. Because the pieces range in tone (from intimate and personal to satirical) they keep audiences engaged while encouraging them to examine their own assumptions about identity\, connection\, and responsibility. This showcase offers compelling storytelling and the opportunity to join in meaningful dialogue after the show!
URL:https://riverartsalliance.org/event/original-one-acts-2026/2026-03-15/
LOCATION:The ARC\, 255 Main St.\, Winona\, MN\, 55987\, United States
END:VEVENT
BEGIN:VEVENT
DTSTART;TZID=America/Chicago:20260315T140000
DTEND;TZID=America/Chicago:20260315T160000
DTSTAMP:20260421T213138
CREATED:20260223T150026Z
LAST-MODIFIED:20260223T043311Z
UID:10001182-1773583200-1773590400@riverartsalliance.org
SUMMARY:Sandbar Storytelling Festival Presents Irish Stories with Terry Visger at Cafe Congo
DESCRIPTION:Sandbar Storytelling Festival invites the public to an afternoon of Irish Stories on Sunday\, March 15 at 2:00 pm as part of the Cafe Congo series.
URL:https://riverartsalliance.org/event/sandbar-storytelling-festival-presents-irish-stories-with-terry-visger-at-cafe-congo/
LOCATION:First Congregational Church\, 161 W Broadway St.\, Winona\, MN\, 55987\, United States
END:VEVENT
BEGIN:VEVENT
DTSTART;TZID=America/Chicago:20260315T133000
DTEND;TZID=America/Chicago:20260315T160000
DTSTAMP:20260421T213138
CREATED:20260217T150030Z
LAST-MODIFIED:20260217T011011Z
UID:10001175-1773581400-1773590400@riverartsalliance.org
SUMMARY:BFF | Commonweal Theatre Company
DESCRIPTION:Best friends Lauren and Eliza are at the cusp of maturity in 1991 as they dream about their future and prepare to navigate high school. Moving together and growing apart\, their shifting priorities begin to put a strain on their relationship. In 2005\, a now grown-up Lauren cautiously enters a new relationship and finds it harder to escape her ghosts and move on when life feels frozen in time. “It shimmers with lyricism\, gently wit\, and a good deal of wisdom…–NYTheatre.” \nFind more here.
URL:https://riverartsalliance.org/event/bff-commonweal-theatre-company/2026-03-15/
LOCATION:Commonweal Theatre\, 208 Parkway Ave. N\, Lanesboro\, MN\, United States
END:VEVENT
BEGIN:VEVENT
DTSTART;TZID=America/Chicago:20260315T130000
DTEND;TZID=America/Chicago:20260315T160000
DTSTAMP:20260421T213138
CREATED:20260306T150035Z
LAST-MODIFIED:20260305T173952Z
UID:10001925-1773579600-1773590400@riverartsalliance.org
SUMMARY:Patina at Elmaro Vineyard
DESCRIPTION:Patina is performing our mix of Celtic\, folk\, and original music at Elmaro winery in Trempealeau\, WI on Sunday\, March 15th starting at 1:00pm. Come out to enjoy some Elmaro wine\, charcuterie and cheese trays\, and atmosphere while listening to Patina’s offerings.
URL:https://riverartsalliance.org/event/patina-at-elmaro-vineyard-2/
LOCATION:Elmaro Vineyard\, N14756 Delaney Rd.\, Trempealeau\, WI\, 54661\, United States
END:VEVENT
BEGIN:VEVENT
DTSTART;VALUE=DATE:20260315
DTEND;VALUE=DATE:20260323
DTSTAMP:20260421T213138
CREATED:20250202T152244Z
LAST-MODIFIED:20250202T152244Z
UID:10000891-1773532800-1774223999@riverartsalliance.org
SUMMARY:Frozen River Film Festival Celebrates 20 Years with New Film Series
DESCRIPTION:frff.eventive.org \nThis year the Frozen River Film Festival (FRFF) will be celebrating 20 years of bringing documentary films and filmmakers to Winona. The festival begins Sunday\, February 9\, (You can still get home in time to watch the Super Bowl!) and runs through Sunday\, February 16. This year’s event will feature the World Premiere of FRFF’s self-produced documentary\, Beneath the Ice: The Frozen River Film Festival Story. Learn more.
URL:https://riverartsalliance.org/event/frozen-river-film-festival-celebrates-20-years-with-new-film-series/2026-03-15/
LOCATION:MN
END:VEVENT
BEGIN:VEVENT
DTSTART;TZID=America/Chicago:20260314T193000
DTEND;TZID=America/Chicago:20260314T220000
DTSTAMP:20260421T213138
CREATED:20260217T150030Z
LAST-MODIFIED:20260217T011011Z
UID:10001174-1773516600-1773525600@riverartsalliance.org
SUMMARY:BFF | Commonweal Theatre Company
DESCRIPTION:Best friends Lauren and Eliza are at the cusp of maturity in 1991 as they dream about their future and prepare to navigate high school. Moving together and growing apart\, their shifting priorities begin to put a strain on their relationship. In 2005\, a now grown-up Lauren cautiously enters a new relationship and finds it harder to escape her ghosts and move on when life feels frozen in time. “It shimmers with lyricism\, gently wit\, and a good deal of wisdom…–NYTheatre.” \nFind more here.
URL:https://riverartsalliance.org/event/bff-commonweal-theatre-company/2026-03-14/
LOCATION:Commonweal Theatre\, 208 Parkway Ave. N\, Lanesboro\, MN\, United States
END:VEVENT
BEGIN:VEVENT
DTSTART;TZID=America/Chicago:20260314T190000
DTEND;TZID=America/Chicago:20260314T210000
DTSTAMP:20260421T213138
CREATED:20260224T190515Z
LAST-MODIFIED:20260224T190515Z
UID:10001189-1773514800-1773522000@riverartsalliance.org
SUMMARY:Original One Acts 2026
DESCRIPTION:This compilation of plays offers audiences a dynamic theatrical experience that is both entertaining and thought-provoking. Through humor\, satire\, and emotional depth\, the plays create space for laughter alongside difficult conversations about disability\, grief\, bodily autonomy\, gun culture\, faith\, aging\, and second chances. Each story invites viewers to see the world through perspectives they may not share\, fostering empathy and reflection without sacrificing wit or theatrical imagination. Because the pieces range in tone (from intimate and personal to satirical) they keep audiences engaged while encouraging them to examine their own assumptions about identity\, connection\, and responsibility. This showcase offers compelling storytelling and the opportunity to join in meaningful dialogue after the show!
URL:https://riverartsalliance.org/event/original-one-acts-2026/2026-03-14/
LOCATION:The ARC\, 255 Main St.\, Winona\, MN\, 55987\, United States
END:VEVENT
BEGIN:VEVENT
DTSTART;TZID=America/Chicago:20260314T180000
DTEND;TZID=America/Chicago:20260314T210000
DTSTAMP:20260421T213138
CREATED:20250822T141537Z
LAST-MODIFIED:20250822T141537Z
UID:10001775-1773511200-1773522000@riverartsalliance.org
SUMMARY:Call to Artists: Between the Bluffs Plein Air
DESCRIPTION:Demonstrations: Sat. Oct 11\ 9 – Noon\nShow: Oct 17\, 18\, 19 \nBetweenthebluffs.com \nColleen Shore is a member of the River Arts Alliance. To learn more about the benefits of membership\, please visit: riverartsalliance.org/membership/.
URL:https://riverartsalliance.org/event/call-to-artists-between-the-bluffs-plein-air/2026-03-14/
LOCATION:MN
ATTACH;FMTTYPE=image/png:https://riverartsalliance.org/wp-content/uploads/2025/08/Between-the-Bluffs-call-to-artists-1-1-1.png
END:VEVENT
BEGIN:VEVENT
DTSTART;TZID=America/Chicago:20260314T170000
DTEND;TZID=America/Chicago:20260314T200000
DTSTAMP:20260421T213138
CREATED:20260215T201255Z
LAST-MODIFIED:20260215T201255Z
UID:10001917-1773507600-1773518400@riverartsalliance.org
SUMMARY:RAA's Annual Pi(e) Day!
DESCRIPTION:The River Arts Alliance will be holding its annual Pi(e) Day event on 3.14.2026 at the ARC from 5 pm until 8 pm. \nWe will be serving soup\, bread and of course – Pie. You will also can bid on take home pies and some pie themed artwork created by local artists. The ARC will provide a cash bar. \nWe will also be presenting our annual Artsie Awards. \nThe soup\, bread and pie meal will cost $25 dollars in advance and $30 dollars at the door. \nThere will be a short annual meeting for the RAA at the end of the event. \nAnnual Pi(e) Day Fundraiser
URL:https://riverartsalliance.org/event/raas-annual-pie-day/
LOCATION:The ARC\, 255 Main St.\, Winona\, MN\, 55987\, United States
END:VEVENT
BEGIN:VEVENT
DTSTART;VALUE=DATE:20260314
DTEND;VALUE=DATE:20260322
DTSTAMP:20260421T213138
CREATED:20250202T152244Z
LAST-MODIFIED:20250202T152244Z
UID:10000890-1773446400-1774137599@riverartsalliance.org
SUMMARY:Frozen River Film Festival Celebrates 20 Years with New Film Series
DESCRIPTION:frff.eventive.org \nThis year the Frozen River Film Festival (FRFF) will be celebrating 20 years of bringing documentary films and filmmakers to Winona. The festival begins Sunday\, February 9\, (You can still get home in time to watch the Super Bowl!) and runs through Sunday\, February 16. This year’s event will feature the World Premiere of FRFF’s self-produced documentary\, Beneath the Ice: The Frozen River Film Festival Story. Learn more.
URL:https://riverartsalliance.org/event/frozen-river-film-festival-celebrates-20-years-with-new-film-series/2026-03-14/
LOCATION:MN
END:VEVENT
BEGIN:VEVENT
DTSTART;TZID=America/Chicago:20260313T193000
DTEND;TZID=America/Chicago:20260313T220000
DTSTAMP:20260421T213138
CREATED:20260217T150030Z
LAST-MODIFIED:20260217T011011Z
UID:10001173-1773430200-1773439200@riverartsalliance.org
SUMMARY:BFF | Commonweal Theatre Company
DESCRIPTION:Best friends Lauren and Eliza are at the cusp of maturity in 1991 as they dream about their future and prepare to navigate high school. Moving together and growing apart\, their shifting priorities begin to put a strain on their relationship. In 2005\, a now grown-up Lauren cautiously enters a new relationship and finds it harder to escape her ghosts and move on when life feels frozen in time. “It shimmers with lyricism\, gently wit\, and a good deal of wisdom…–NYTheatre.” \nFind more here.
URL:https://riverartsalliance.org/event/bff-commonweal-theatre-company/2026-03-13/
LOCATION:Commonweal Theatre\, 208 Parkway Ave. N\, Lanesboro\, MN\, United States
END:VEVENT
BEGIN:VEVENT
DTSTART;TZID=America/Chicago:20260313T190000
DTEND;TZID=America/Chicago:20260313T210000
DTSTAMP:20260421T213138
CREATED:20260224T190515Z
LAST-MODIFIED:20260224T190515Z
UID:10001188-1773428400-1773435600@riverartsalliance.org
SUMMARY:Original One Acts 2026
DESCRIPTION:This compilation of plays offers audiences a dynamic theatrical experience that is both entertaining and thought-provoking. Through humor\, satire\, and emotional depth\, the plays create space for laughter alongside difficult conversations about disability\, grief\, bodily autonomy\, gun culture\, faith\, aging\, and second chances. Each story invites viewers to see the world through perspectives they may not share\, fostering empathy and reflection without sacrificing wit or theatrical imagination. Because the pieces range in tone (from intimate and personal to satirical) they keep audiences engaged while encouraging them to examine their own assumptions about identity\, connection\, and responsibility. This showcase offers compelling storytelling and the opportunity to join in meaningful dialogue after the show!
URL:https://riverartsalliance.org/event/original-one-acts-2026/2026-03-13/
LOCATION:The ARC\, 255 Main St.\, Winona\, MN\, 55987\, United States
END:VEVENT
BEGIN:VEVENT
DTSTART;TZID=America/Chicago:20260313T180000
DTEND;TZID=America/Chicago:20260313T210000
DTSTAMP:20260421T213138
CREATED:20260223T194109Z
LAST-MODIFIED:20260223T194109Z
UID:10001184-1773424800-1773435600@riverartsalliance.org
SUMMARY:Film: Woman at War
DESCRIPTION:Halla is a 50-year-old environmental activist who crusades against the local aluminium industry in Iceland. As her actions grow bolder\, her life changes in the blink of an eye when she is finally granted permission to adopt a girl from Ukraine.\nRunning time: 1h 41min with subtitles
URL:https://riverartsalliance.org/event/film-woman-at-war/
LOCATION:Winona Arts Center\, 228 E 5th St.\, Winona\, MN\, 55987\, United States
END:VEVENT
BEGIN:VEVENT
DTSTART;TZID=America/Chicago:20260313T180000
DTEND;TZID=America/Chicago:20260313T210000
DTSTAMP:20260421T213138
CREATED:20250822T141537Z
LAST-MODIFIED:20250822T141537Z
UID:10001774-1773424800-1773435600@riverartsalliance.org
SUMMARY:Call to Artists: Between the Bluffs Plein Air
DESCRIPTION:Demonstrations: Sat. Oct 11\ 9 – Noon\nShow: Oct 17\, 18\, 19 \nBetweenthebluffs.com \nColleen Shore is a member of the River Arts Alliance. To learn more about the benefits of membership\, please visit: riverartsalliance.org/membership/.
URL:https://riverartsalliance.org/event/call-to-artists-between-the-bluffs-plein-air/2026-03-13/
LOCATION:MN
ATTACH;FMTTYPE=image/png:https://riverartsalliance.org/wp-content/uploads/2025/08/Between-the-Bluffs-call-to-artists-1-1-1.png
END:VEVENT
BEGIN:VEVENT
DTSTART;VALUE=DATE:20260313
DTEND;VALUE=DATE:20260321
DTSTAMP:20260421T213138
CREATED:20250202T152244Z
LAST-MODIFIED:20250202T152244Z
UID:10000889-1773360000-1774051199@riverartsalliance.org
SUMMARY:Frozen River Film Festival Celebrates 20 Years with New Film Series
DESCRIPTION:frff.eventive.org \nThis year the Frozen River Film Festival (FRFF) will be celebrating 20 years of bringing documentary films and filmmakers to Winona. The festival begins Sunday\, February 9\, (You can still get home in time to watch the Super Bowl!) and runs through Sunday\, February 16. This year’s event will feature the World Premiere of FRFF’s self-produced documentary\, Beneath the Ice: The Frozen River Film Festival Story. Learn more.
URL:https://riverartsalliance.org/event/frozen-river-film-festival-celebrates-20-years-with-new-film-series/2026-03-13/
LOCATION:MN
END:VEVENT
END:VCALENDAR