BEGIN:VCALENDAR
VERSION:2.0
PRODID:-//River Arts Alliance - ECPv6.15.20//NONSGML v1.0//EN
CALSCALE:GREGORIAN
METHOD:PUBLISH
X-WR-CALNAME:River Arts Alliance
X-ORIGINAL-URL:https://riverartsalliance.org
X-WR-CALDESC:Events for River Arts Alliance
REFRESH-INTERVAL;VALUE=DURATION:PT1H
X-Robots-Tag:noindex
X-PUBLISHED-TTL:PT1H
BEGIN:VTIMEZONE
TZID:America/Chicago
BEGIN:DAYLIGHT
TZOFFSETFROM:-0600
TZOFFSETTO:-0500
TZNAME:CDT
DTSTART:20240310T080000
END:DAYLIGHT
BEGIN:STANDARD
TZOFFSETFROM:-0500
TZOFFSETTO:-0600
TZNAME:CST
DTSTART:20241103T070000
END:STANDARD
BEGIN:DAYLIGHT
TZOFFSETFROM:-0600
TZOFFSETTO:-0500
TZNAME:CDT
DTSTART:20250309T080000
END:DAYLIGHT
BEGIN:STANDARD
TZOFFSETFROM:-0500
TZOFFSETTO:-0600
TZNAME:CST
DTSTART:20251102T070000
END:STANDARD
BEGIN:DAYLIGHT
TZOFFSETFROM:-0600
TZOFFSETTO:-0500
TZNAME:CDT
DTSTART:20260308T080000
END:DAYLIGHT
BEGIN:STANDARD
TZOFFSETFROM:-0500
TZOFFSETTO:-0600
TZNAME:CST
DTSTART:20261101T070000
END:STANDARD
END:VTIMEZONE
BEGIN:VEVENT
DTSTART;TZID=America/Chicago:20250514T170000
DTEND;TZID=America/Chicago:20250514T200000
DTSTAMP:20260419T235751
CREATED:20250409T143238Z
LAST-MODIFIED:20250409T143238Z
UID:10001548-1747242000-1747252800@riverartsalliance.org
SUMMARY:WAC Presents Kevin Ewing Relief Wood Carving Workshop
DESCRIPTION:$50 Members | $55 Nonmembers\nAges 16+ | Registration Required\nWinona Arts Center | 228 E 5th St.\nwinonaarts.org \n  \nKevin will begin class by providing a description of the tools and materials used for relief wood carving. Come to class with a design of your own or choose from one of the suggestions available. Students will then carve their designs out of a flat piece of basswood. All materials provided. Class size 10 to 12. No experience necessary. Learn more.
URL:https://riverartsalliance.org/event/wac-presents-kevin-ewing-relief-wood-carving-workshop/
LOCATION:Winona Arts Center\, 228 E 5th St.\, Winona\, MN\, 55987\, United States
END:VEVENT
BEGIN:VEVENT
DTSTART;VALUE=DATE:20250515
DTEND;VALUE=DATE:20250523
DTSTAMP:20260419T235751
CREATED:20250202T152244Z
LAST-MODIFIED:20250202T152244Z
UID:10000587-1747267200-1747958399@riverartsalliance.org
SUMMARY:Frozen River Film Festival Celebrates 20 Years with New Film Series
DESCRIPTION:frff.eventive.org \nThis year the Frozen River Film Festival (FRFF) will be celebrating 20 years of bringing documentary films and filmmakers to Winona. The festival begins Sunday\, February 9\, (You can still get home in time to watch the Super Bowl!) and runs through Sunday\, February 16. This year’s event will feature the World Premiere of FRFF’s self-produced documentary\, Beneath the Ice: The Frozen River Film Festival Story. Learn more.
URL:https://riverartsalliance.org/event/frozen-river-film-festival-celebrates-20-years-with-new-film-series/2025-05-15/
END:VEVENT
BEGIN:VEVENT
DTSTART;VALUE=DATE:20250516
DTEND;VALUE=DATE:20250524
DTSTAMP:20260419T235751
CREATED:20250202T152244Z
LAST-MODIFIED:20250202T152244Z
UID:10000588-1747353600-1748044799@riverartsalliance.org
SUMMARY:Frozen River Film Festival Celebrates 20 Years with New Film Series
DESCRIPTION:frff.eventive.org \nThis year the Frozen River Film Festival (FRFF) will be celebrating 20 years of bringing documentary films and filmmakers to Winona. The festival begins Sunday\, February 9\, (You can still get home in time to watch the Super Bowl!) and runs through Sunday\, February 16. This year’s event will feature the World Premiere of FRFF’s self-produced documentary\, Beneath the Ice: The Frozen River Film Festival Story. Learn more.
URL:https://riverartsalliance.org/event/frozen-river-film-festival-celebrates-20-years-with-new-film-series/2025-05-16/
END:VEVENT
BEGIN:VEVENT
DTSTART;TZID=America/Chicago:20250516T190000
DTEND;TZID=America/Chicago:20250516T200000
DTSTAMP:20260419T235751
CREATED:20250512T110719Z
LAST-MODIFIED:20250512T110719Z
UID:10001572-1747422000-1747425600@riverartsalliance.org
SUMMARY:Winona Community Chorale Presents Spring Concert “Songs from Across the Pond”
DESCRIPTION:Friday\, May 16 | 7 pm\nSaturday\, May 17 | 2 pm\nFree-will Offering\nWesley United Methodist Church | 114 W Broadway St.\nWinona Community Chorale \nThe Winona Community Chorale will present its spring concert this weekend. Local Celtic band Patina will join the choir in performing several pieces… Read more.
URL:https://riverartsalliance.org/event/winona-community-chorale-presents-spring-concert-songs-from-across-the-pond/2025-05-16/
LOCATION:Wesley United Methodist Church\, 114 W Broadway St.\, Winona\, MN\, 55987\, United States
END:VEVENT
BEGIN:VEVENT
DTSTART;VALUE=DATE:20250517
DTEND;VALUE=DATE:20250525
DTSTAMP:20260419T235751
CREATED:20250202T152244Z
LAST-MODIFIED:20250202T152244Z
UID:10000589-1747440000-1748131199@riverartsalliance.org
SUMMARY:Frozen River Film Festival Celebrates 20 Years with New Film Series
DESCRIPTION:frff.eventive.org \nThis year the Frozen River Film Festival (FRFF) will be celebrating 20 years of bringing documentary films and filmmakers to Winona. The festival begins Sunday\, February 9\, (You can still get home in time to watch the Super Bowl!) and runs through Sunday\, February 16. This year’s event will feature the World Premiere of FRFF’s self-produced documentary\, Beneath the Ice: The Frozen River Film Festival Story. Learn more.
URL:https://riverartsalliance.org/event/frozen-river-film-festival-celebrates-20-years-with-new-film-series/2025-05-17/
END:VEVENT
BEGIN:VEVENT
DTSTART;TZID=America/Chicago:20250517T090000
DTEND;TZID=America/Chicago:20250517T150000
DTSTAMP:20260419T235751
CREATED:20250408T184624Z
LAST-MODIFIED:20250408T184624Z
UID:10001544-1747472400-1747494000@riverartsalliance.org
SUMMARY:MMAM Workshop: The Sussex Trug - From Boat Design to Garden Gatherer with Jon Swanson
DESCRIPTION:Tuition: $150  | Member Rate: $140\nRegistration Deadline Saturday\, May 10\nMinnesota Marine Art Museum | 800 Riverview Dr.\nminnesotamarineart.org \n  \nJoin the traditional woodworking workshop led by MMAM’s own Jon Swanson and learn to craft a timeless\, handmade ash wood trug—a versatile\, lightweight basket perfect for gardening\, flower gathering\, or creating unique gift containers. Participants will steam and shape wood\, use classic boat-building techniques with copper nails\, and create a durable\, beautiful vessel that can last for generations. Learn more.
URL:https://riverartsalliance.org/event/mmam-workshop-the-sussex-trug-from-boat-design-to-garden-gatherer-with-jon-swanson/
LOCATION:Minnesota Marine Art Museum\, 800 Riverview Dr.\, Winona\, MN\, 55987\, United States
END:VEVENT
BEGIN:VEVENT
DTSTART;TZID=America/Chicago:20250517T130000
DTEND;TZID=America/Chicago:20250517T160000
DTSTAMP:20260419T235751
CREATED:20250330T204333Z
LAST-MODIFIED:20250330T204333Z
UID:10000948-1747486800-1747497600@riverartsalliance.org
SUMMARY:Clay Workshops at Island City Clayspace
DESCRIPTION:Clay: Planter & Drainage Tray\nSaturday\, April 5 | 1-4 pm \nClay: Coil-Built Vase\nSaturday\, May 17 | 1-4 pm \nRegistration $29 | Materials $15\nIsland City Clayspace | 275 E 3rd St\nhttps://www.facebook.com/IslandCityClayspace/ \n  \nHave fun creating something useful in clay! Island City Clayspace is offering two ceramic workshops this spring\, taught by active potter and ceramic sculptor Anne Scott Plummer\, a retired Winona State University art professor. Both workshops are for adults and teens aged 14 and older\, and include materials\, use of tools\, and firing. Limited to nine participants. Learn more.
URL:https://riverartsalliance.org/event/clay-workshops-at-island-city-clayspace/2025-05-17/
LOCATION:Island City Clayspace\, 275 E 3rd St\, Winona\, MN\, 55987\, United States
END:VEVENT
BEGIN:VEVENT
DTSTART;TZID=America/Chicago:20250517T140000
DTEND;TZID=America/Chicago:20250517T150000
DTSTAMP:20260419T235751
CREATED:20250512T110719Z
LAST-MODIFIED:20250512T110719Z
UID:10001573-1747490400-1747494000@riverartsalliance.org
SUMMARY:Winona Community Chorale Presents Spring Concert “Songs from Across the Pond”
DESCRIPTION:Friday\, May 16 | 7 pm\nSaturday\, May 17 | 2 pm\nFree-will Offering\nWesley United Methodist Church | 114 W Broadway St.\nWinona Community Chorale \nThe Winona Community Chorale will present its spring concert this weekend. Local Celtic band Patina will join the choir in performing several pieces… Read more.
URL:https://riverartsalliance.org/event/winona-community-chorale-presents-spring-concert-songs-from-across-the-pond/2025-05-17/
LOCATION:Wesley United Methodist Church\, 114 W Broadway St.\, Winona\, MN\, 55987\, United States
END:VEVENT
BEGIN:VEVENT
DTSTART;TZID=America/Chicago:20250517T193000
DTEND;TZID=America/Chicago:20250517T213000
DTSTAMP:20260419T235751
CREATED:20250319T172710Z
LAST-MODIFIED:20250319T173102Z
UID:10001430-1747510200-1747517400@riverartsalliance.org
SUMMARY:Commonweal Theatre Presents The Angel Next Door
DESCRIPTION:Preview Dates\nSaturday\, May 17 | 7:30-9:30 pm\nSunday\, May 18 | 1:30-3:30 pm\nThursday & Friday | May 22\, 23 | 7:30-9:30 pm \nFull Run Dates Listed on RAA Event Page \nCommonweal Theatre Company\n208 Parkway Ave N\, Lanesboro\, MN\ncommonwealtheatre.org \n  \nJoin the Commonweal Theatre Company for Paul Slade Smith’s romantic screwball comedy\, The Angel Next Door. Journey to an opulent Newport mansion in 1948\, where playwrights\, actors\, and a star-struck novelist gather to work on their next Broadway hit! (Never mind the housekeeper who wants them gone.) Learn more.
URL:https://riverartsalliance.org/event/commonweal-theatre-presents-the-angel-next-door/2025-05-17/
LOCATION:Commonweal Theatre\, 208 Parkway Ave. N\, Lanesboro\, MN\, United States
END:VEVENT
BEGIN:VEVENT
DTSTART;VALUE=DATE:20250518
DTEND;VALUE=DATE:20250526
DTSTAMP:20260419T235751
CREATED:20250202T152244Z
LAST-MODIFIED:20250202T152244Z
UID:10000590-1747526400-1748217599@riverartsalliance.org
SUMMARY:Frozen River Film Festival Celebrates 20 Years with New Film Series
DESCRIPTION:frff.eventive.org \nThis year the Frozen River Film Festival (FRFF) will be celebrating 20 years of bringing documentary films and filmmakers to Winona. The festival begins Sunday\, February 9\, (You can still get home in time to watch the Super Bowl!) and runs through Sunday\, February 16. This year’s event will feature the World Premiere of FRFF’s self-produced documentary\, Beneath the Ice: The Frozen River Film Festival Story. Learn more.
URL:https://riverartsalliance.org/event/frozen-river-film-festival-celebrates-20-years-with-new-film-series/2025-05-18/
END:VEVENT
BEGIN:VEVENT
DTSTART;TZID=America/Chicago:20250518T130000
DTEND;TZID=America/Chicago:20250518T143000
DTSTAMP:20260419T235751
CREATED:20250512T001741Z
LAST-MODIFIED:20250512T001741Z
UID:10001567-1747573200-1747578600@riverartsalliance.org
SUMMARY:MMAM Shares Annual Report Over Pie and Ice Cream
DESCRIPTION:Minnesota Marine Art Museum  | 800 Riverview Dr \n  \nMMAM invites community members for pie and ice cream at an informal gathering as they share their annual Impact Report… Read more.
URL:https://riverartsalliance.org/event/mmam-shares-annual-report-over-pie-and-ice-cream/
END:VEVENT
BEGIN:VEVENT
DTSTART;TZID=America/Chicago:20250518T133000
DTEND;TZID=America/Chicago:20250518T160000
DTSTAMP:20260419T235751
CREATED:20250319T172710Z
LAST-MODIFIED:20250319T173102Z
UID:10001431-1747575000-1747584000@riverartsalliance.org
SUMMARY:Commonweal Theatre Presents The Angel Next Door
DESCRIPTION:Preview Dates\nSaturday\, May 17 | 7:30-9:30 pm\nSunday\, May 18 | 1:30-3:30 pm\nThursday & Friday | May 22\, 23 | 7:30-9:30 pm \nFull Run Dates Listed on RAA Event Page \nCommonweal Theatre Company\n208 Parkway Ave N\, Lanesboro\, MN\ncommonwealtheatre.org \n  \nJoin the Commonweal Theatre Company for Paul Slade Smith’s romantic screwball comedy\, The Angel Next Door. Journey to an opulent Newport mansion in 1948\, where playwrights\, actors\, and a star-struck novelist gather to work on their next Broadway hit! (Never mind the housekeeper who wants them gone.) Learn more.
URL:https://riverartsalliance.org/event/commonweal-theatre-presents-the-angel-next-door/2025-05-18/
LOCATION:Commonweal Theatre\, 208 Parkway Ave. N\, Lanesboro\, MN\, United States
END:VEVENT
BEGIN:VEVENT
DTSTART;TZID=America/Chicago:20250518T160000
DTEND;TZID=America/Chicago:20250518T180000
DTSTAMP:20260419T235751
CREATED:20250504T113352Z
LAST-MODIFIED:20250504T113352Z
UID:10001563-1747584000-1747591200@riverartsalliance.org
SUMMARY:May Events At Old Main in Galesville
DESCRIPTION:$10 Adults | $5 students\n\n\n\nOld Main | 20869 College Ave\, Galesville\, WI\n\n\n \n\n\nSyttende Mai\, Norwegian Music and Treats\nSunday\, May 18 | 4pm\n\n\n \n\n\nDon’t miss these exciting events during the month of May at the historic Old Main in Galesville.  See all events.
URL:https://riverartsalliance.org/event/may-events-at-old-main-in-galesville-3/
LOCATION:Old Main Cultural Center\, 20869 S College Ave.\, Galesville\, WI\, 54630\, United States
END:VEVENT
BEGIN:VEVENT
DTSTART;VALUE=DATE:20250519
DTEND;VALUE=DATE:20250527
DTSTAMP:20260419T235751
CREATED:20250202T152244Z
LAST-MODIFIED:20250202T152244Z
UID:10000591-1747612800-1748303999@riverartsalliance.org
SUMMARY:Frozen River Film Festival Celebrates 20 Years with New Film Series
DESCRIPTION:frff.eventive.org \nThis year the Frozen River Film Festival (FRFF) will be celebrating 20 years of bringing documentary films and filmmakers to Winona. The festival begins Sunday\, February 9\, (You can still get home in time to watch the Super Bowl!) and runs through Sunday\, February 16. This year’s event will feature the World Premiere of FRFF’s self-produced documentary\, Beneath the Ice: The Frozen River Film Festival Story. Learn more.
URL:https://riverartsalliance.org/event/frozen-river-film-festival-celebrates-20-years-with-new-film-series/2025-05-19/
END:VEVENT
BEGIN:VEVENT
DTSTART;VALUE=DATE:20250520
DTEND;VALUE=DATE:20250528
DTSTAMP:20260419T235751
CREATED:20250202T152244Z
LAST-MODIFIED:20250202T152244Z
UID:10000592-1747699200-1748390399@riverartsalliance.org
SUMMARY:Frozen River Film Festival Celebrates 20 Years with New Film Series
DESCRIPTION:frff.eventive.org \nThis year the Frozen River Film Festival (FRFF) will be celebrating 20 years of bringing documentary films and filmmakers to Winona. The festival begins Sunday\, February 9\, (You can still get home in time to watch the Super Bowl!) and runs through Sunday\, February 16. This year’s event will feature the World Premiere of FRFF’s self-produced documentary\, Beneath the Ice: The Frozen River Film Festival Story. Learn more.
URL:https://riverartsalliance.org/event/frozen-river-film-festival-celebrates-20-years-with-new-film-series/2025-05-20/
END:VEVENT
BEGIN:VEVENT
DTSTART;VALUE=DATE:20250521
DTEND;VALUE=DATE:20250529
DTSTAMP:20260419T235751
CREATED:20250202T152244Z
LAST-MODIFIED:20250202T152244Z
UID:10000593-1747785600-1748476799@riverartsalliance.org
SUMMARY:Frozen River Film Festival Celebrates 20 Years with New Film Series
DESCRIPTION:frff.eventive.org \nThis year the Frozen River Film Festival (FRFF) will be celebrating 20 years of bringing documentary films and filmmakers to Winona. The festival begins Sunday\, February 9\, (You can still get home in time to watch the Super Bowl!) and runs through Sunday\, February 16. This year’s event will feature the World Premiere of FRFF’s self-produced documentary\, Beneath the Ice: The Frozen River Film Festival Story. Learn more.
URL:https://riverartsalliance.org/event/frozen-river-film-festival-celebrates-20-years-with-new-film-series/2025-05-21/
END:VEVENT
BEGIN:VEVENT
DTSTART;VALUE=DATE:20250522
DTEND;VALUE=DATE:20250530
DTSTAMP:20260419T235751
CREATED:20250202T152244Z
LAST-MODIFIED:20250202T152244Z
UID:10000594-1747872000-1748563199@riverartsalliance.org
SUMMARY:Frozen River Film Festival Celebrates 20 Years with New Film Series
DESCRIPTION:frff.eventive.org \nThis year the Frozen River Film Festival (FRFF) will be celebrating 20 years of bringing documentary films and filmmakers to Winona. The festival begins Sunday\, February 9\, (You can still get home in time to watch the Super Bowl!) and runs through Sunday\, February 16. This year’s event will feature the World Premiere of FRFF’s self-produced documentary\, Beneath the Ice: The Frozen River Film Festival Story. Learn more.
URL:https://riverartsalliance.org/event/frozen-river-film-festival-celebrates-20-years-with-new-film-series/2025-05-22/
END:VEVENT
BEGIN:VEVENT
DTSTART;TZID=America/Chicago:20250522T110000
DTEND;TZID=America/Chicago:20250522T123000
DTSTAMP:20260419T235751
CREATED:20250512T015946Z
LAST-MODIFIED:20250512T015946Z
UID:10001571-1747911600-1747917000@riverartsalliance.org
SUMMARY:MN Star Tribune Hosts Minnesota Matters Winona
DESCRIPTION:Free (Space Limited) – RSVP\nWinona State University – Solarium Room\n175 W Mark St \n  \nThe Minnesota Star Tribune is visiting communities across the state in May and coming to Winona as a part of its Minnesota Matters tour. Learn more.
URL:https://riverartsalliance.org/event/mn-star-tribune-hosts-minnesota-matters-winona/
LOCATION:Minnesota Marine Art Museum\, 800 Riverview Dr.\, Winona\, MN\, 55987\, United States
END:VEVENT
BEGIN:VEVENT
DTSTART;TZID=America/Chicago:20250522T193000
DTEND;TZID=America/Chicago:20250522T220000
DTSTAMP:20260419T235751
CREATED:20250319T172710Z
LAST-MODIFIED:20250319T173102Z
UID:10001432-1747942200-1747951200@riverartsalliance.org
SUMMARY:Commonweal Theatre Presents The Angel Next Door
DESCRIPTION:Preview Dates\nSaturday\, May 17 | 7:30-9:30 pm\nSunday\, May 18 | 1:30-3:30 pm\nThursday & Friday | May 22\, 23 | 7:30-9:30 pm \nFull Run Dates Listed on RAA Event Page \nCommonweal Theatre Company\n208 Parkway Ave N\, Lanesboro\, MN\ncommonwealtheatre.org \n  \nJoin the Commonweal Theatre Company for Paul Slade Smith’s romantic screwball comedy\, The Angel Next Door. Journey to an opulent Newport mansion in 1948\, where playwrights\, actors\, and a star-struck novelist gather to work on their next Broadway hit! (Never mind the housekeeper who wants them gone.) Learn more.
URL:https://riverartsalliance.org/event/commonweal-theatre-presents-the-angel-next-door/2025-05-22/
LOCATION:Commonweal Theatre\, 208 Parkway Ave. N\, Lanesboro\, MN\, United States
END:VEVENT
BEGIN:VEVENT
DTSTART;VALUE=DATE:20250523
DTEND;VALUE=DATE:20250531
DTSTAMP:20260419T235751
CREATED:20250202T152244Z
LAST-MODIFIED:20250202T152244Z
UID:10000595-1747958400-1748649599@riverartsalliance.org
SUMMARY:Frozen River Film Festival Celebrates 20 Years with New Film Series
DESCRIPTION:frff.eventive.org \nThis year the Frozen River Film Festival (FRFF) will be celebrating 20 years of bringing documentary films and filmmakers to Winona. The festival begins Sunday\, February 9\, (You can still get home in time to watch the Super Bowl!) and runs through Sunday\, February 16. This year’s event will feature the World Premiere of FRFF’s self-produced documentary\, Beneath the Ice: The Frozen River Film Festival Story. Learn more.
URL:https://riverartsalliance.org/event/frozen-river-film-festival-celebrates-20-years-with-new-film-series/2025-05-23/
END:VEVENT
BEGIN:VEVENT
DTSTART;TZID=America/Chicago:20250523T193000
DTEND;TZID=America/Chicago:20250523T220000
DTSTAMP:20260419T235751
CREATED:20250319T172710Z
LAST-MODIFIED:20250319T173102Z
UID:10001433-1748028600-1748037600@riverartsalliance.org
SUMMARY:Commonweal Theatre Presents The Angel Next Door
DESCRIPTION:Preview Dates\nSaturday\, May 17 | 7:30-9:30 pm\nSunday\, May 18 | 1:30-3:30 pm\nThursday & Friday | May 22\, 23 | 7:30-9:30 pm \nFull Run Dates Listed on RAA Event Page \nCommonweal Theatre Company\n208 Parkway Ave N\, Lanesboro\, MN\ncommonwealtheatre.org \n  \nJoin the Commonweal Theatre Company for Paul Slade Smith’s romantic screwball comedy\, The Angel Next Door. Journey to an opulent Newport mansion in 1948\, where playwrights\, actors\, and a star-struck novelist gather to work on their next Broadway hit! (Never mind the housekeeper who wants them gone.) Learn more.
URL:https://riverartsalliance.org/event/commonweal-theatre-presents-the-angel-next-door/2025-05-23/
LOCATION:Commonweal Theatre\, 208 Parkway Ave. N\, Lanesboro\, MN\, United States
END:VEVENT
BEGIN:VEVENT
DTSTART;VALUE=DATE:20250524
DTEND;VALUE=DATE:20250601
DTSTAMP:20260419T235751
CREATED:20250202T152244Z
LAST-MODIFIED:20250202T152244Z
UID:10000596-1748044800-1748735999@riverartsalliance.org
SUMMARY:Frozen River Film Festival Celebrates 20 Years with New Film Series
DESCRIPTION:frff.eventive.org \nThis year the Frozen River Film Festival (FRFF) will be celebrating 20 years of bringing documentary films and filmmakers to Winona. The festival begins Sunday\, February 9\, (You can still get home in time to watch the Super Bowl!) and runs through Sunday\, February 16. This year’s event will feature the World Premiere of FRFF’s self-produced documentary\, Beneath the Ice: The Frozen River Film Festival Story. Learn more.
URL:https://riverartsalliance.org/event/frozen-river-film-festival-celebrates-20-years-with-new-film-series/2025-05-24/
END:VEVENT
BEGIN:VEVENT
DTSTART;TZID=America/Chicago:20250524T190000
DTEND;TZID=America/Chicago:20250524T210000
DTSTAMP:20260419T235751
CREATED:20250504T113835Z
LAST-MODIFIED:20250504T113835Z
UID:10001564-1748113200-1748120400@riverartsalliance.org
SUMMARY:May Events At Old Main in Galesville
DESCRIPTION:$10 Adults | $5 students\n\n\n\n\n\nOld Main | 20869 College Ave\, Galesville\, WI\n\n\n \n\n\nLast Bridge Home “Local Movie”\nSaturday\, May 24 | 7pm\n\n\n \n\n\nDon’t miss these exciting events during the month of May at the historic Old Main in Galesville.  See all events.
URL:https://riverartsalliance.org/event/may-events-at-old-main-in-galesville-4/
LOCATION:Old Main Cultural Center\, 20869 S College Ave.\, Galesville\, WI\, 54630\, United States
END:VEVENT
BEGIN:VEVENT
DTSTART;TZID=America/Chicago:20250524T193000
DTEND;TZID=America/Chicago:20250524T220000
DTSTAMP:20260419T235751
CREATED:20250319T172710Z
LAST-MODIFIED:20250319T173102Z
UID:10001434-1748115000-1748124000@riverartsalliance.org
SUMMARY:Commonweal Theatre Presents The Angel Next Door
DESCRIPTION:Preview Dates\nSaturday\, May 17 | 7:30-9:30 pm\nSunday\, May 18 | 1:30-3:30 pm\nThursday & Friday | May 22\, 23 | 7:30-9:30 pm \nFull Run Dates Listed on RAA Event Page \nCommonweal Theatre Company\n208 Parkway Ave N\, Lanesboro\, MN\ncommonwealtheatre.org \n  \nJoin the Commonweal Theatre Company for Paul Slade Smith’s romantic screwball comedy\, The Angel Next Door. Journey to an opulent Newport mansion in 1948\, where playwrights\, actors\, and a star-struck novelist gather to work on their next Broadway hit! (Never mind the housekeeper who wants them gone.) Learn more.
URL:https://riverartsalliance.org/event/commonweal-theatre-presents-the-angel-next-door/2025-05-24/
LOCATION:Commonweal Theatre\, 208 Parkway Ave. N\, Lanesboro\, MN\, United States
END:VEVENT
BEGIN:VEVENT
DTSTART;VALUE=DATE:20250525
DTEND;VALUE=DATE:20250602
DTSTAMP:20260419T235751
CREATED:20250202T152244Z
LAST-MODIFIED:20250202T152244Z
UID:10000597-1748131200-1748822399@riverartsalliance.org
SUMMARY:Frozen River Film Festival Celebrates 20 Years with New Film Series
DESCRIPTION:frff.eventive.org \nThis year the Frozen River Film Festival (FRFF) will be celebrating 20 years of bringing documentary films and filmmakers to Winona. The festival begins Sunday\, February 9\, (You can still get home in time to watch the Super Bowl!) and runs through Sunday\, February 16. This year’s event will feature the World Premiere of FRFF’s self-produced documentary\, Beneath the Ice: The Frozen River Film Festival Story. Learn more.
URL:https://riverartsalliance.org/event/frozen-river-film-festival-celebrates-20-years-with-new-film-series/2025-05-25/
END:VEVENT
BEGIN:VEVENT
DTSTART;TZID=America/Chicago:20250525T080000
DTEND;TZID=America/Chicago:20250525T130000
DTSTAMP:20260419T235751
CREATED:20250504T114346Z
LAST-MODIFIED:20250504T114346Z
UID:10001565-1748160000-1748178000@riverartsalliance.org
SUMMARY:May Events At Old Main in Galesville
DESCRIPTION:$10 Adults | $5 students\n\n\n\n\n\nOld Main | 20869 College Ave\, Galesville\, WI\n\n\n \n\n\nCar Show Hosted with Ram Rods Car Club\nSunday\, May 25 | 8 am – 1 pm\n\n\n \n\n\nDon’t miss these exciting events during the month of May at the historic Old Main in Galesville.  See all events.
URL:https://riverartsalliance.org/event/may-events-at-old-main-in-galesville-5/
LOCATION:Old Main Cultural Center\, 20869 S College Ave.\, Galesville\, WI\, 54630\, United States
END:VEVENT
BEGIN:VEVENT
DTSTART;TZID=America/Chicago:20250525T133000
DTEND;TZID=America/Chicago:20250525T153000
DTSTAMP:20260419T235751
CREATED:20250319T172710Z
LAST-MODIFIED:20250319T173102Z
UID:10001435-1748179800-1748187000@riverartsalliance.org
SUMMARY:Commonweal Theatre Presents The Angel Next Door
DESCRIPTION:Preview Dates\nSaturday\, May 17 | 7:30-9:30 pm\nSunday\, May 18 | 1:30-3:30 pm\nThursday & Friday | May 22\, 23 | 7:30-9:30 pm \nFull Run Dates Listed on RAA Event Page \nCommonweal Theatre Company\n208 Parkway Ave N\, Lanesboro\, MN\ncommonwealtheatre.org \n  \nJoin the Commonweal Theatre Company for Paul Slade Smith’s romantic screwball comedy\, The Angel Next Door. Journey to an opulent Newport mansion in 1948\, where playwrights\, actors\, and a star-struck novelist gather to work on their next Broadway hit! (Never mind the housekeeper who wants them gone.) Learn more.
URL:https://riverartsalliance.org/event/commonweal-theatre-presents-the-angel-next-door/2025-05-25/
LOCATION:Commonweal Theatre\, 208 Parkway Ave. N\, Lanesboro\, MN\, United States
END:VEVENT
BEGIN:VEVENT
DTSTART;VALUE=DATE:20250526
DTEND;VALUE=DATE:20250603
DTSTAMP:20260419T235751
CREATED:20250202T152244Z
LAST-MODIFIED:20250202T152244Z
UID:10000598-1748217600-1748908799@riverartsalliance.org
SUMMARY:Frozen River Film Festival Celebrates 20 Years with New Film Series
DESCRIPTION:frff.eventive.org \nThis year the Frozen River Film Festival (FRFF) will be celebrating 20 years of bringing documentary films and filmmakers to Winona. The festival begins Sunday\, February 9\, (You can still get home in time to watch the Super Bowl!) and runs through Sunday\, February 16. This year’s event will feature the World Premiere of FRFF’s self-produced documentary\, Beneath the Ice: The Frozen River Film Festival Story. Learn more.
URL:https://riverartsalliance.org/event/frozen-river-film-festival-celebrates-20-years-with-new-film-series/2025-05-26/
END:VEVENT
BEGIN:VEVENT
DTSTART;TZID=America/Chicago:20250526T160000
DTEND;TZID=America/Chicago:20250526T160000
DTSTAMP:20260419T235751
CREATED:20250420T132510Z
LAST-MODIFIED:20250420T132510Z
UID:10001562-1748275200-1748275200@riverartsalliance.org
SUMMARY:Call for Indigenous Artists: La Crescent Overlook Public Art Installation   
DESCRIPTION:Deadline for Applications\nMay 26 | 4 pm Central Daylight Time \nThe Overlook Plaza Project seeks to honor and reflect on the fortitude and resilience of the Indigenous people connected to the Upper Mississippi River Valley. This visual art will create awareness\, education\, and understanding of the importance of this region to our past\, present\, and future\, and the bond created for all who are drawn to this unique place. Learn more.
URL:https://riverartsalliance.org/event/call-for-indigenous-artists-la-crescent-overlook-public-art-installation/
END:VEVENT
BEGIN:VEVENT
DTSTART;VALUE=DATE:20250527
DTEND;VALUE=DATE:20250604
DTSTAMP:20260419T235751
CREATED:20250202T152244Z
LAST-MODIFIED:20250202T152244Z
UID:10000599-1748304000-1748995199@riverartsalliance.org
SUMMARY:Frozen River Film Festival Celebrates 20 Years with New Film Series
DESCRIPTION:frff.eventive.org \nThis year the Frozen River Film Festival (FRFF) will be celebrating 20 years of bringing documentary films and filmmakers to Winona. The festival begins Sunday\, February 9\, (You can still get home in time to watch the Super Bowl!) and runs through Sunday\, February 16. This year’s event will feature the World Premiere of FRFF’s self-produced documentary\, Beneath the Ice: The Frozen River Film Festival Story. Learn more.
URL:https://riverartsalliance.org/event/frozen-river-film-festival-celebrates-20-years-with-new-film-series/2025-05-27/
END:VEVENT
END:VCALENDAR